Workbook

Sheet Toelichting
B1: Ouderschapsverlof 1e jaar
B3: Wettelijk betaald ouderschapsverlof
B4: Sinds 2 augustus 2022 heeft iedere werknemer recht op wettelijk betaald ouderschapsverlof. Dit verlof is gelijk aan 9 maal de betrekkingsomvang per week. In het Primair Onderwijs is in de cao bepaald dat een fulltime dienstverband, 40 uur per week groot is. In het Voortgezet Onderwijs is geen omvang per week vastgesteld bij een volledige betrekking. Het verlof moet binnen 1 jaar na de geboorte van het kind worden opgenomen. Voor kinderen die door adoptie en/of als pleegkind worden opgenomen geldt een afwijkende termijn waarbinnen het verlof moet worden opgenomen. Gedurende het verlof heeft u geen aanspraak op salaris, maar op een uitkering van het UWV. Deze uitkering wordt via uw werkgever aan u betaald via uw salaris.
B6: Aanvullend betaald ouderschapsverlof CAO PO en VO
B7: In de cao Primair en Voortgezet Onderwijs is bepaald dat de uitkering tot een 75% wordt aangevuld door de werkgever. Tevens is in deze cao's een aanvullende regeling voor betaald ouderschapsverlof zijn opgenomen. Totaal heeft men recht op 415 uur betaald ouderschapsverlof bij een volledig dienstverband. Het wettelijk betaald ouderschapsverlof waar men recht op heeft wordt in mindering gebracht op deze 415 uur. Deze sheet voorziet in betaalde ouderschapsverlof zoals dat in de cao PO en VO is opgenomen voor zover dit ook wordt opgenomen binnen 1 jaar na de geboorte van het kind. Ook verlof dat wordt opgenomen nadat het kind 1 jaar is geworden kan deze sheet gebruikt worden gemaakt voor de berekening hiervan.
B9: Onbetaald ouderschapsverlof
B10: Naast het betaalde ouderschapsverlof kan een medewerker ook aanspraak maken op onbetaald ouderschapsverlof. In de cao PO is bepaald dat dit (inclusief betaald ouderschapsverlof) totaal 1040 uur per kind is bij een volledige betrekking. In het Voortgezet Onderwijs is dit 830 uur. Deze sheet is hier niet geschikt voor, door Confina is ervoor gekozen dit in een aparte sheet te berekenen.
B12: Gebruik spreadsheet
B13: Om de sheet te kunnen gebruiken volgt hieronder een kleine instructie
B15: Tabblad ouderschapsverlof
B16: In dit tabblad dienen de volgende velden ingevuld te worden om de berekening goed te laten verlopen
B39: Bestuur | E39: Hier graag schoolbestuur invullen
B40: Naam medewerker | E40: Uw achternaam en initialen graag invullen
B41: Personeelsnummer | E41: Uw personeelsnummer - staat op uw salarisstrook - graag invullen
B42: Geboortedatum kind | E42: U kunt deze datum in vullen als dd-mm-jjjj - de cel maakt er automatisch dd-mm-jjjj van
B43: Relatie tot kind | K43: Graag een keuze maken dmv driehoekje
B45: Meerling? | K45: Graag een keuze maken dmv driehoekje
B47: Wtf bij aanvang verlof | E47: Graag uw wtf invullen bij aanvang verlof bijv 0,8
B48: Wtf na opname verlof | E48: Graag uw wtf invullen na einde verlof bijv 0,6 - indien van toepassing - anders zelfde wtf invullen wat is ingevuld bij wtf bij aanvang verlof
B49: Regio | K49: Graag een keuze maken dmv driehoekje
B51: Reeds eerder opgenomen | E51: Indien u eerder betaald verlof heeft genoten graag het aantal opgenomen uren hier invullen
B52: uren | E52: Indien geen eerdere opname heeft gedaan kunt u dit veld leeg laten
B54: Extra vrije dagen | E54: Hier kunt u de datums invullen van de dagen die vanuit school bepaald zijn en samen vallen met uw ouderschapsverlof - graag de datum per vrije dag invullen met een max van 9 dagen
E55: Ook de eventuele afwijkende voorjaarsvakantie kunt u hier invullen - dit is van belang voor de berekening van de duur van het ouderschapsverlof
B57: Kalender | E57: Hierin kunt u de datums bepalen die nodig zijn voor het tabblad ouderschapsverlof zoals begin- en einddatum en de vakanties raadplegen
E58: De kalender heeft verder geen functie en is ook nergens aangekoppeld
B60: Wettelijk betaald ouderschapsverlof 75%
B70: Ouderschapsverlof in werkuren | F70: Hier vult u het aantal uren per dag en welke dag(en) u het wettelijke betaald ouderschapsverlof gaat opnemen
B71: Datum ingang verlof | F71: Hier vult u de datum in van de 1e dag dat u betaald ouderschapsverlof opneemt
B72: Einddatum verlof | F72: Hier vult u de einddatum in van het wettelijk betaald ouderschapsverlof - deze datum mag niet later zijn dan uw kind 1 jaar is geworden
B74: Indien u eerst volle weken ouderschapsverlof opneemt en daarna bijv 1 dag of minder uren in de week dan kunt u dit op de 2e regel toepassen
B82: U dient bij de 1e regel dan de einddatum van het hogere opgenomen verlof in te vullen bijv de datum voordat een vakantie begint
B84: Ouderschapsverlof in werkuren | F84: Hier vult u het aantal uren per dag en welke dag(en) u het wettelijke betaald ouderschapsverlof gaat opnemen - indien van toepassing
B85: Datum wijziging verlof | F85: Hier vult u de datum in van de 1e dag indien u opname per week wijzigt
B86: Einddatum wijziging verlof | F86: Hier vult u de einddatum in van het gewijzigde opname verlof per week in - deze datum mag niet later zijn dan uw kind 1 jaar is geworden
B88: Aanvullende uitleg
B89: Het kan zijn dat u besluit om in de 1e weken van uw verlof een hogere aantal uren op te nemen van het wettelijk betaald ouderschapsverlof en dat u bijv na een vakantie minder uren per week opneemt
B90: Het formulier is daar op ingericht om deze mogelijkheid in te vullen doordat er per regeling 2 regels zijn aangemaakt zoals hierboven beschreven
B91: Indien u geen wisselende opnames hebt in het wettelijk betaald ouderschapsverlof volstaat het invullen van de 1e regel en kunt u de 2e regel leeg laten
B93: Betaald ouderschapsverlof 55%
B103: Indien u gebruik blijft maken van betaald ouderschapsverlof zoals bepaald is in de CAO nadat het wettelijk betaalde ouderschapsverlof is afgelopen dient u hier de gegevens in te vullen
B105: Ouderschapsverlof in werkuren | F105: Hier vult u het aantal uren per dag en welke dag(en) u het betaald ouderschapsverlof gaat opnemen
B106: Datum ingang verlof | F106: Hier vult u de datum in van de 1e dag dat u betaald ouderschapsverlof opneemt - deze datum mag niet liggen voor de datum dat u kind 1 jaar is geworden
B107: Einddatum verlof | F107: Hier vult u de einddatum in van het betaald ouderschapsverlof - deze datum mag niet later zijn dan uw kind 4 jaar is geworden
B109: Indien u eerst volle weken ouderschapsverlof opneemt en daarna bijv 1 dag of minder uren in de week dan kunt u dit op de 2e regel toepassen
B116: Ouderschapsverlof in werkuren | F116: Hier vult u het aantal uren per dag en welke dag(en) u het betaalde ouderschapsverlof gaat opnemen - indien van toepassing
B117: Datum wijziging verlof | F117: Hier vult u de datum in van de 1e dag dat u betaald ouderschapsverlof opneemt - deze datum mag niet liggen voor de datum dat u kind 1 jaar is geworden
B118: Einddatum wijziging verlof | F118: Hier vult u de einddatum in van het gewijzigde opname verlof per week in - deze datum mag niet later zijn dan uw kind 4 jaar is geworden

Sheet Ouderschapsverlof
Z1: val geb datum kind | AC1: =IF(G33>0,G33-70,99999) -> 99999
H3: BEREKENING BETAALD OUDERSCHAPSVERLOF VO 2025-2027 V1.0
C6: Bestuur | F6: : | K6: Extra vrije dagen | M6: (niet schoolvakanties) | W6: geboorte datum | Y6: =+G12 -> 0 | Z6: aanvang betaald verlof 75% | AC6: =IF(Y6=0,99999,IF(G14=Ouderschapsverlof!U83,Ouderschapsverlof!Y6+70,Y6)) -> 99999
C8: Naam medewerker | F8: : | K8: Datum | L8: Datum | M8: Datum | S8: =IF(G18>1,1,G18) -> 0 | T8: =IF(G20>1,1,G20) -> 0 | W8: 1 jaar oud | Y8: =IF($Y$6=0,99999,DATE(YEAR($Y$6)+1,MONTH($Y$6),DAY($Y$6)-1)) -> 99999 | Z8: aanvang betaald verlof 55% | AC8: =Y8+1 -> 100000
C10: Personeelsnummer | F10: : | S10: onbet | T10: bet | W10: 4 jaar oud | Y10: =IF($Y$6=0,99999,DATE(YEAR($Y$6)+4,MONTH($Y$6),DAY($Y$6)-1)) -> 99999
C12: Geboortedatum kind | F12: : | S12: =IF(OR(G16="nee",G16=""),ROUND(S8*415,0),IF(G16="tweeling",ROUND(S8*830,0)+V12,ROUND(S8*1245,0)+V12)) -> 0 | T12: =IF(OR(G16="nee",G16=""),ROUND(IF(T8>0,T8*415,S8*415),0),IF(G16="tweeling",ROUND(IF(T8>0,T8*830,S8*830),0),IF(G16="drieling",ROUND(IF(T8>0,T8*1245,S8*1245),0)))) -> 0 | U12: uren | V12: =IF(OR(G16="nee",G16=""),ROUND(S8*415,0),IF(G16="tweeling",ROUND(S8*830,0),IF(G16="drieling",ROUND(S8*1245,0)))) -> 0
C14: Relatie tot kind | F14: : | V14: =V12-G24 -> 0 | W14: Jaar oud | Y14: =(TODAY()-Y6)/365 -> 125.82192
C16: Meerling? | F16: :
C18: Wtf bij aanvang verlof | F18: : | H18: = | I18: =ROUND(G18*40,2) -> 0 | J18: uren per week
C20: Wtf na opname verlof | F20: : | H20: = | I20: =ROUND(G20*40,2) -> 0 | J20: uren per week
C22: Regio | F22: : | G22: Noord
C24: reeds eerder opgenomen uren | F24: :
C27: =IF(G24>0,"Betaald ouderschapsverlof 75 %, recht op maximaal"&" "&V14&" "&"uren verlof","Betaald ouderschapsverlof 75 %, recht op maximaal"&" "&V12&" "&"uren verlof") -> Betaald ouderschapsverlof 75 %, recht op maximaal 0 uren verlof | AB27: Uren per dag
S28: 1 | T28: 2 | U28: 3 | V28: 4 | W28: 5
C29: Ouderschapsverlof in werkuren | F29: : | G29: Ma | H29: Di | I29: Wo | J29: Do | K29: Vr | L29: Totaal | M29: wtf verlof | S29: Ma | T29: Di | U29: Wo | V29: Do | W29: Vr | X29: Totaal | AB29: =L30/COUNT(G30:K30) -> #DIV/0!
L30: =SUM(G30:K30) -> 0 | M30: =IF($L30="","",(L30/40)) -> 0 | S30: =+G30 -> 0 | T30: =+H30 -> 0 | U30: =+I30 -> 0 | V30: =+J30 -> 0 | W30: =+K30 -> 0 | X30: =SUM(S30:W30) -> 0
I32: Beoogde einddatum obv openstaande uren | M32: : | N32: =IFERROR(IF(N33=" ",T33,X37),"")
C33: Datum ingang verlof | F33: : | I33: Einddatum verlof | M33: : | R33: Datum velden | S33: =G33+S35 -> #VALUE! | T33: =IF(G33+T35>=Y8,Y8,G33+T35)-(IF(G39<8,1,0)) -> #VALUE! | U33: =IF(G37>G35,L30/I20,0) -> 0 | V33: =S33-U33 -> #VALUE!
C35: Recht op uren verlof | F35: : | G35: =IF($Y$14>=1,0,+V12-G24) -> 0 | H35: Eerder opgenomen uren (indien ingevuld) worden hierop in mindering gebracht | R35: dagen | S35: =(AD35*7) -> #VALUE! | T35: =((AD35+(S37))*7) -> #VALUE! | U35: =U37*7 -> #DIV/0! | V35: =IF(G33+U35>=Y8,Y8,G33+U35) -> #DIV/0! | W35: =IF(ROUND($M$30/$G$18*100,2)>100,ROUND(100*calc!$F$734/(calc!$F$734+calc!$G$734),2),ROUND($M$30/$G$18*100*calc!$F$734/(calc!$F$734+calc!$G$734),2))*25% -> #DIV/0! | Z35: Maximaal werkweken vrij | AC35: : | AD35: =IFERROR(G35/L30,"")
C37: Opgenomen uren verlof | F37: : | G37: =+calc!F734 -> 0 | J37: Aantal maanden verlof | M37: : | N37: =+AD37 | R37: verlof | S37: =(+Calc1!G734/L30) -> #DIV/0! | T37: in weken | U37: =_xlfn.FLOOR.MATH(G35/L30) -> #DIV/0! | V37: =U37+S37 -> #DIV/0! | W37: =V37*7 -> #DIV/0! | X37: =IF(G39<0,IF(G33+W37>Y8,Y8,G33+W37)-1,IF(G33+W37>Y8,Y8,G33+W37)) -> #DIV/0! | Z37: Aantal maanden verlof | AC37: : | AD37: =IF(G33="","",IF(YEAR(N$33)=YEAR(G$33),MONTH(N$33)-MONTH(G$33)+1,((YEAR(N$33)-YEAR(G$33))*12)+(MONTH(N$33)-MONTH(G$33)+1)))
C39: Resterende uren verlof | F39: : | G39: =G35-G37 -> 0 | J39: Kortingspercentage wtf verlof | M39: : | N39: =IFERROR((G37/G35)*(75/AD37)," " ) | R39: werkdagen | S39: =AD35*5*24/40 -> #VALUE! | T39: =S39*8 -> #VALUE!
S40: 1 | T40: 2 | U40: 3 | V40: 4 | W40: 5
C41: Ouderschapsverlof in werkuren | F41: : | G41: Ma | H41: Di | I41: Wo | J41: Do | K41: Vr | L41: Totaal | M41: wtf verlof | S41: Ma | T41: Di | U41: Wo | V41: Do | W41: Vr | X41: Totaal | AB41: Uren per dag
L42: =SUM(G42:K42) -> 0 | M42: =IF($L42="","",(L42/40)) -> 0 | S42: =+G42 -> 0 | T42: =+H42 -> 0 | U42: =+I42 -> 0 | V42: =+J42 -> 0 | W42: =+K42 -> 0 | X42: =SUM(S42:W42) -> 0 | AB42: =L42/COUNT(G42:K42) -> #DIV/0!
I44: Beoogde einddatum obv openstaande uren | M44: : | N44: =IFERROR(IF(N45=" ",T45,X49),"")
C45: Datum wijziging verlof | F45: : | I45: Einddatum wijziging verlof | M45: : | R45: Datum velden | S45: =G45+S47 -> #VALUE! | T45: =IF(G45+T47>Y8,Y8,G45+T47)-(IF(G49<8,1,0)) -> #VALUE! | U45: =IF(G49>G47,L42/I20,0) -> 0 | V45: =S45-U45 -> #VALUE!
C47: Recht op uren verlof | F47: : | G47: =IF(N33>=Y8,0,+G39) -> 0 | R47: dagen | S47: =ROUND(AG47*7,0) -> #VALUE! | T47: =ROUND((AG47+(S49))*7,0) -> #VALUE! | U47: =U49*7 -> #DIV/0! | V47: =IF(G45+U47>=Y20,Y20,G45+U47) -> #DIV/0! | W47: =IF(ROUND($M$30/$G$18*100,2)>100,ROUND(100*calc!$F$734/(calc!$F$734+calc!$G$734),2),ROUND($M$30/$G$18*100*calc!$F$734/(calc!$F$734+calc!$G$734),2))*25% -> #DIV/0! | AC47: Maximaal werkweken vrij | AF47: : | AG47: =IFERROR(G47/L42,"")
C49: Opgenomen uren verlof | F49: : | G49: =+calc!Q734 -> 0 | J49: Aantal maanden verlof | M49: : | N49: =+AG49 | R49: verlof | S49: =+Calc1!R734/L42 -> #DIV/0! | T49: in weken | U49: =_xlfn.FLOOR.MATH(G47/L42) -> #DIV/0! | V49: =U49+S49 -> #DIV/0! | W49: =V49*7 -> #DIV/0! | X49: =IF(G51<0,IF(G45+W49>Y8,Y8,G45+W49)-1,IF(G45+W49>Y8,Y8,G45+W49)) -> #DIV/0! | Y49: Opgenomen % | AA49: =IFERROR((G37+G49)/G35,0) -> 0 | AC49: Aantal maanden verlof | AF49: : | AG49: =IF(G45="","",IF(YEAR(N$45)=YEAR(G$45),MONTH(N$45)-MONTH(G$45)+1,((YEAR(N$45)-YEAR(G$45))*12)+(MONTH(N$45)-MONTH(G$45)+1)))
C51: Resterende uren verlof | F51: : | G51: =G47-G49 -> 0 | J51: Kortingspercentage wtf verlof | M51: : | N51: =IFERROR((G49/G47)*(75/AG49)," " ) | R51: werkdagen | S51: =AG47*5*24/40 -> #VALUE! | T51: =S51*8 -> #VALUE! | Y51: Rest % | AA51: =100%-AA49 -> 1
Y52: Uren max 55% | AA52: =ROUND(IF(AA49>0,T12*AA51,T12),0) -> 0
C54: =IF(G24>0,"Betaald ouderschapsverlof 55 %, recht op maximaal"&" "&G62&" "&"uren verlof","Betaald ouderschapsverlof 55 %, recht op maximaal"&" "&G62&" "&"uren verlof") -> Betaald ouderschapsverlof 55 %, recht op maximaal 0 uren verlof | AA54: =AA52-G24 -> 0
S55: 1 | T55: 2 | U55: 3 | V55: 4 | W55: 5
C56: Ouderschapsverlof in werkuren | F56: : | G56: Ma | H56: Di | I56: Wo | J56: Do | K56: Vr | L56: Totaal | M56: wtf verlof | S56: Ma | T56: Di | U56: Wo | V56: Do | W56: Vr | X56: Totaal | AB56: Uren per dag
L57: =SUM(G57:K57) -> 0 | M57: =IF($L57="","",(L57/40)) -> 0 | S57: =+G57 -> 0 | T57: =+H57 -> 0 | U57: =+I57 -> 0 | V57: =+J57 -> 0 | W57: =+K57 -> 0 | X57: =SUM(S57:W57) -> 0 | AB57: =L57/COUNT(G57:K57) -> #DIV/0!
I59: Beoogde einddatum obv openstaande uren | M59: : | N59: =IFERROR(IF(N60=" ",T60,X64),"")
C60: Datum ingang verlof | F60: : | I60: Einddatum of wijziging verlof | M60: : | R60: Datum velden | S60: =G60+S62 -> #VALUE! | T60: =IF(G60+T62>=Y10,Y10,G60+T62)-(IF(G66<8,1,0)) -> #VALUE! | U60: =IF(G64>G62,L57/I20,0) -> 0 | V60: =S60-U60 -> #VALUE!
C62: Recht op uren verlof | F62: : | G62: =IF(G20<G18,IFERROR(+AA52,0)-G24,V12-G24-G37-G49) -> 0 | H62: Eerder opgenomen uren (indien ingevuld) worden hierop in mindering gebracht | R62: dagen | S62: =ROUND(AG62*7,0) -> #VALUE! | T62: =ROUND((AG62+(S64))*7,0) -> #VALUE! | U62: =U64*7 -> #DIV/0! | V62: =IF(G60+U62>=Y10,Y10,G60+U62) -> #DIV/0! | W62: =IF(ROUND($M$57/$G$18*100,2)>100,ROUND(100*calc!$Y$734/(calc!$Y$734+calc!$Z$734),2),ROUND($M$57/$G$18*100*calc!$Y$734/(calc!$Y$734+calc!$Z$734),2))*45% -> #DIV/0! | AC62: Maximaal werkweken vrij | AF62: : | AG62: =IFERROR(G62/L57,"")
C64: Opgenomen uren verlof | F64: : | G64: =+calc!Y734 -> 0 | J64: Aantal maanden verlof | M64: : | N64: =+AG64 | R64: verlof | S64: =+Calc1!Z734/L57 -> #DIV/0! | T64: in weken | U64: =_xlfn.FLOOR.MATH(G62/L57) -> #DIV/0! | V64: =U64+S64 -> #DIV/0! | W64: =V64*7 -> #DIV/0! | X64: =IF(G66<0,IF(G60+W64>Y10,Y10,G60+W64)-1,IF(G60+W64>Y10,Y10,G60+W64)) -> #DIV/0! | AC64: Aantal maanden verlof | AF64: : | AG64: =IF(G60="","",IF(YEAR(N$60)=YEAR(G$60),MONTH(N$60)-MONTH(G$60)+1,((YEAR(N$60)-YEAR(G$60))*12)+(MONTH(N$60)-MONTH(G$60)+1)))
C66: Resterende uren verlof | F66: : | G66: =G62-G64 -> 0 | J66: Kortingspercentage wtf verlof | M66: : | N66: =IFERROR((G64/(415*G18))*(135/AG64)," " ) | R66: werkdagen
S67: 1 | T67: 2 | U67: 3 | V67: 4 | W67: 5
C68: Ouderschapsverlof in werkuren | F68: : | G68: Ma | H68: Di | I68: Wo | J68: Do | K68: Vr | L68: Totaal | M68: wtf verlof | S68: Ma | T68: Di | U68: Wo | V68: Do | W68: Vr | X68: Totaal | AB68: Uren per dag
L69: =SUM(G69:K69) -> 0 | M69: =IF($L69="","",(L69/40)) -> 0 | S69: =+G69 -> 0 | T69: =+H69 -> 0 | U69: =+I69 -> 0 | V69: =+J69 -> 0 | W69: =+K69 -> 0 | X69: =SUM(S69:W69) -> 0 | AB69: =L69/COUNT(G69:K69) -> #DIV/0!
I71: Beoogde einddatum obv openstaande uren | M71: : | N71: =IFERROR(T72,"")
C72: Datum wijziging verlof | F72: : | I72: Einddatum wijziging verlof | M72: : | R72: Datum velden | S72: =G72+S74 -> #VALUE! | T72: =IF(G72+T74>Y10,Y10,G72+T74)-(IF(G78<8,1,0)) -> #VALUE! | U72: =IF(G76>G74,L69/I20,0) -> 0 | V72: =S72-U72 -> #VALUE!
C74: Recht op uren verlof | F74: : | G74: =IF(G72="",0,G66) -> 0 | R74: dagen | S74: =ROUND(AG74*7,0) -> #VALUE! | T74: =ROUND((AG74+(S76/3))*7,0) -> #VALUE! | U74: =U76*7 -> #DIV/0! | V74: =IF(G72+U74>=Y10,Y10,G72+U74) -> #DIV/0! | W74: =IF(ROUND($M$57/$G$18*100,2)>100,ROUND(100*calc!$Y$734/(calc!$Y$734+calc!$Z$734),2),ROUND($M$57/$G$18*100*calc!$Y$734/(calc!$Y$734+calc!$Z$734),2))*45% -> #DIV/0! | AC74: Maximaal werkweken vrij | AF74: : | AG74: =IFERROR(G74/L69,"")
C76: Opgenomen uren verlof | F76: : | G76: =+calc!AG734 -> 0 | J76: Aantal maanden verlof | M76: : | N76: =+AG76 | R76: verlof | S76: =+Calc1!AH734/L69 -> #DIV/0! | T76: in weken | U76: =_xlfn.FLOOR.MATH(G74/L69) -> #DIV/0! | V76: =U76+S76 -> #DIV/0! | W76: =V76*7 -> #DIV/0! | X76: =IF(G78<0,IF(G72+W76>Y10,Y10,G72+W76)-1,IF(G72+W76>Y10,Y10,G72+W76)) -> #DIV/0! | AC76: Aantal maanden verlof | AF76: : | AG76: =IF(G72="","",IF(YEAR(N$72)=YEAR(G$72),MONTH(N$72)-MONTH(G$72)+1,((YEAR(N$72)-YEAR(G$72))*12)+(MONTH(N$72)-MONTH(G$72)+1)))
C78: Resterende uren verlof | F78: : | G78: =G74-G76 -> 0 | J78: Kortingspercentage wtf verlof | M78: : | N78: =IFERROR((G76/(415*G18))*(135/AG76)," " ) | R78: werkdagen
C80: Totaal uren betaald verlof opgenomen | F80: : | G80: =G37+G49+G64+G76 -> 0
C82: Ondergetekende verklaart dat hij / zij kennis heeft genomen van de voorwaarden voor opname van ouderschapsverlof zoals beschreven in de artikelen 15.6 tot en met 15.7c van de CAO VO (zie volgende bladzijde).
S83: Nee | T83: Noord | U83: Moeder
S84: Tweeling | T84: Midden | U84: Vader
S85: Drieling | T85: Zuid | U85: Verzorger
C86: Ondertekening medewerker: | I86: Ondertekening namens bevoegd gezag:
C88: Datum: | I88: Datum:
C90: Handtekening: | I90: Handtekening:
C95: TOELICHTING OP HET AANVRAAGFORMULIER
C96: BETAALD OUDERSCHAPSVERLOF VO
C98: 15.6. Ouderschapsverlof
C99: 15.6.a. Recht op verlof
C100: 1. De werknemer die als ouder in familierechtelijke betrekking staat tot een kind, heeft recht op verlof zonder behoud van loon. Indien de werknemer met ingang van hetzelfde tijdstip tot meer dan 1 kind in familierechtelijke betrekking komt te staan, bestaat er ten aanzien van ieder van die kinderen recht op verlof.
C101: 2. De werknemer die blijkens verklaringen uit de Basisregistratie Personen (BRP) op hetzelfde adres woont als een kind en duurzaam de verzorging en de opvoeding van dat kind als eigen kind op zich heeft genomen, heeft recht op verlof zonder behoud van loon. Indien de werknemer met het oog op adoptie met ingang van hetzelfde tijdstip de verzorging en opvoeding van meer dan 1 kind op zich heeft genomen, bestaat er ten aanzien van ieder van die kinderen recht op verlof. In alle andere gevallen waarin de in de eerste volzin gestelde voorwaarden voor meer dan 1 kind met ingang van hetzelfde tijdstip worden vervuld, bestaat er slechts recht op 1 keer verlof.
C102: 3. De betaling van de pensioenbijdrage door de werkgever en de werknemer heeft plaats alsof er geen verlof wordt genoten.
C103: 4. Indien de arbeidsovereenkomst wordt beëindigd voordat het verlof volledig is genoten, heeft de werknemer, indien hij een nieuwe arbeidsverhouding aangaat, tegenover de nieuwe werkgever aanspraak op het resterende deel van het verlof met inachtneming van de bepalingen betreffende ouderschapsverlof. De werkgever is in dat geval verplicht aan de werknemer, op diens verzoek, een verklaring uit te reiken waaruit blijkt op hoeveel verlof de werknemer nog aanspraak heeft.
C104: 15.6.b. Omvang, duur en invulling verlof
C105: 1. Het aantal uren verlof waarop de werknemer ten hoogste recht heeft, bedraagt per kind bij een normbetrekking 830 uur (10).
C106: (10) In de Wet arbeid en zorg staat in plaats hiervan dat het aantal uren verlof waarop de werknemer ten hoogste recht heeft 26 maal de arbeidsduur per week bedraagt. In deze bepaling wordt uitgegaan van de normjaartaak, hetgeen op hetzelfde neerkomt. In beide gevallen betreft het de helft van de arbeidsomvang per jaar.
C107: 2. De omvang van het verlof wordt berekend op grond van de betrekkingsomvang op de dag voorafgaand aan de ingangsdatum van het verlof. Het verlof kan echter niet meer bedragen dan zou gelden op grond van de betrekkingsomvang 12 maanden voorafgaand aan de ingangsdatum van het verlof. De werkgever heeft de mogelijkheid op dit laatste punt anders te beslissen en dus toch rekening te houden met de grotere betrekkingsomvang.
... C132: 2. Geen terugbetalingsverplichting ontstaat indien de werknemer ontslag neemt omdat hij een andere betrekking binnen het vo aanvaardt.

Sheet Kalender
B1: Opname ouderschapsverlof
B2: Regio: | E2: =+Ouderschapsverlof!G22 -> Noord
B4: 2025 | L4: =+B4+1 -> 2026 | V4: =+L4+1 -> 2027
B5: ="Vanaf 1 januari"&" "&B4&""&" t/m 31 december"&" "&B4 -> Vanaf 1 januari 2025 t/m 31 december 2025 | L5: ="Vanaf 1 januari"&" "&L4&""&" t/m 31 december"&" "&L4 -> Vanaf 1 januari 2026 t/m 31 december 2026 | V5: ="Vanaf 1 januari"&" "&V4&""&" t/m 31 december"&" "&V4 -> Vanaf 1 januari 2027 t/m 31 december 2027
B8: 1 | C8: 44564 | D8: =C9-3 -> -3 | E8: =IF(AND($E$2="Noord",ISNA(VLOOKUP($B$4&$B8&E$10,Data!$A:$H,6,FALSE)=TRUE)),"",IF(AND($E$2="Midden",ISNA(VLOOKUP($B$4&$B8&E$10,Data!$A:$H,7,FALSE)=TRUE)),"",IF(AND($E$2="Zuid",ISNA(VLOOKUP($B$4&$B8&E$10,Data!$A:$H,8,FALSE)=TRUE)),"",IF(AND($E$2="Noord",VLOOKUP($B$4&$B8&E$10,Data!$A:$H,6,FALSE)="Vakantie"),"x",IF(AND($E$2="Midden",VLOOKUP($B$4&$B8&E$10,Data!$A:$H,7,FALSE)="Vakantie"),"x",IF(AND($E$2="Zuid",VLOOKUP($B$4&$B8&E$10,Data!$A:$H,8,FALSE)="Vakantie"),"x","")))))) -> x | F8: =IF(AND($E$2="Noord",ISNA(VLOOKUP($B$4&$B8&F$10,Data!$A:$H,6,FALSE)=TRUE)),"",IF(AND($E$2="Midden",ISNA(VLOOKUP($B$4&$B8&F$10,Data!$A:$H,7,FALSE)=TRUE)),"",IF(AND($E$2="Zuid",ISNA(VLOOKUP($B$4&$B8&F$10,Data!$A:$H,8,FALSE)=TRUE)),"",IF(AND($E$2="Noord",VLOOKUP($B$4&$B8&F$10,Data!$A:$H,6,FALSE)="Vakantie"),"x",IF(AND($E$2="Midden",VLOOKUP($B$4&$B8&F$10,Data!$A:$H,7,FALSE)="Vakantie"),"x",IF(AND($E$2="Zuid",VLOOKUP($B$4&$B8&F$10,Data!$A:$H,8,FALSE)="Vakantie"),"x","")))))) -> x | G8: =IF(AND($E$2="Noord",ISNA(VLOOKUP($B$4&$B8&G$10,Data!$A:$H,6,FALSE)=TRUE)),"",IF(AND($E$2="Midden",ISNA(VLOOKUP($B$4&$B8&G$10,Data!$A:$H,7,FALSE)=TRUE)),"",IF(AND($E$2="Zuid",ISNA(VLOOKUP($B$4&$B8&G$10,Data!$A:$H,8,FALSE)=TRUE)),"",IF(AND($E$2="Noord",VLOOKUP($B$4&$B8&G$10,Data!$A:$H,6,FALSE)="Vakantie"),"x",IF(AND($E$2="Midden",VLOOKUP($B$4&$B8&G$10,Data!$A:$H,7,FALSE)="Vakantie"),"x",IF(AND($E$2="Zuid",VLOOKUP($B$4&$B8&G$10,Data!$A:$H,8,FALSE)="Vakantie"),"x","")))))) -> x | H8: =IF(AND($E$2="Noord",ISNA(VLOOKUP($B$4&$B8&H$10,Data!$A:$H,6,FALSE)=TRUE)),"",IF(AND($E$2="Midden",ISNA(VLOOKUP($B$4&$B8&H$10,Data!$A:$H,7,FALSE)=TRUE)),"",IF(AND($E$2="Zuid",ISNA(VLOOKUP($B$4&$B8&H$10,Data!$A:$H,8,FALSE)=TRUE)),"",IF(AND($E$2="Noord",VLOOKUP($B$4&$B8&H$10,Data!$A:$H,6,FALSE)="Vakantie"),"x",IF(AND($E$2="Midden",VLOOKUP($B$4&$B8&H$10,Data!$A:$H,7,FALSE)="Vakantie"),"x",IF(AND($E$2="Zuid",VLOOKUP($B$4&$B8&H$10,Data!$A:$H,8,FALSE)="Vakantie"),"x","")))))) -> x | I8: =IF(AND($E$2="Noord",ISNA(VLOOKUP($B$4&$B8&I$10,Data!$A:$H,6,FALSE)=TRUE)),"",IF(AND($E$2="Midden",ISNA(VLOOKUP($B$4&$B8&I$10,Data!$A:$H,7,FALSE)=TRUE)),"",IF(AND($E$2="Zuid",ISNA(VLOOKUP($B$4&$B8&I$10,Data!$A:$H,8,FALSE)=TRUE)),"",IF(AND($E$2="Noord",VLOOKUP($B$4&$B8&I$10,Data!$A:$H,6,FALSE)="Vakantie"),"x",IF(AND($E$2="Midden",VLOOKUP($B$4&$B8&I$10,Data!$A:$H,7,FALSE)="Vakantie"),"x",IF(AND($E$2="Zuid",VLOOKUP($B$4&$B8&I$10,Data!$A:$H,8,FALSE)="Vakantie"),"x","")))))) -> x | J8: =SUM(E8:I8) -> 0 | L8: 1 | M8: =VLOOKUP(L8,Data!$B:$C,2,FALSE) -> 44564 | N8: =M9-3 -> -3 | O8: =IF(AND($E$2="Noord",ISNA(VLOOKUP($B$4&$B8&O$10,Data!$A:$H,6,FALSE)=TRUE)),"",IF(AND($E$2="Midden",ISNA(VLOOKUP($B$4&$B8&O$10,Data!$A:$H,7,FALSE)=TRUE)),"",IF(AND($E$2="Zuid",ISNA(VLOOKUP($B$4&$B8&O$10,Data!$A:$H,8,FALSE)=TRUE)),"",IF(AND($E$2="Noord",VLOOKUP($B$4&$B8&O$10,Data!$A:$H,6,FALSE)="Vakantie"),"x",IF(AND($E$2="Midden",VLOOKUP($B$4&$B8&O$10,Data!$A:$H,7,FALSE)="Vakantie"),"x",IF(AND($E$2="Zuid",VLOOKUP($B$4&$B8&O$10,Data!$A:$H,8,FALSE)="Vakantie"),"x","")))))) -> x | P8: =IF(AND($E$2="Noord",ISNA(VLOOKUP($B$4&$B8&P$10,Data!$A:$H,6,FALSE)=TRUE)),"",IF(AND($E$2="Midden",ISNA(VLOOKUP($B$4&$B8&P$10,Data!$A:$H,7,FALSE)=TRUE)),"",IF(AND($E$2="Zuid",ISNA(VLOOKUP($B$4&$B8&P$10,Data!$A:$H,8,FALSE)=TRUE)),"",IF(AND($E$2="Noord",VLOOKUP($B$4&$B8&P$10,Data!$A:$H,6,FALSE)="Vakantie"),"x",IF(AND($E$2="Midden",VLOOKUP($B$4&$B8&P$10,Data!$A:$H,7,FALSE)="Vakantie"),"x",IF(AND($E$2="Zuid",VLOOKUP($B$4&$B8&P$10,Data!$A:$H,8,FALSE)="Vakantie"),"x","")))))) -> x | Q8: =IF(AND($E$2="Noord",ISNA(VLOOKUP($B$4&$B8&Q$10,Data!$A:$H,6,FALSE)=TRUE)),"",IF(AND($E$2="Midden",ISNA(VLOOKUP($B$4&$B8&Q$10,Data!$A:$H,7,FALSE)=TRUE)),"",IF(AND($E$2="Zuid",ISNA(VLOOKUP($B$4&$B8&Q$10,Data!$A:$H,8,FALSE)=TRUE)),"",IF(AND($E$2="Noord",VLOOKUP($B$4&$B8&Q$10,Data!$A:$H,6,FALSE)="Vakantie"),"x",IF(AND($E$2="Midden",VLOOKUP($B$4&$B8&Q$10,Data!$A:$H,7,FALSE)="Vakantie"),"x",IF(AND($E$2="Zuid",VLOOKUP($B$4&$B8&Q$10,Data!$A:$H,8,FALSE)="Vakantie"),"x","")))))) -> x | R8: =IF(AND($E$2="Noord",ISNA(VLOOKUP($B$4&$B8&R$10,Data!$A:$H,6,FALSE)=TRUE)),"",IF(AND($E$2="Midden",ISNA(VLOOKUP($B$4&$B8&R$10,Data!$A:$H,7,FALSE)=TRUE)),"",IF(AND($E$2="Zuid",ISNA(VLOOKUP($B$4&$B8&R$10,Data!$A:$H,8,FALSE)=TRUE)),"",IF(AND($E$2="Noord",VLOOKUP($B$4&$B8&R$10,Data!$A:$H,6,FALSE)="Vakantie"),"x",IF(AND($E$2="Midden",VLOOKUP($B$4&$B8&R$10,Data!$A:$H,7,FALSE)="Vakantie"),"x",IF(AND($E$2="Zuid",VLOOKUP($B$4&$B8&R$10,Data!$A:$H,8,FALSE)="Vakantie"),"x","")))))) -> x | S8: =IF(AND($E$2="Noord",ISNA(VLOOKUP($B$4&$B8&S$10,Data!$A:$H,6,FALSE)=TRUE)),"",IF(AND($E$2="Midden",ISNA(VLOOKUP($B$4&$B8&S$10,Data!$A:$H,7,FALSE)=TRUE)),"",IF(AND($E$2="Zuid",ISNA(VLOOKUP($B$4&$B8&S$10,Data!$A:$H,8,FALSE)=TRUE)),"",IF(AND($E$2="Noord",VLOOKUP($B$4&$B8&S$10,Data!$A:$H,6,FALSE)="Vakantie"),"x",IF(AND($E$2="Midden",VLOOKUP($B$4&$B8&S$10,Data!$A:$H,7,FALSE)="Vakantie"),"x",IF(AND($E$2="Zuid",VLOOKUP($B$4&$B8&S$10,Data!$A:$H,8,FALSE)="Vakantie"),"x","")))))) -> x | T8: =SUM(O8:S8) -> 0 | V8: 1 | W8: =VLOOKUP(V8,Data!$B:$C,2,FALSE) -> 44564 | X8: =W9-3 -> -3 | Y8: =IF(AND($E$2="Noord",ISNA(VLOOKUP($B$4&$B8&Y$10,Data!$A:$H,6,FALSE)=TRUE)),"",IF(AND($E$2="Midden",ISNA(VLOOKUP($B$4&$B8&Y$10,Data!$A:$H,7,FALSE)=TRUE)),"",IF(AND($E$2="Zuid",ISNA(VLOOKUP($B$4&$B8&Y$10,Data!$A:$H,8,FALSE)=TRUE)),"",IF(AND($E$2="Noord",VLOOKUP($B$4&$B8&Y$10,Data!$A:$H,6,FALSE)="Vakantie"),"x",IF(AND($E$2="Midden",VLOOKUP($B$4&$B8&Y$10,Data!$A:$H,7,FALSE)="Vakantie"),"x",IF(AND($E$2="Zuid",VLOOKUP($B$4&$B8&Y$10,Data!$A:$H,8,FALSE)="Vakantie"),"x","")))))) -> x | Z8: =IF(AND($E$2="Noord",ISNA(VLOOKUP($B$4&$B8&Z$10,Data!$A:$H,6,FALSE)=TRUE)),"",IF(AND($E$2="Midden",ISNA(VLOOKUP($B$4&$B8&Z$10,Data!$A:$H,7,FALSE)=TRUE)),"",IF(AND($E$2="Zuid",ISNA(VLOOKUP($B$4&$B8&Z$10,Data!$A:$H,8,FALSE)=TRUE)),"",IF(AND($E$2="Noord",VLOOKUP($B$4&$B8&Z$10,Data!$A:$H,6,FALSE)="Vakantie"),"x",IF(AND($E$2="Midden",VLOOKUP($B$4&$B8&Z$10,Data!$A:$H,7,FALSE)="Vakantie"),"x",IF(AND($E$2="Zuid",VLOOKUP($B$4&$B8&Z$10,Data!$A:$H,8,FALSE)="Vakantie"),"x","")))))) -> x | AA8: =IF(AND($E$2="Noord",ISNA(VLOOKUP($B$4&$B8&AA$10,Data!$A:$H,6,FALSE)=TRUE)),"",IF(AND($E$2="Midden",ISNA(VLOOKUP($B$4&$B8&AA$10,Data!$A:$H,7,FALSE)=TRUE)),"",IF(AND($E$2="Zuid",ISNA(VLOOKUP($B$4&$B8&AA$10,Data!$A:$H,8,FALSE)=TRUE)),"",IF(AND($E$2="Noord",VLOOKUP($B$4&$B8&AA$10,Data!$A:$H,6,FALSE)="Vakantie"),"x",IF(AND($E$2="Midden",VLOOKUP($B$4&$B8&AA$10,Data!$A:$H,7,FALSE)="Vakantie"),"x",IF(AND($E$2="Zuid",VLOOKUP($B$4&$B8&AA$10,Data!$A:$H,8,FALSE)="Vakantie"),"x","")))))) -> x | AB8: =IF(AND($E$2="Noord",ISNA(VLOOKUP($B$4&$B8&AB$10,Data!$A:$H,6,FALSE)=TRUE)),"",IF(AND($E$2="Midden",ISNA(VLOOKUP($B$4&$B8&AB$10,Data!$A:$H,7,FALSE)=TRUE)),"",IF(AND($E$2="Zuid",ISNA(VLOOKUP($B$4&$B8&AB$10,Data!$A:$H,8,FALSE)=TRUE)),"",IF(AND($E$2="Noord",VLOOKUP($B$4&$B8&AB$10,Data!$A:$H,6,FALSE)="Vakantie"),"x",IF(AND($E$2="Midden",VLOOKUP($B$4&$B8&AB$10,Data!$A:$H,7,FALSE)="Vakantie"),"x",IF(AND($E$2="Zuid",VLOOKUP($B$4&$B8&AB$10,Data!$A:$H,8,FALSE)="Vakantie"),"x","")))))) -> x | AC8: =IF(AND($E$2="Noord",ISNA(VLOOKUP($B$4&$B8&AC$10,Data!$A:$H,6,FALSE)=TRUE)),"",IF(AND($E$2="Midden",ISNA(VLOOKUP($B$4&$B8&AC$10,Data!$A:$H,7,FALSE)=TRUE)),"",IF(AND($E$2="Zuid",ISNA(VLOOKUP($B$4&$B8&AC$10,Data!$A:$H,8,FALSE)=TRUE)),"",IF(AND($E$2="Noord",VLOOKUP($B$4&$B8&AC$10,Data!$A:$H,6,FALSE)="Vakantie"),"x",IF(AND($E$2="Midden",VLOOKUP($B$4&$B8&AC$10,Data!$A:$H,7,FALSE)="Vakantie"),"x",IF(AND($E$2="Zuid",VLOOKUP($B$4&$B8&AC$10,Data!$A:$H,8,FALSE)="Vakantie"),"x","")))))) -> x | AD8: =SUM(Y8:AC8) -> 0
J9: Uren | T9: Uren | AD9: Uren | AJ9: 2022 | AN9: =+AJ9+1 -> 2023 | AR9: =+AJ9+2 -> 2024
B10: Wknr | C10: van | D10: t/m | E10: ma | F10: di | G10: wo | H10: do | I10: vr | J10: OSV | L10: Wknr | M10: van | N10: t/m | O10: ma | P10: di | Q10: wo | R10: do | S10: vr | T10: OSV | V10: Wknr | W10: van | X10: t/m | Y10: ma | Z10: di | AA10: wo | AB10: do | AC10: vr | AD10: OSV | AJ10: Begin | AK10: 1 | AL10: Eind | AN10: Begin | AO10: =+AK63 -> 1 | AP10: Eind | AR10: Begin | AS10: =+AO63 -> 1 | AT10: Eind
B11: 1 | C11: 45656 | D11: =C12-3 -> 45660 | E11: =IF(AND($E$2="Noord",ISNA(VLOOKUP($B$4&$B11&E$10,Data!$A:$H,6,FALSE)=TRUE)),"",IF(AND($E$2="Midden",ISNA(VLOOKUP($B$4&$B11&E$10,Data!$A:$H,7,FALSE)=TRUE)),"",IF(AND($E$2="Zuid",ISNA(VLOOKUP($B$4&$B11&E$10,Data!$A:$H,8,FALSE)=TRUE)),"",IF(AND($E$2="Noord",VLOOKUP($B$4&$B11&E$10,Data!$A:$H,6,FALSE)="Vakantie"),"x",IF(AND($E$2="Midden",VLOOKUP($B$4&$B11&E$10,Data!$A:$H,7,FALSE)="Vakantie"),"x",IF(AND($E$2="Zuid",VLOOKUP($B$4&$B11&E$10,Data!$A:$H,8,FALSE)="Vakantie"),"x","")))))) -> x | F11: =IF(AND($E$2="Noord",ISNA(VLOOKUP($B$4&$B11&F$10,Data!$A:$H,6,FALSE)=TRUE)),"",IF(AND($E$2="Midden",ISNA(VLOOKUP($B$4&$B11&F$10,Data!$A:$H,7,FALSE)=TRUE)),"",IF(AND($E$2="Zuid",ISNA(VLOOKUP($B$4&$B11&F$10,Data!$A:$H,8,FALSE)=TRUE)),"",IF(AND($E$2="Noord",VLOOKUP($B$4&$B11&F$10,Data!$A:$H,6,FALSE)="Vakantie"),"x",IF(AND($E$2="Midden",VLOOKUP($B$4&$B11&F$10,Data!$A:$H,7,FALSE)="Vakantie"),"x",IF(AND($E$2="Zuid",VLOOKUP($B$4&$B11&F$10,Data!$A:$H,8,FALSE)="Vakantie"),"x","")))))) -> x | G11: =IF(AND($E$2="Noord",ISNA(VLOOKUP($B$4&$B11&G$10,Data!$A:$H,6,FALSE)=TRUE)),"",IF(AND($E$2="Midden",ISNA(VLOOKUP($B$4&$B11&G$10,Data!$A:$H,7,FALSE)=TRUE)),"",IF(AND($E$2="Zuid",ISNA(VLOOKUP($B$4&$B11&G$10,Data!$A:$H,8,FALSE)=TRUE)),"",IF(AND($E$2="Noord",VLOOKUP($B$4&$B11&G$10,Data!$A:$H,6,FALSE)="Vakantie"),"x",IF(AND($E$2="Midden",VLOOKUP($B$4&$B11&G$10,Data!$A:$H,7,FALSE)="Vakantie"),"x",IF(AND($E$2="Zuid",VLOOKUP($B$4&$B11&G$10,Data!$A:$H,8,FALSE)="Vakantie"),"x","")))))) -> x | H11: =IF(AND($E$2="Noord",ISNA(VLOOKUP($B$4&$B11&H$10,Data!$A:$H,6,FALSE)=TRUE)),"",IF(AND($E$2="Midden",ISNA(VLOOKUP($B$4&$B11&H$10,Data!$A:$H,7,FALSE)=TRUE)),"",IF(AND($E$2="Zuid",ISNA(VLOOKUP($B$4&$B11&H$10,Data!$A:$H,8,FALSE)=TRUE)),"",IF(AND($E$2="Noord",VLOOKUP($B$4&$B11&H$10,Data!$A:$H,6,FALSE)="Vakantie"),"x",IF(AND($E$2="Midden",VLOOKUP($B$4&$B11&H$10,Data!$A:$H,7,FALSE)="Vakantie"),"x",IF(AND($E$2="Zuid",VLOOKUP($B$4&$B11&H$10,Data!$A:$H,8,FALSE)="Vakantie"),"x","")))))) -> x | I11: =IF(AND($E$2="Noord",ISNA(VLOOKUP($B$4&$B11&I$10,Data!$A:$H,6,FALSE)=TRUE)),"",IF(AND($E$2="Midden",ISNA(VLOOKUP($B$4&$B11&I$10,Data!$A:$H,7,FALSE)=TRUE)),"",IF(AND($E$2="Zuid",ISNA(VLOOKUP($B$4&$B11&I$10,Data!$A:$H,8,FALSE)=TRUE)),"",IF(AND($E$2="Noord",VLOOKUP($B$4&$B11&I$10,Data!$A:$H,6,FALSE)="Vakantie"),"x",IF(AND($E$2="Midden",VLOOKUP($B$4&$B11&I$10,Data!$A:$H,7,FALSE)="Vakantie"),"x",IF(AND($E$2="Zuid",VLOOKUP($B$4&$B11&I$10,Data!$A:$H,8,FALSE)="Vakantie"),"x","")))))) -> x | J11: =SUM(E11:I11) -> 0 | L11: 1 | M11: =+C62+7 -> 46020 | N11: =+M12-3 -> 46024 | O11: =IF($E$2="Keuze"," ",IF(AND($E$2="Noord",ISNA(VLOOKUP($L$4&$L11&O$10,Data!$A:$H,6,FALSE)=TRUE)),"",IF(AND($E$2="Midden",ISNA(VLOOKUP($L$4&$L11&O$10,Data!$A:$H,7,FALSE)=TRUE)),"",IF(AND($E$2="Zuid",ISNA(VLOOKUP($L$4&$L11&O$10,Data!$A:$H,8,FALSE)=TRUE)),"",IF(AND($E$2="Noord",VLOOKUP($L$4&$L11&O$10,Data!$A:$H,6,FALSE)="Vakantie"),"x",IF(AND($E$2="Midden",VLOOKUP($L$4&$L11&O$10,Data!$A:$H,7,FALSE)="Vakantie"),"x",IF(AND($E$2="Zuid",VLOOKUP($L$4&$L11&O$10,Data!$A:$H,8,FALSE)="Vakantie"),"x",""))))))) -> x | P11: =IF(AND($E$2="Noord",ISNA(VLOOKUP($L$4&$L11&P$10,Data!$A:$H,6,FALSE)=TRUE)),"",IF(AND($E$2="Midden",ISNA(VLOOKUP($L$4&$L11&P$10,Data!$A:$H,7,FALSE)=TRUE)),"",IF(AND($E$2="Zuid",ISNA(VLOOKUP($L$4&$L11&P$10,Data!$A:$H,8,FALSE)=TRUE)),"",IF(AND($E$2="Noord",VLOOKUP($L$4&$L11&P$10,Data!$A:$H,6,FALSE)="Vakantie"),"x",IF(AND($E$2="Midden",VLOOKUP($L$4&$L11&P$10,Data!$A:$H,7,FALSE)="Vakantie"),"x",IF(AND($E$2="Zuid",VLOOKUP($L$4&$L11&P$10,Data!$A:$H,8,FALSE)="Vakantie"),"x","")))))) -> x | Q11: =IF(AND($E$2="Noord",ISNA(VLOOKUP($L$4&$L11&Q$10,Data!$A:$H,6,FALSE)=TRUE)),"",IF(AND($E$2="Midden",ISNA(VLOOKUP($L$4&$L11&Q$10,Data!$A:$H,7,FALSE)=TRUE)),"",IF(AND($E$2="Zuid",ISNA(VLOOKUP($L$4&$L11&Q$10,Data!$A:$H,8,FALSE)=TRUE)),"",IF(AND($E$2="Noord",VLOOKUP($L$4&$L11&Q$10,Data!$A:$H,6,FALSE)="Vakantie"),"x",IF(AND($E$2="Midden",VLOOKUP($L$4&$L11&Q$10,Data!$A:$H,7,FALSE)="Vakantie"),"x",IF(AND($E$2="Zuid",VLOOKUP($L$4&$L11&Q$10,Data!$A:$H,8,FALSE)="Vakantie"),"x","")))))) -> x | R11: =IF(AND($E$2="Noord",ISNA(VLOOKUP($L$4&$L11&R$10,Data!$A:$H,6,FALSE)=TRUE)),"",IF(AND($E$2="Midden",ISNA(VLOOKUP($L$4&$L11&R$10,Data!$A:$H,7,FALSE)=TRUE)),"",IF(AND($E$2="Zuid",ISNA(VLOOKUP($L$4&$L11&R$10,Data!$A:$H,8,FALSE)=TRUE)),"",IF(AND($E$2="Noord",VLOOKUP($L$4&$L11&R$10,Data!$A:$H,6,FALSE)="Vakantie"),"x",IF(AND($E$2="Midden",VLOOKUP($L$4&$L11&R$10,Data!$A:$H,7,FALSE)="Vakantie"),"x",IF(AND($E$2="Zuid",VLOOKUP($L$4&$L11&R$10,Data!$A:$H,8,FALSE)="Vakantie"),"x","")))))) -> x | S11: =IF(AND($E$2="Noord",ISNA(VLOOKUP($L$4&$L11&S$10,Data!$A:$H,6,FALSE)=TRUE)),"",IF(AND($E$2="Midden",ISNA(VLOOKUP($L$4&$L11&S$10,Data!$A:$H,7,FALSE)=TRUE)),"",IF(AND($E$2="Zuid",ISNA(VLOOKUP($L$4&$L11&S$10,Data!$A:$H,8,FALSE)=TRUE)),"",IF(AND($E$2="Noord",VLOOKUP($L$4&$L11&S$10,Data!$A:$H,6,FALSE)="Vakantie"),"x",IF(AND($E$2="Midden",VLOOKUP($L$4&$L11&S$10,Data!$A:$H,7,FALSE)="Vakantie"),"x",IF(AND($E$2="Zuid",VLOOKUP($L$4&$L11&S$10,Data!$A:$H,8,FALSE)="Vakantie"),"x","")))))) -> x | T11: =SUM(O11:S11) -> 0 | V11: 1 | W11: 46391 | X11: =W12-3 -> 46395 | Y11: =IF(AND($E$2="Noord",ISNA(VLOOKUP($V$4&$V11&Y$10,Data!$A:$H,6,FALSE)=TRUE)),"",IF(AND($E$2="Midden",ISNA(VLOOKUP($V$4&$V11&Y$10,Data!$A:$H,7,FALSE)=TRUE)),"",IF(AND($E$2="Zuid",ISNA(VLOOKUP($V$4&$V11&Y$10,Data!$A:$H,8,FALSE)=TRUE)),"",IF(AND($E$2="Noord",VLOOKUP($V$4&$V11&Y$10,Data!$A:$H,6,FALSE)="Vakantie"),"x",IF(AND($E$2="Midden",VLOOKUP($V$4&$V11&Y$10,Data!$A:$H,7,FALSE)="Vakantie"),"x",IF(AND($E$2="Zuid",VLOOKUP($V$4&$V11&Y$10,Data!$A:$H,8,FALSE)="Vakantie"),"x","")))))) | Z11: =IF(AND($E$2="Noord",ISNA(VLOOKUP($V$4&$V11&Z$10,Data!$A:$H,6,FALSE)=TRUE)),"",IF(AND($E$2="Midden",ISNA(VLOOKUP($V$4&$V11&Z$10,Data!$A:$H,7,FALSE)=TRUE)),"",IF(AND($E$2="Zuid",ISNA(VLOOKUP($V$4&$V11&Z$10,Data!$A:$H,8,FALSE)=TRUE)),"",IF(AND($E$2="Noord",VLOOKUP($V$4&$V11&Z$10,Data!$A:$H,6,FALSE)="Vakantie"),"x",IF(AND($E$2="Midden",VLOOKUP($V$4&$V11&Z$10,Data!$A:$H,7,FALSE)="Vakantie"),"x",IF(AND($E$2="Zuid",VLOOKUP($V$4&$V11&Z$10,Data!$A:$H,8,FALSE)="Vakantie"),"x","")))))) | AA11: =IF(AND($E$2="Noord",ISNA(VLOOKUP($V$4&$V11&AA$10,Data!$A:$H,6,FALSE)=TRUE)),"",IF(AND($E$2="Midden",ISNA(VLOOKUP($V$4&$V11&AA$10,Data!$A:$H,7,FALSE)=TRUE)),"",IF(AND($E$2="Zuid",ISNA(VLOOKUP($V$4&$V11&AA$10,Data!$A:$H,8,FALSE)=TRUE)),"",IF(AND($E$2="Noord",VLOOKUP($V$4&$V11&AA$10,Data!$A:$H,6,FALSE)="Vakantie"),"x",IF(AND($E$2="Midden",VLOOKUP($V$4&$V11&AA$10,Data!$A:$H,7,FALSE)="Vakantie"),"x",IF(AND($E$2="Zuid",VLOOKUP($V$4&$V11&AA$10,Data!$A:$H,8,FALSE)="Vakantie"),"x","")))))) | AB11: =IF(AND($E$2="Noord",ISNA(VLOOKUP($V$4&$V11&AB$10,Data!$A:$H,6,FALSE)=TRUE)),"",IF(AND($E$2="Midden",ISNA(VLOOKUP($V$4&$V11&AB$10,Data!$A:$H,7,FALSE)=TRUE)),"",IF(AND($E$2="Zuid",ISNA(VLOOKUP($V$4&$V11&AB$10,Data!$A:$H,8,FALSE)=TRUE)),"",IF(AND($E$2="Noord",VLOOKUP($V$4&$V11&AB$10,Data!$A:$H,6,FALSE)="Vakantie"),"x",IF(AND($E$2="Midden",VLOOKUP($V$4&$V11&AB$10,Data!$A:$H,7,FALSE)="Vakantie"),"x",IF(AND($E$2="Zuid",VLOOKUP($V$4&$V11&AB$10,Data!$A:$H,8,FALSE)="Vakantie"),"x","")))))) | AC11: =IF(AND($E$2="Noord",ISNA(VLOOKUP($V$4&$V11&AC$10,Data!$A:$H,6,FALSE)=TRUE)),"",IF(AND($E$2="Midden",ISNA(VLOOKUP($V$4&$V11&AC$10,Data!$A:$H,7,FALSE)=TRUE)),"",IF(AND($E$2="Zuid",ISNA(VLOOKUP($V$4&$V11&AC$10,Data!$A:$H,8,FALSE)=TRUE)),"",IF(AND($E$2="Noord",VLOOKUP($V$4&$V11&AC$10,Data!$A:$H,6,FALSE)="Vakantie"),"x",IF(AND($E$2="Midden",VLOOKUP($V$4&$V11&AC$10,Data!$A:$H,7,FALSE)="Vakantie"),"x",IF(AND($E$2="Zuid",VLOOKUP($V$4&$V11&AC$10,Data!$A:$H,8,FALSE)="Vakantie"),"x","")))))) | AD11: =SUM(Y11:AC11) -> 0 | AI11: =IF(SUM($E11:$I11)=0,1,2) -> 1 | AJ11: =IF((COUNTIF($AI11:$AI11,2))>1,"",IF(OR(AI11="",AI11=2),"",IF(AI11=1,"",IF(AND($AI11=2,E11<>""),$C11,IF(AND($AI11=2,F11<>""),$C11+1,IF(AND($AI11=2,G11<>""),$C11+2,IF(AND($AI11=2,H11<>""),$C11+3,IF(AND($IP11=2,I11<>""),$C11+4,"")))))))) | AK11: =IF(SUM(E12:$I$62)+$T$68+$AD$68=0,1,2) -> 1 | AL11: =IF(AK10="","",IF(AK10=1,"",IF(AK11<>1,"",IF(AND(AK11=1,I11<>""),C11+4,IF(AND(AK11=1,H11<>""),C11+3,IF(AND(AK11=1,G11<>""),C11+2,IF(AND(AK11=1,F11<>""),C11+1,IF(AND(AK11=1,E11<>""),C11,"")))))))) | AM11: =IF(SUM($O11:$S11)=0,1,2) -> 1 | AN11: =IF((COUNTIF($AI$11:$AI$64,2)+COUNTIF($AM11:$AM12,2))>1,"",IF(OR(AM10="",AM10=2),"",IF(AM11=1,"",IF(AND(AM11=2,O11<>""),M11,IF(AND(AM11=2,P11<>""),M11+1,IF(AND(AM11=2,Q11<>""),M11+2,IF(AND(AM11=2,R11<>""),M11+3,IF(AND(AM11=2,S11<>""),M11+4,"")))))))) | AO11: =IF(SUM(O12:$S$62)+$AD$68=0,1,2) -> 1 | AP11: =IF(AO10="","",IF(AO10=1,"",IF(AO11<>1,"",IF(AND(AO11=1,S11<>""),M11+4,IF(AND(AO11=1,R11<>""),M11+3,IF(AND(AO11=1,Q11<>""),M11+2,IF(AND(AO11=1,P11<>""),M11+1,IF(AND(AO11=1,O11<>""),M11,"")))))))) | AQ11: =IF(SUM($O12:$S$62)=0,1,2) -> 1 | AR11: =IF((COUNTIF($AI$11:$AI$64,2)+COUNTIF($AM$11:$AM$64,2)+COUNTIF(AQ11:$AQ$12,2))>1,"",IF(OR(AQ10="",AQ10=2),"",IF(AQ11=1,"",IF(AND(AQ11=2,Y11<>""),W11,IF(AND(AQ11=2,Z11<>""),W11+1,IF(AND(AQ11=2,AA11<>""),W11+2,IF(AND(AQ11=2,AB11<>""),W11+3,IF(AND(AQ11=2,AC11<>""),W11+4,"")))))))) | AS11: =IF(SUM(Y12:$AC$62)=0,1,2) -> 1 | AT11: =IF(AS10="","",IF(AS10=1,"",IF(AS11<>1,"",IF(AND(AS11=1,AC11<>""),W11+4,IF(AND(AS11=1,AB11<>""),W11+3,IF(AND(AS11=1,AA11<>""),W11+2,IF(AND(AS11=1,Z11<>""),W11+1,IF(AND(AS11=1,Y11<>""),W11,""))))))))
B12: 2 | C12: =C11+7 -> 45663 | D12: =C13-3 -> 45667 | E12: =IF(AND($E$2="Noord",ISNA(VLOOKUP($B$4&$B12&E$10,Data!$A:$H,6,FALSE)=TRUE)),"",IF(AND($E$2="Midden",ISNA(VLOOKUP($B$4&$B12&E$10,Data!$A:$H,7,FALSE)=TRUE)),"",IF(AND($E$2="Zuid",ISNA(VLOOKUP($B$4&$B12&E$10,Data!$A:$H,8,FALSE)=TRUE)),"",IF(AND($E$2="Noord",VLOOKUP($B$4&$B12&E$10,Data!$A:$H,6,FALSE)="Vakantie"),"x",IF(AND($E$2="Midden",VLOOKUP($B$4&$B12&E$10,Data!$A:$H,7,FALSE)="Vakantie"),"x",IF(AND($E$2="Zuid",VLOOKUP($B$4&$B12&E$10,Data!$A:$H,8,FALSE)="Vakantie"),"x","")))))) | F12: =IF(AND($E$2="Noord",ISNA(VLOOKUP($B$4&$B12&F$10,Data!$A:$H,6,FALSE)=TRUE)),"",IF(AND($E$2="Midden",ISNA(VLOOKUP($B$4&$B12&F$10,Data!$A:$H,7,FALSE)=TRUE)),"",IF(AND($E$2="Zuid",ISNA(VLOOKUP($B$4&$B12&F$10,Data!$A:$H,8,FALSE)=TRUE)),"",IF(AND($E$2="Noord",VLOOKUP($B$4&$B12&F$10,Data!$A:$H,6,FALSE)="Vakantie"),"x",IF(AND($E$2="Midden",VLOOKUP($B$4&$B12&F$10,Data!$A:$H,7,FALSE)="Vakantie"),"x",IF(AND($E$2="Zuid",VLOOKUP($B$4&$B12&F$10,Data!$A:$H,8,FALSE)="Vakantie"),"x","")))))) | G12: =IF(AND($E$2="Noord",ISNA(VLOOKUP($B$4&$B12&G$10,Data!$A:$H,6,FALSE)=TRUE)),"",IF(AND($E$2="Midden",ISNA(VLOOKUP($B$4&$B12&G$10,Data!$A:$H,7,FALSE)=TRUE)),"",IF(AND($E$2="Zuid",ISNA(VLOOKUP($B$4&$B12&G$10,Data!$A:$H,8,FALSE)=TRUE)),"",IF(AND($E$2="Noord",VLOOKUP($B$4&$B12&G$10,Data!$A:$H,6,FALSE)="Vakantie"),"x",IF(AND($E$2="Midden",VLOOKUP($B$4&$B12&G$10,Data!$A:$H,7,FALSE)="Vakantie"),"x",IF(AND($E$2="Zuid",VLOOKUP($B$4&$B12&G$10,Data!$A:$H,8,FALSE)="Vakantie"),"x","")))))) | H12: =IF(AND($E$2="Noord",ISNA(VLOOKUP($B$4&$B12&H$10,Data!$A:$H,6,FALSE)=TRUE)),"",IF(AND($E$2="Midden",ISNA(VLOOKUP($B$4&$B12&H$10,Data!$A:$H,7,FALSE)=TRUE)),"",IF(AND($E$2="Zuid",ISNA(VLOOKUP($B$4&$B12&H$10,Data!$A:$H,8,FALSE)=TRUE)),"",IF(AND($E$2="Noord",VLOOKUP($B$4&$B12&H$10,Data!$A:$H,6,FALSE)="Vakantie"),"x",IF(AND($E$2="Midden",VLOOKUP($B$4&$B12&H$10,Data!$A:$H,7,FALSE)="Vakantie"),"x",IF(AND($E$2="Zuid",VLOOKUP($B$4&$B12&H$10,Data!$A:$H,8,FALSE)="Vakantie"),"x","")))))) | I12: =IF(AND($E$2="Noord",ISNA(VLOOKUP($B$4&$B12&I$10,Data!$A:$H,6,FALSE)=TRUE)),"",IF(AND($E$2="Midden",ISNA(VLOOKUP($B$4&$B12&I$10,Data!$A:$H,7,FALSE)=TRUE)),"",IF(AND($E$2="Zuid",ISNA(VLOOKUP($B$4&$B12&I$10,Data!$A:$H,8,FALSE)=TRUE)),"",IF(AND($E$2="Noord",VLOOKUP($B$4&$B12&I$10,Data!$A:$H,6,FALSE)="Vakantie"),"x",IF(AND($E$2="Midden",VLOOKUP($B$4&$B12&I$10,Data!$A:$H,7,FALSE)="Vakantie"),"x",IF(AND($E$2="Zuid",VLOOKUP($B$4&$B12&I$10,Data!$A:$H,8,FALSE)="Vakantie"),"x","")))))) | J12: =SUM(E12:I12) -> 0 | L12: 2 | M12: =M11+7 -> 46027 | N12: =+M13-3 -> 46031 | O12: =IF(AND($E$2="Noord",ISNA(VLOOKUP($L$4&$L12&O$10,Data!$A:$H,6,FALSE)=TRUE)),"",IF(AND($E$2="Midden",ISNA(VLOOKUP($L$4&$L12&O$10,Data!$A:$H,7,FALSE)=TRUE)),"",IF(AND($E$2="Zuid",ISNA(VLOOKUP($L$4&$L12&O$10,Data!$A:$H,8,FALSE)=TRUE)),"",IF(AND($E$2="Noord",VLOOKUP($L$4&$L12&O$10,Data!$A:$H,6,FALSE)="Vakantie"),"x",IF(AND($E$2="Midden",VLOOKUP($L$4&$L12&O$10,Data!$A:$H,7,FALSE)="Vakantie"),"x",IF(AND($E$2="Zuid",VLOOKUP($L$4&$L12&O$10,Data!$A:$H,8,FALSE)="Vakantie"),"x","")))))) | P12: =IF(AND($E$2="Noord",ISNA(VLOOKUP($L$4&$L12&P$10,Data!$A:$H,6,FALSE)=TRUE)),"",IF(AND($E$2="Midden",ISNA(VLOOKUP($L$4&$L12&P$10,Data!$A:$H,7,FALSE)=TRUE)),"",IF(AND($E$2="Zuid",ISNA(VLOOKUP($L$4&$L12&P$10,Data!$A:$H,8,FALSE)=TRUE)),"",IF(AND($E$2="Noord",VLOOKUP($L$4&$L12&P$10,Data!$A:$H,6,FALSE)="Vakantie"),"x",IF(AND($E$2="Midden",VLOOKUP($L$4&$L12&P$10,Data!$A:$H,7,FALSE)="Vakantie"),"x",IF(AND($E$2="Zuid",VLOOKUP($L$4&$L12&P$10,Data!$A:$H,8,FALSE)="Vakantie"),"x","")))))) | Q12: =IF(AND($E$2="Noord",ISNA(VLOOKUP($L$4&$L12&Q$10,Data!$A:$H,6,FALSE)=TRUE)),"",IF(AND($E$2="Midden",ISNA(VLOOKUP($L$4&$L12&Q$10,Data!$A:$H,7,FALSE)=TRUE)),"",IF(AND($E$2="Zuid",ISNA(VLOOKUP($L$4&$L12&Q$10,Data!$A:$H,8,FALSE)=TRUE)),"",IF(AND($E$2="Noord",VLOOKUP($L$4&$L12&Q$10,Data!$A:$H,6,FALSE)="Vakantie"),"x",IF(AND($E$2="Midden",VLOOKUP($L$4&$L12&Q$10,Data!$A:$H,7,FALSE)="Vakantie"),"x",IF(AND($E$2="Zuid",VLOOKUP($L$4&$L12&Q$10,Data!$A:$H,8,FALSE)="Vakantie"),"x","")))))) | R12: =IF(AND($E$2="Noord",ISNA(VLOOKUP($L$4&$L12&R$10,Data!$A:$H,6,FALSE)=TRUE)),"",IF(AND($E$2="Midden",ISNA(VLOOKUP($L$4&$L12&R$10,Data!$A:$H,7,FALSE)=TRUE)),"",IF(AND($E$2="Zuid",ISNA(VLOOKUP($L$4&$L12&R$10,Data!$A:$H,8,FALSE)=TRUE)),"",IF(AND($E$2="Noord",VLOOKUP($L$4&$L12&R$10,Data!$A:$H,6,FALSE)="Vakantie"),"x",IF(AND($E$2="Midden",VLOOKUP($L$4&$L12&R$10,Data!$A:$H,7,FALSE)="Vakantie"),"x",IF(AND($E$2="Zuid",VLOOKUP($L$4&$L12&R$10,Data!$A:$H,8,FALSE)="Vakantie"),"x","")))))) | S12: =IF(AND($E$2="Noord",ISNA(VLOOKUP($L$4&$L12&S$10,Data!$A:$H,6,FALSE)=TRUE)),"",IF(AND($E$2="Midden",ISNA(VLOOKUP($L$4&$L12&S$10,Data!$A:$H,7,FALSE)=TRUE)),"",IF(AND($E$2="Zuid",ISNA(VLOOKUP($L$4&$L12&S$10,Data!$A:$H,8,FALSE)=TRUE)),"",IF(AND($E$2="Noord",VLOOKUP($L$4&$L12&S$10,Data!$A:$H,6,FALSE)="Vakantie"),"x",IF(AND($E$2="Midden",VLOOKUP($L$4&$L12&S$10,Data!$A:$H,7,FALSE)="Vakantie"),"x",IF(AND($E$2="Zuid",VLOOKUP($L$4&$L12&S$10,Data!$A:$H,8,FALSE)="Vakantie"),"x","")))))) | T12: =SUM(O12:S12) -> 0 | V12: 2 | W12: =+W11+7 -> 46398 | X12: =W13-3 -> 46402 | Y12: =IF(AND($E$2="Noord",ISNA(VLOOKUP($V$4&$V12&Y$10,Data!$A:$H,6,FALSE)=TRUE)),"",IF(AND($E$2="Midden",ISNA(VLOOKUP($V$4&$V12&Y$10,Data!$A:$H,7,FALSE)=TRUE)),"",IF(AND($E$2="Zuid",ISNA(VLOOKUP($V$4&$V12&Y$10,Data!$A:$H,8,FALSE)=TRUE)),"",IF(AND($E$2="Noord",VLOOKUP($V$4&$V12&Y$10,Data!$A:$H,6,FALSE)="Vakantie"),"x",IF(AND($E$2="Midden",VLOOKUP($V$4&$V12&Y$10,Data!$A:$H,7,FALSE)="Vakantie"),"x",IF(AND($E$2="Zuid",VLOOKUP($V$4&$V12&Y$10,Data!$A:$H,8,FALSE)="Vakantie"),"x","")))))) | Z12: =IF(AND($E$2="Noord",ISNA(VLOOKUP($V$4&$V12&Z$10,Data!$A:$H,6,FALSE)=TRUE)),"",IF(AND($E$2="Midden",ISNA(VLOOKUP($V$4&$V12&Z$10,Data!$A:$H,7,FALSE)=TRUE)),"",IF(AND($E$2="Zuid",ISNA(VLOOKUP($V$4&$V12&Z$10,Data!$A:$H,8,FALSE)=TRUE)),"",IF(AND($E$2="Noord",VLOOKUP($V$4&$V12&Z$10,Data!$A:$H,6,FALSE)="Vakantie"),"x",IF(AND($E$2="Midden",VLOOKUP($V$4&$V12&Z$10,Data!$A:$H,7,FALSE)="Vakantie"),"x",IF(AND($E$2="Zuid",VLOOKUP($V$4&$V12&Z$10,Data!$A:$H,8,FALSE)="Vakantie"),"x","")))))) | AA12: =IF(AND($E$2="Noord",ISNA(VLOOKUP($V$4&$V12&AA$10,Data!$A:$H,6,FALSE)=TRUE)),"",IF(AND($E$2="Midden",ISNA(VLOOKUP($V$4&$V12&AA$10,Data!$A:$H,7,FALSE)=TRUE)),"",IF(AND($E$2="Zuid",ISNA(VLOOKUP($V$4&$V12&AA$10,Data!$A:$H,8,FALSE)=TRUE)),"",IF(AND($E$2="Noord",VLOOKUP($V$4&$V12&AA$10,Data!$A:$H,6,FALSE)="Vakantie"),"x",IF(AND($E$2="Midden",VLOOKUP($V$4&$V12&AA$10,Data!$A:$H,7,FALSE)="Vakantie"),"x",IF(AND($E$2="Zuid",VLOOKUP($V$4&$V12&AA$10,Data!$A:$H,8,FALSE)="Vakantie"),"x","")))))) | AB12: =IF(AND($E$2="Noord",ISNA(VLOOKUP($V$4&$V12&AB$10,Data!$A:$H,6,FALSE)=TRUE)),"",IF(AND($E$2="Midden",ISNA(VLOOKUP($V$4&$V12&AB$10,Data!$A:$H,7,FALSE)=TRUE)),"",IF(AND($E$2="Zuid",ISNA(VLOOKUP($V$4&$V12&AB$10,Data!$A:$H,8,FALSE)=TRUE)),"",IF(AND($E$2="Noord",VLOOKUP($V$4&$V12&AB$10,Data!$A:$H,6,FALSE)="Vakantie"),"x",IF(AND($E$2="Midden",VLOOKUP($V$4&$V12&AB$10,Data!$A:$H,7,FALSE)="Vakantie"),"x",IF(AND($E$2="Zuid",VLOOKUP($V$4&$V12&AB$10,Data!$A:$H,8,FALSE)="Vakantie"),"x","")))))) | AC12: =IF(AND($E$2="Noord",ISNA(VLOOKUP($V$4&$V12&AC$10,Data!$A:$H,6,FALSE)=TRUE)),"",IF(AND($E$2="Midden",ISNA(VLOOKUP($V$4&$V12&AC$10,Data!$A:$H,7,FALSE)=TRUE)),"",IF(AND($E$2="Zuid",ISNA(VLOOKUP($V$4&$V12&AC$10,Data!$A:$H,8,FALSE)=TRUE)),"",IF(AND($E$2="Noord",VLOOKUP($V$4&$V12&AC$10,Data!$A:$H,6,FALSE)="Vakantie"),"x",IF(AND($E$2="Midden",VLOOKUP($V$4&$V12&AC$10,Data!$A:$H,7,FALSE)="Vakantie"),"x",IF(AND($E$2="Zuid",VLOOKUP($V$4&$V12&AC$10,Data!$A:$H,8,FALSE)="Vakantie"),"x","")))))) | AD12: =SUM(Y12:AC12) -> 0 | AI12: =IF(SUM($E12:$I12)=0,1,2) -> 1 | AJ12: =IF((COUNTIF($AI$11:$AI12,2))>1,"",IF(OR(AI11="",AI11=2),"",IF(AI12=1,"",IF(AND($AI12=2,E12<>""),$C12,IF(AND($AI12=2,F12<>""),$C12+1,IF(AND($AI12=2,G12<>""),$C12+2,IF(AND($AI12=2,H12<>""),$C12+3,IF(AND($AI12=2,I12<>""),$C12+4,"")))))))) | AK12: =IF(SUM(E13:$I$62)+$T$68+$AD$68=0,1,2) -> 1 | AL12: =IF(AK11="","",IF(AK11=1,"",IF(AK12<>1,"",IF(AND(AK12=1,I12<>""),C12+4,IF(AND(AK12=1,H12<>""),C12+3,IF(AND(AK12=1,G12<>""),C12+2,IF(AND(AK12=1,F12<>""),C12+1,IF(AND(AK12=1,E12<>""),C12,"")))))))) | AM12: =IF(SUM($O12:$S12)=0,1,2) -> 1 | AN12: =IF((COUNTIF($AI$11:$AI$64,2)+COUNTIF($AM11:$AM12,2))>1,"",IF(OR(AM11="",AM11=2),"",IF(AM12=1,"",IF(AND(AM12=2,O12<>""),M12,IF(AND(AM12=2,P12<>""),M12+1,IF(AND(AM12=2,Q12<>""),M12+2,IF(AND(AM12=2,R12<>""),M12+3,IF(AND(AM12=2,S12<>""),M12+4,"")))))))) | AO12: =IF(SUM(O13:$S$62)+$AD$68=0,1,2) -> 1 | AP12: =IF(AO11="","",IF(AO11=1,"",IF(AO12<>1,"",IF(AND(AO12=1,S12<>""),M12+4,IF(AND(AO12=1,R12<>""),M12+3,IF(AND(AO12=1,Q12<>""),M12+2,IF(AND(AO12=1,P12<>""),M12+1,IF(AND(AO12=1,O12<>""),M12,"")))))))) | AQ12: =IF(SUM($O13:$S$62)=0,1,2) -> 1 | AR12: =IF((COUNTIF($AI$11:$AI$64,2)+COUNTIF($AM$11:$AM$64,2)+COUNTIF(AQ12:$AQ$12,2))>1,"",IF(OR(AQ11="",AQ11=2),"",IF(AQ12=1,"",IF(AND(AQ12=2,Y12<>""),W12,IF(AND(AQ12=2,Z12<>""),W12+1,IF(AND(AQ12=2,AA12<>""),W12+2,IF(AND(AQ12=2,AB12<>""),W12+3,IF(AND(AQ12=2,AC12<>""),W12+4,"")))))))) | AS12: =IF(SUM(Y13:$AC$62)=0,1,2) -> 1 | AT12: =IF(AS11="","",IF(AS11=1,"",IF(AS12<>1,"",IF(AND(AS12=1,AC12<>""),W12+4,IF(AND(AS12=1,AB12<>""),W12+3,IF(AND(AS12=1,AA12<>""),W12+2,IF(AND(AS12=1,Z12<>""),W12+1,IF(AND(AS12=1,Y12<>""),W12,""))))))))
B13: 3 | C13: =C12+7 -> 45670 | D13: =C14-3 -> 45674 | E13: =IF(AND($E$2="Noord",ISNA(VLOOKUP($B$4&$B13&E$10,Data!$A:$H,6,FALSE)=TRUE)),"",IF(AND($E$2="Midden",ISNA(VLOOKUP($B$4&$B13&E$10,Data!$A:$H,7,FALSE)=TRUE)),"",IF(AND($E$2="Zuid",ISNA(VLOOKUP($B$4&$B13&E$10,Data!$A:$H,8,FALSE)=TRUE)),"",IF(AND($E$2="Noord",VLOOKUP($B$4&$B13&E$10,Data!$A:$H,6,FALSE)="Vakantie"),"x",IF(AND($E$2="Midden",VLOOKUP($B$4&$B13&E$10,Data!$A:$H,7,FALSE)="Vakantie"),"x",IF(AND($E$2="Zuid",VLOOKUP($B$4&$B13&E$10,Data!$A:$H,8,FALSE)="Vakantie"),"x","")))))) | F13: =IF(AND($E$2="Noord",ISNA(VLOOKUP($B$4&$B13&F$10,Data!$A:$H,6,FALSE)=TRUE)),"",IF(AND($E$2="Midden",ISNA(VLOOKUP($B$4&$B13&F$10,Data!$A:$H,7,FALSE)=TRUE)),"",IF(AND($E$2="Zuid",ISNA(VLOOKUP($B$4&$B13&F$10,Data!$A:$H,8,FALSE)=TRUE)),"",IF(AND($E$2="Noord",VLOOKUP($B$4&$B13&F$10,Data!$A:$H,6,FALSE)="Vakantie"),"x",IF(AND($E$2="Midden",VLOOKUP($B$4&$B13&F$10,Data!$A:$H,7,FALSE)="Vakantie"),"x",IF(AND($E$2="Zuid",VLOOKUP($B$4&$B13&F$10,Data!$A:$H,8,FALSE)="Vakantie"),"x","")))))) | G13: =IF(AND($E$2="Noord",ISNA(VLOOKUP($B$4&$B13&G$10,Data!$A:$H,6,FALSE)=TRUE)),"",IF(AND($E$2="Midden",ISNA(VLOOKUP($B$4&$B13&G$10,Data!$A:$H,7,FALSE)=TRUE)),"",IF(AND($E$2="Zuid",ISNA(VLOOKUP($B$4&$B13&G$10,Data!$A:$H,8,FALSE)=TRUE)),"",IF(AND($E$2="Noord",VLOOKUP($B$4&$B13&G$10,Data!$A:$H,6,FALSE)="Vakantie"),"x",IF(AND($E$2="Midden",VLOOKUP($B$4&$B13&G$10,Data!$A:$H,7,FALSE)="Vakantie"),"x",IF(AND($E$2="Zuid",VLOOKUP($B$4&$B13&G$10,Data!$A:$H,8,FALSE)="Vakantie"),"x","")))))) | H13: =IF(AND($E$2="Noord",ISNA(VLOOKUP($B$4&$B13&H$10,Data!$A:$H,6,FALSE)=TRUE)),"",IF(AND($E$2="Midden",ISNA(VLOOKUP($B$4&$B13&H$10,Data!$A:$H,7,FALSE)=TRUE)),"",IF(AND($E$2="Zuid",ISNA(VLOOKUP($B$4&$B13&H$10,Data!$A:$H,8,FALSE)=TRUE)),"",IF(AND($E$2="Noord",VLOOKUP($B$4&$B13&H$10,Data!$A:$H,6,FALSE)="Vakantie"),"x",IF(AND($E$2="Midden",VLOOKUP($B$4&$B13&H$10,Data!$A:$H,7,FALSE)="Vakantie"),"x",IF(AND($E$2="Zuid",VLOOKUP($B$4&$B13&H$10,Data!$A:$H,8,FALSE)="Vakantie"),"x","")))))) | I13: =IF(AND($E$2="Noord",ISNA(VLOOKUP($B$4&$B13&I$10,Data!$A:$H,6,FALSE)=TRUE)),"",IF(AND($E$2="Midden",ISNA(VLOOKUP($B$4&$B13&I$10,Data!$A:$H,7,FALSE)=TRUE)),"",IF(AND($E$2="Zuid",ISNA(VLOOKUP($B$4&$B13&I$10,Data!$A:$H,8,FALSE)=TRUE)),"",IF(AND($E$2="Noord",VLOOKUP($B$4&$B13&I$10,Data!$A:$H,6,FALSE)="Vakantie"),"x",IF(AND($E$2="Midden",VLOOKUP($B$4&$B13&I$10,Data!$A:$H,7,FALSE)="Vakantie"),"x",IF(AND($E$2="Zuid",VLOOKUP($B$4&$B13&I$10,Data!$A:$H,8,FALSE)="Vakantie"),"x","")))))) | J13: =SUM(E13:I13) -> 0 | L13: 3 | M13: =M12+7 -> 46034 | N13: =+M14-3 -> 46038 | O13: =IF(AND($E$2="Noord",ISNA(VLOOKUP($L$4&$L13&O$10,Data!$A:$H,6,FALSE)=TRUE)),"",IF(AND($E$2="Midden",ISNA(VLOOKUP($L$4&$L13&O$10,Data!$A:$H,7,FALSE)=TRUE)),"",IF(AND($E$2="Zuid",ISNA(VLOOKUP($L$4&$L13&O$10,Data!$A:$H,8,FALSE)=TRUE)),"",IF(AND($E$2="Noord",VLOOKUP($L$4&$L13&O$10,Data!$A:$H,6,FALSE)="Vakantie"),"x",IF(AND($E$2="Midden",VLOOKUP($L$4&$L13&O$10,Data!$A:$H,7,FALSE)="Vakantie"),"x",IF(AND($E$2="Zuid",VLOOKUP($L$4&$L13&O$10,Data!$A:$H,8,FALSE)="Vakantie"),"x","")))))) | P13: =IF(AND($E$2="Noord",ISNA(VLOOKUP($L$4&$L13&P$10,Data!$A:$H,6,FALSE)=TRUE)),"",IF(AND($E$2="Midden",ISNA(VLOOKUP($L$4&$L13&P$10,Data!$A:$H,7,FALSE)=TRUE)),"",IF(AND($E$2="Zuid",ISNA(VLOOKUP($L$4&$L13&P$10,Data!$A:$H,8,FALSE)=TRUE)),"",IF(AND($E$2="Noord",VLOOKUP($L$4&$L13&P$10,Data!$A:$H,6,FALSE)="Vakantie"),"x",IF(AND($E$2="Midden",VLOOKUP($L$4&$L13&P$10,Data!$A:$H,7,FALSE)="Vakantie"),"x",IF(AND($E$2="Zuid",VLOOKUP($L$4&$L13&P$10,Data!$A:$H,8,FALSE)="Vakantie"),"x","")))))) | Q13: =IF(AND($E$2="Noord",ISNA(VLOOKUP($L$4&$L13&Q$10,Data!$A:$H,6,FALSE)=TRUE)),"",IF(AND($E$2="Midden",ISNA(VLOOKUP($L$4&$L13&Q$10,Data!$A:$H,7,FALSE)=TRUE)),"",IF(AND($E$2="Zuid",ISNA(VLOOKUP($L$4&$L13&Q$10,Data!$A:$H,8,FALSE)=TRUE)),"",IF(AND($E$2="Noord",VLOOKUP($L$4&$L13&Q$10,Data!$A:$H,6,FALSE)="Vakantie"),"x",IF(AND($E$2="Midden",VLOOKUP($L$4&$L13&Q$10,Data!$A:$H,7,FALSE)="Vakantie"),"x",IF(AND($E$2="Zuid",VLOOKUP($L$4&$L13&Q$10,Data!$A:$H,8,FALSE)="Vakantie"),"x","")))))) | R13: =IF(AND($E$2="Noord",ISNA(VLOOKUP($L$4&$L13&R$10,Data!$A:$H,6,FALSE)=TRUE)),"",IF(AND($E$2="Midden",ISNA(VLOOKUP($L$4&$L13&R$10,Data!$A:$H,7,FALSE)=TRUE)),"",IF(AND($E$2="Zuid",ISNA(VLOOKUP($L$4&$L13&R$10,Data!$A:$H,8,FALSE)=TRUE)),"",IF(AND($E$2="Noord",VLOOKUP($L$4&$L13&R$10,Data!$A:$H,6,FALSE)="Vakantie"),"x",IF(AND($E$2="Midden",VLOOKUP($L$4&$L13&R$10,Data!$A:$H,7,FALSE)="Vakantie"),"x",IF(AND($E$2="Zuid",VLOOKUP($L$4&$L13&R$10,Data!$A:$H,8,FALSE)="Vakantie"),"x","")))))) | S13: =IF(AND($E$2="Noord",ISNA(VLOOKUP($L$4&$L13&S$10,Data!$A:$H,6,FALSE)=TRUE)),"",IF(AND($E$2="Midden",ISNA(VLOOKUP($L$4&$L13&S$10,Data!$A:$H,7,FALSE)=TRUE)),"",IF(AND($E$2="Zuid",ISNA(VLOOKUP($L$4&$L13&S$10,Data!$A:$H,8,FALSE)=TRUE)),"",IF(AND($E$2="Noord",VLOOKUP($L$4&$L13&S$10,Data!$A:$H,6,FALSE)="Vakantie"),"x",IF(AND($E$2="Midden",VLOOKUP($L$4&$L13&S$10,Data!$A:$H,7,FALSE)="Vakantie"),"x",IF(AND($E$2="Zuid",VLOOKUP($L$4&$L13&S$10,Data!$A:$H,8,FALSE)="Vakantie"),"x","")))))) | T13: =SUM(O13:S13) -> 0 | V13: 3 | W13: =+W12+7 -> 46405 | X13: =W14-3 -> 46409 | Y13: =IF(AND($E$2="Noord",ISNA(VLOOKUP($V$4&$V13&Y$10,Data!$A:$H,6,FALSE)=TRUE)),"",IF(AND($E$2="Midden",ISNA(VLOOKUP($V$4&$V13&Y$10,Data!$A:$H,7,FALSE)=TRUE)),"",IF(AND($E$2="Zuid",ISNA(VLOOKUP($V$4&$V13&Y$10,Data!$A:$H,8,FALSE)=TRUE)),"",IF(AND($E$2="Noord",VLOOKUP($V$4&$V13&Y$10,Data!$A:$H,6,FALSE)="Vakantie"),"x",IF(AND($E$2="Midden",VLOOKUP($V$4&$V13&Y$10,Data!$A:$H,7,FALSE)="Vakantie"),"x",IF(AND($E$2="Zuid",VLOOKUP($V$4&$V13&Y$10,Data!$A:$H,8,FALSE)="Vakantie"),"x","")))))) | Z13: =IF(AND($E$2="Noord",ISNA(VLOOKUP($V$4&$V13&Z$10,Data!$A:$H,6,FALSE)=TRUE)),"",IF(AND($E$2="Midden",ISNA(VLOOKUP($V$4&$V13&Z$10,Data!$A:$H,7,FALSE)=TRUE)),"",IF(AND($E$2="Zuid",ISNA(VLOOKUP($V$4&$V13&Z$10,Data!$A:$H,8,FALSE)=TRUE)),"",IF(AND($E$2="Noord",VLOOKUP($V$4&$V13&Z$10,Data!$A:$H,6,FALSE)="Vakantie"),"x",IF(AND($E$2="Midden",VLOOKUP($V$4&$V13&Z$10,Data!$A:$H,7,FALSE)="Vakantie"),"x",IF(AND($E$2="Zuid",VLOOKUP($V$4&$V13&Z$10,Data!$A:$H,8,FALSE)="Vakantie"),"x","")))))) | AA13: =IF(AND($E$2="Noord",ISNA(VLOOKUP($V$4&$V13&AA$10,Data!$A:$H,6,FALSE)=TRUE)),"",IF(AND($E$2="Midden",ISNA(VLOOKUP($V$4&$V13&AA$10,Data!$A:$H,7,FALSE)=TRUE)),"",IF(AND($E$2="Zuid",ISNA(VLOOKUP($V$4&$V13&AA$10,Data!$A:$H,8,FALSE)=TRUE)),"",IF(AND($E$2="Noord",VLOOKUP($V$4&$V13&AA$10,Data!$A:$H,6,FALSE)="Vakantie"),"x",IF(AND($E$2="Midden",VLOOKUP($V$4&$V13&AA$10,Data!$A:$H,7,FALSE)="Vakantie"),"x",IF(AND($E$2="Zuid",VLOOKUP($V$4&$V13&AA$10,Data!$A:$H,8,FALSE)="Vakantie"),"x","")))))) | AB13: =IF(AND($E$2="Noord",ISNA(VLOOKUP($V$4&$V13&AB$10,Data!$A:$H,6,FALSE)=TRUE)),"",IF(AND($E$2="Midden",ISNA(VLOOKUP($V$4&$V13&AB$10,Data!$A:$H,7,FALSE)=TRUE)),"",IF(AND($E$2="Zuid",ISNA(VLOOKUP($V$4&$V13&AB$10,Data!$A:$H,8,FALSE)=TRUE)),"",IF(AND($E$2="Noord",VLOOKUP($V$4&$V13&AB$10,Data!$A:$H,6,FALSE)="Vakantie"),"x",IF(AND($E$2="Midden",VLOOKUP($V$4&$V13&AB$10,Data!$A:$H,7,FALSE)="Vakantie"),"x",IF(AND($E$2="Zuid",VLOOKUP($V$4&$V13&AB$10,Data!$A:$H,8,FALSE)="Vakantie"),"x","")))))) | AC13: =IF(AND($E$2="Noord",ISNA(VLOOKUP($V$4&$V13&AC$10,Data!$A:$H,6,FALSE)=TRUE)),"",IF(AND($E$2="Midden",ISNA(VLOOKUP($V$4&$V13&AC$10,Data!$A:$H,7,FALSE)=TRUE)),"",IF(AND($E$2="Zuid",ISNA(VLOOKUP($V$4&$V13&AC$10,Data!$A:$H,8,FALSE)=TRUE)),"",IF(AND($E$2="Noord",VLOOKUP($V$4&$V13&AC$10,Data!$A:$H,6,FALSE)="Vakantie"),"x",IF(AND($E$2="Midden",VLOOKUP($V$4&$V13&AC$10,Data!$A:$H,7,FALSE)="Vakantie"),"x",IF(AND($E$2="Zuid",VLOOKUP($V$4&$V13&AC$10,Data!$A:$H,8,FALSE)="Vakantie"),"x","")))))) | AD13: =SUM(Y13:AC13) -> 0 | AI13: =IF(SUM($E13:$I13)=0,1,2) -> 1 | AJ13: =IF((COUNTIF($AI$11:$AI13,2))>1,"",IF(OR(AI12="",AI12=2),"",IF(AI13=1,"",IF(AND($AI13=2,E13<>""),$C13,IF(AND($AI13=2,F13<>""),$C13+1,IF(AND($AI13=2,G13<>""),$C13+2,IF(AND($AI13=2,H13<>""),$C13+3,IF(AND($AI13=2,I13<>""),$C13+4,"")))))))) | AK13: =IF(SUM(E14:$I$62)+$T$68+$AD$68=0,1,2) -> 1 | AL13: =IF(AK12="","",IF(AK12=1,"",IF(AK13<>1,"",IF(AND(AK13=1,I13<>""),C13+4,IF(AND(AK13=1,H13<>""),C13+3,IF(AND(AK13=1,G13<>""),C13+2,IF(AND(AK13=1,F13<>""),C13+1,IF(AND(AK13=1,E13<>""),C13,"")))))))) | AM13: =IF(SUM($O13:$S13)=0,1,2) -> 1 | AN13: =IF((COUNTIF($AI$11:$AI$64,2)+COUNTIF($AM12:$AM13,2))>1,"",IF(OR(AM12="",AM12=2),"",IF(AM13=1,"",IF(AND(AM13=2,O13<>""),M13,IF(AND(AM13=2,P13<>""),M13+1,IF(AND(AM13=2,Q13<>""),M13+2,IF(AND(AM13=2,R13<>""),M13+3,IF(AND(AM13=2,S13<>""),M13+4,"")))))))) | AO13: =IF(SUM(O14:$S$62)+$AD$68=0,1,2) -> 1 | AP13: =IF(AO12="","",IF(AO12=1,"",IF(AO13<>1,"",IF(AND(AO13=1,S13<>""),M13+4,IF(AND(AO13=1,R13<>""),M13+3,IF(AND(AO13=1,Q13<>""),M13+2,IF(AND(AO13=1,P13<>""),M13+1,IF(AND(AO13=1,O13<>""),M13,"")))))))) | AQ13: =IF(SUM($O14:$S$62)=0,1,2) -> 1 | AR13: =IF((COUNTIF($AI$11:$AI$64,2)+COUNTIF($AM$11:$AM$64,2)+COUNTIF(AQ$12:$AQ13,2))>1,"",IF(OR(AQ12="",AQ12=2),"",IF(AQ13=1,"",IF(AND(AQ13=2,Y13<>""),W13,IF(AND(AQ13=2,Z13<>""),W13+1,IF(AND(AQ13=2,AA13<>""),W13+2,IF(AND(AQ13=2,AB13<>""),W13+3,IF(AND(AQ13=2,AC13<>""),W13+4,"")))))))) | AS13: =IF(SUM(Y14:$AC$62)=0,1,2) -> 1 | AT13: =IF(AS12="","",IF(AS12=1,"",IF(AS13<>1,"",IF(AND(AS13=1,AC13<>""),W13+4,IF(AND(AS13=1,AB13<>""),W13+3,IF(AND(AS13=1,AA13<>""),W13+2,IF(AND(AS13=1,Z13<>""),W13+1,IF(AND(AS13=1,Y13<>""),W13,""))))))))
B14: 4 | C14: =C13+7 -> 45677 | D14: =C15-3 -> 45681 | E14: =IF(AND($E$2="Noord",ISNA(VLOOKUP($B$4&$B14&E$10,Data!$A:$H,6,FALSE)=TRUE)),"",IF(AND($E$2="Midden",ISNA(VLOOKUP($B$4&$B14&E$10,Data!$A:$H,7,FALSE)=TRUE)),"",IF(AND($E$2="Zuid",ISNA(VLOOKUP($B$4&$B14&E$10,Data!$A:$H,8,FALSE)=TRUE)),"",IF(AND($E$2="Noord",VLOOKUP($B$4&$B14&E$10,Data!$A:$H,6,FALSE)="Vakantie"),"x",IF(AND($E$2="Midden",VLOOKUP($B$4&$B14&E$10,Data!$A:$H,7,FALSE)="Vakantie"),"x",IF(AND($E$2="Zuid",VLOOKUP($B$4&$B14&E$10,Data!$A:$H,8,FALSE)="Vakantie"),"x","")))))) | F14: =IF(AND($E$2="Noord",ISNA(VLOOKUP($B$4&$B14&F$10,Data!$A:$H,6,FALSE)=TRUE)),"",IF(AND($E$2="Midden",ISNA(VLOOKUP($B$4&$B14&F$10,Data!$A:$H,7,FALSE)=TRUE)),"",IF(AND($E$2="Zuid",ISNA(VLOOKUP($B$4&$B14&F$10,Data!$A:$H,8,FALSE)=TRUE)),"",IF(AND($E$2="Noord",VLOOKUP($B$4&$B14&F$10,Data!$A:$H,6,FALSE)="Vakantie"),"x",IF(AND($E$2="Midden",VLOOKUP($B$4&$B14&F$10,Data!$A:$H,7,FALSE)="Vakantie"),"x",IF(AND($E$2="Zuid",VLOOKUP($B$4&$B14&F$10,Data!$A:$H,8,FALSE)="Vakantie"),"x","")))))) | G14: =IF(AND($E$2="Noord",ISNA(VLOOKUP($B$4&$B14&G$10,Data!$A:$H,6,FALSE)=TRUE)),"",IF(AND($E$2="Midden",ISNA(VLOOKUP($B$4&$B14&G$10,Data!$A:$H,7,FALSE)=TRUE)),"",IF(AND($E$2="Zuid",ISNA(VLOOKUP($B$4&$B14&G$10,Data!$A:$H,8,FALSE)=TRUE)),"",IF(AND($E$2="Noord",VLOOKUP($B$4&$B14&G$10,Data!$A:$H,6,FALSE)="Vakantie"),"x",IF(AND($E$2="Midden",VLOOKUP($B$4&$B14&G$10,Data!$A:$H,7,FALSE)="Vakantie"),"x",IF(AND($E$2="Zuid",VLOOKUP($B$4&$B14&G$10,Data!$A:$H,8,FALSE)="Vakantie"),"x","")))))) | H14: =IF(AND($E$2="Noord",ISNA(VLOOKUP($B$4&$B14&H$10,Data!$A:$H,6,FALSE)=TRUE)),"",IF(AND($E$2="Midden",ISNA(VLOOKUP($B$4&$B14&H$10,Data!$A:$H,7,FALSE)=TRUE)),"",IF(AND($E$2="Zuid",ISNA(VLOOKUP($B$4&$B14&H$10,Data!$A:$H,8,FALSE)=TRUE)),"",IF(AND($E$2="Noord",VLOOKUP($B$4&$B14&H$10,Data!$A:$H,6,FALSE)="Vakantie"),"x",IF(AND($E$2="Midden",VLOOKUP($B$4&$B14&H$10,Data!$A:$H,7,FALSE)="Vakantie"),"x",IF(AND($E$2="Zuid",VLOOKUP($B$4&$B14&H$10,Data!$A:$H,8,FALSE)="Vakantie"),"x","")))))) | I14: =IF(AND($E$2="Noord",ISNA(VLOOKUP($B$4&$B14&I$10,Data!$A:$H,6,FALSE)=TRUE)),"",IF(AND($E$2="Midden",ISNA(VLOOKUP($B$4&$B14&I$10,Data!$A:$H,7,FALSE)=TRUE)),"",IF(AND($E$2="Zuid",ISNA(VLOOKUP($B$4&$B14&I$10,Data!$A:$H,8,FALSE)=TRUE)),"",IF(AND($E$2="Noord",VLOOKUP($B$4&$B14&I$10,Data!$A:$H,6,FALSE)="Vakantie"),"x",IF(AND($E$2="Midden",VLOOKUP($B$4&$B14&I$10,Data!$A:$H,7,FALSE)="Vakantie"),"x",IF(AND($E$2="Zuid",VLOOKUP($B$4&$B14&I$10,Data!$A:$H,8,FALSE)="Vakantie"),"x","")))))) | J14: =SUM(E14:I14) -> 0 | L14: 4 | M14: =M13+7 -> 46041 | N14: =+M15-3 -> 46045 | O14: =IF(AND($E$2="Noord",ISNA(VLOOKUP($L$4&$L14&O$10,Data!$A:$H,6,FALSE)=TRUE)),"",IF(AND($E$2="Midden",ISNA(VLOOKUP($L$4&$L14&O$10,Data!$A:$H,7,FALSE)=TRUE)),"",IF(AND($E$2="Zuid",ISNA(VLOOKUP($L$4&$L14&O$10,Data!$A:$H,8,FALSE)=TRUE)),"",IF(AND($E$2="Noord",VLOOKUP($L$4&$L14&O$10,Data!$A:$H,6,FALSE)="Vakantie"),"x",IF(AND($E$2="Midden",VLOOKUP($L$4&$L14&O$10,Data!$A:$H,7,FALSE)="Vakantie"),"x",IF(AND($E$2="Zuid",VLOOKUP($L$4&$L14&O$10,Data!$A:$H,8,FALSE)="Vakantie"),"x","")))))) | P14: =IF(AND($E$2="Noord",ISNA(VLOOKUP($L$4&$L14&P$10,Data!$A:$H,6,FALSE)=TRUE)),"",IF(AND($E$2="Midden",ISNA(VLOOKUP($L$4&$L14&P$10,Data!$A:$H,7,FALSE)=TRUE)),"",IF(AND($E$2="Zuid",ISNA(VLOOKUP($L$4&$L14&P$10,Data!$A:$H,8,FALSE)=TRUE)),"",IF(AND($E$2="Noord",VLOOKUP($L$4&$L14&P$10,Data!$A:$H,6,FALSE)="Vakantie"),"x",IF(AND($E$2="Midden",VLOOKUP($L$4&$L14&P$10,Data!$A:$H,7,FALSE)="Vakantie"),"x",IF(AND($E$2="Zuid",VLOOKUP($L$4&$L14&P$10,Data!$A:$H,8,FALSE)="Vakantie"),"x","")))))) | Q14: =IF(AND($E$2="Noord",ISNA(VLOOKUP($L$4&$L14&Q$10,Data!$A:$H,6,FALSE)=TRUE)),"",IF(AND($E$2="Midden",ISNA(VLOOKUP($L$4&$L14&Q$10,Data!$A:$H,7,FALSE)=TRUE)),"",IF(AND($E$2="Zuid",ISNA(VLOOKUP($L$4&$L14&Q$10,Data!$A:$H,8,FALSE)=TRUE)),"",IF(AND($E$2="Noord",VLOOKUP($L$4&$L14&Q$10,Data!$A:$H,6,FALSE)="Vakantie"),"x",IF(AND($E$2="Midden",VLOOKUP($L$4&$L14&Q$10,Data!$A:$H,7,FALSE)="Vakantie"),"x",IF(AND($E$2="Zuid",VLOOKUP($L$4&$L14&Q$10,Data!$A:$H,8,FALSE)="Vakantie"),"x","")))))) | R14: =IF(AND($E$2="Noord",ISNA(VLOOKUP($L$4&$L14&R$10,Data!$A:$H,6,FALSE)=TRUE)),"",IF(AND($E$2="Midden",ISNA(VLOOKUP($L$4&$L14&R$10,Data!$A:$H,7,FALSE)=TRUE)),"",IF(AND($E$2="Zuid",ISNA(VLOOKUP($L$4&$L14&R$10,Data!$A:$H,8,FALSE)=TRUE)),"",IF(AND($E$2="Noord",VLOOKUP($L$4&$L14&R$10,Data!$A:$H,6,FALSE)="Vakantie"),"x",IF(AND($E$2="Midden",VLOOKUP($L$4&$L14&R$10,Data!$A:$H,7,FALSE)="Vakantie"),"x",IF(AND($E$2="Zuid",VLOOKUP($L$4&$L14&R$10,Data!$A:$H,8,FALSE)="Vakantie"),"x","")))))) | S14: =IF(AND($E$2="Noord",ISNA(VLOOKUP($L$4&$L14&S$10,Data!$A:$H,6,FALSE)=TRUE)),"",IF(AND($E$2="Midden",ISNA(VLOOKUP($L$4&$L14&S$10,Data!$A:$H,7,FALSE)=TRUE)),"",IF(AND($E$2="Zuid",ISNA(VLOOKUP($L$4&$L14&S$10,Data!$A:$H,8,FALSE)=TRUE)),"",IF(AND($E$2="Noord",VLOOKUP($L$4&$L14&S$10,Data!$A:$H,6,FALSE)="Vakantie"),"x",IF(AND($E$2="Midden",VLOOKUP($L$4&$L14&S$10,Data!$A:$H,7,FALSE)="Vakantie"),"x",IF(AND($E$2="Zuid",VLOOKUP($L$4&$L14&S$10,Data!$A:$H,8,FALSE)="Vakantie"),"x","")))))) | T14: =SUM(O14:S14) -> 0 | V14: 4 | W14: =+W13+7 -> 46412 | X14: =W15-3 -> 46416 | Y14: =IF(AND($E$2="Noord",ISNA(VLOOKUP($V$4&$V14&Y$10,Data!$A:$H,6,FALSE)=TRUE)),"",IF(AND($E$2="Midden",ISNA(VLOOKUP($V$4&$V14&Y$10,Data!$A:$H,7,FALSE)=TRUE)),"",IF(AND($E$2="Zuid",ISNA(VLOOKUP($V$4&$V14&Y$10,Data!$A:$H,8,FALSE)=TRUE)),"",IF(AND($E$2="Noord",VLOOKUP($V$4&$V14&Y$10,Data!$A:$H,6,FALSE)="Vakantie"),"x",IF(AND($E$2="Midden",VLOOKUP($V$4&$V14&Y$10,Data!$A:$H,7,FALSE)="Vakantie"),"x",IF(AND($E$2="Zuid",VLOOKUP($V$4&$V14&Y$10,Data!$A:$H,8,FALSE)="Vakantie"),"x","")))))) | Z14: =IF(AND($E$2="Noord",ISNA(VLOOKUP($V$4&$V14&Z$10,Data!$A:$H,6,FALSE)=TRUE)),"",IF(AND($E$2="Midden",ISNA(VLOOKUP($V$4&$V14&Z$10,Data!$A:$H,7,FALSE)=TRUE)),"",IF(AND($E$2="Zuid",ISNA(VLOOKUP($V$4&$V14&Z$10,Data!$A:$H,8,FALSE)=TRUE)),"",IF(AND($E$2="Noord",VLOOKUP($V$4&$V14&Z$10,Data!$A:$H,6,FALSE)="Vakantie"),"x",IF(AND($E$2="Midden",VLOOKUP($V$4&$V14&Z$10,Data!$A:$H,7,FALSE)="Vakantie"),"x",IF(AND($E$2="Zuid",VLOOKUP($V$4&$V14&Z$10,Data!$A:$H,8,FALSE)="Vakantie"),"x","")))))) | AA14: =IF(AND($E$2="Noord",ISNA(VLOOKUP($V$4&$V14&AA$10,Data!$A:$H,6,FALSE)=TRUE)),"",IF(AND($E$2="Midden",ISNA(VLOOKUP($V$4&$V14&AA$10,Data!$A:$H,7,FALSE)=TRUE)),"",IF(AND($E$2="Zuid",ISNA(VLOOKUP($V$4&$V14&AA$10,Data!$A:$H,8,FALSE)=TRUE)),"",IF(AND($E$2="Noord",VLOOKUP($V$4&$V14&AA$10,Data!$A:$H,6,FALSE)="Vakantie"),"x",IF(AND($E$2="Midden",VLOOKUP($V$4&$V14&AA$10,Data!$A:$H,7,FALSE)="Vakantie"),"x",IF(AND($E$2="Zuid",VLOOKUP($V$4&$V14&AA$10,Data!$A:$H,8,FALSE)="Vakantie"),"x","")))))) | AB14: =IF(AND($E$2="Noord",ISNA(VLOOKUP($V$4&$V14&AB$10,Data!$A:$H,6,FALSE)=TRUE)),"",IF(AND($E$2="Midden",ISNA(VLOOKUP($V$4&$V14&AB$10,Data!$A:$H,7,FALSE)=TRUE)),"",IF(AND($E$2="Zuid",ISNA(VLOOKUP($V$4&$V14&AB$10,Data!$A:$H,8,FALSE)=TRUE)),"",IF(AND($E$2="Noord",VLOOKUP($V$4&$V14&AB$10,Data!$A:$H,6,FALSE)="Vakantie"),"x",IF(AND($E$2="Midden",VLOOKUP($V$4&$V14&AB$10,Data!$A:$H,7,FALSE)="Vakantie"),"x",IF(AND($E$2="Zuid",VLOOKUP($V$4&$V14&AB$10,Data!$A:$H,8,FALSE)="Vakantie"),"x","")))))) | AC14: =IF(AND($E$2="Noord",ISNA(VLOOKUP($V$4&$V14&AC$10,Data!$A:$H,6,FALSE)=TRUE)),"",IF(AND($E$2="Midden",ISNA(VLOOKUP($V$4&$V14&AC$10,Data!$A:$H,7,FALSE)=TRUE)),"",IF(AND($E$2="Zuid",ISNA(VLOOKUP($V$4&$V14&AC$10,Data!$A:$H,8,FALSE)=TRUE)),"",IF(AND($E$2="Noord",VLOOKUP($V$4&$V14&AC$10,Data!$A:$H,6,FALSE)="Vakantie"),"x",IF(AND($E$2="Midden",VLOOKUP($V$4&$V14&AC$10,Data!$A:$H,7,FALSE)="Vakantie"),"x",IF(AND($E$2="Zuid",VLOOKUP($V$4&$V14&AC$10,Data!$A:$H,8,FALSE)="Vakantie"),"x","")))))) | AD14: =SUM(Y14:AC14) -> 0 | AI14: =IF(SUM($E14:$I14)=0,1,2) -> 1 | AJ14: =IF((COUNTIF($AI$11:$AI14,2))>1,"",IF(OR(AI13="",AI13=2),"",IF(AI14=1,"",IF(AND($AI14=2,E14<>""),$C14,IF(AND($AI14=2,F14<>""),$C14+1,IF(AND($AI14=2,G14<>""),$C14+2,IF(AND($AI14=2,H14<>""),$C14+3,IF(AND($AI14=2,I14<>""),$C14+4,"")))))))) | AK14: =IF(SUM(E15:$I$62)+$T$68+$AD$68=0,1,2) -> 1 | AL14: =IF(AK13="","",IF(AK13=1,"",IF(AK14<>1,"",IF(AND(AK14=1,I14<>""),C14+4,IF(AND(AK14=1,H14<>""),C14+3,IF(AND(AK14=1,G14<>""),C14+2,IF(AND(AK14=1,F14<>""),C14+1,IF(AND(AK14=1,E14<>""),C14,"")))))))) | AM14: =IF(SUM($O14:$S14)=0,1,2) -> 1 | AN14: =IF((COUNTIF($AI$11:$AI$64,2)+COUNTIF($AM13:$AM14,2))>1,"",IF(OR(AM13="",AM13=2),"",IF(AM14=1,"",IF(AND(AM14=2,O14<>""),M14,IF(AND(AM14=2,P14<>""),M14+1,IF(AND(AM14=2,Q14<>""),M14+2,IF(AND(AM14=2,R14<>""),M14+3,IF(AND(AM14=2,S14<>""),M14+4,"")))))))) | AO14: =IF(SUM(O15:$S$62)+$AD$68=0,1,2) -> 1 | AP14: =IF(AO13="","",IF(AO13=1,"",IF(AO14<>1,"",IF(AND(AO14=1,S14<>""),M14+4,IF(AND(AO14=1,R14<>""),M14+3,IF(AND(AO14=1,Q14<>""),M14+2,IF(AND(AO14=1,P14<>""),M14+1,IF(AND(AO14=1,O14<>""),M14,"")))))))) | AQ14: =IF(SUM($O15:$S$62)=0,1,2) -> 1 | AR14: =IF((COUNTIF($AI$11:$AI$64,2)+COUNTIF($AM$11:$AM$64,2)+COUNTIF(AQ$12:$AQ14,2))>1,"",IF(OR(AQ13="",AQ13=2),"",IF(AQ14=1,"",IF(AND(AQ14=2,Y14<>""),W14,IF(AND(AQ14=2,Z14<>""),W14+1,IF(AND(AQ14=2,AA14<>""),W14+2,IF(AND(AQ14=2,AB14<>""),W14+3,IF(AND(AQ14=2,AC14<>""),W14+4,"")))))))) | AS14: =IF(SUM(Y15:$AC$62)=0,1,2) -> 1 | AT14: =IF(AS13="","",IF(AS13=1,"",IF(AS14<>1,"",IF(AND(AS14=1,AC14<>""),W14+4,IF(AND(AS14=1,AB14<>""),W14+3,IF(AND(AS14=1,AA14<>""),W14+2,IF(AND(AS14=1,Z14<>""),W14+1,IF(AND(AS14=1,Y14<>""),W14,""))))))))
B15: 5 | C15: =C14+7 -> 45684 | D15: =C16-3 -> 45688 | E15: =IF(AND($E$2="Noord",ISNA(VLOOKUP($B$4&$B15&E$10,Data!$A:$H,6,FALSE)=TRUE)),"",IF(AND($E$2="Midden",ISNA(VLOOKUP($B$4&$B15&E$10,Data!$A:$H,7,FALSE)=TRUE)),"",IF(AND($E$2="Zuid",ISNA(VLOOKUP($B$4&$B15&E$10,Data!$A:$H,8,FALSE)=TRUE)),"",IF(AND($E$2="Noord",VLOOKUP($B$4&$B15&E$10,Data!$A:$H,6,FALSE)="Vakantie"),"x",IF(AND($E$2="Midden",VLOOKUP($B$4&$B15&E$10,Data!$A:$H,7,FALSE)="Vakantie"),"x",IF(AND($E$2="Zuid",VLOOKUP($B$4&$B15&E$10,Data!$A:$H,8,FALSE)="Vakantie"),"x","")))))) | F15: =IF(AND($E$2="Noord",ISNA(VLOOKUP($B$4&$B15&F$10,Data!$A:$H,6,FALSE)=TRUE)),"",IF(AND($E$2="Midden",ISNA(VLOOKUP($B$4&$B15&F$10,Data!$A:$H,7,FALSE)=TRUE)),"",IF(AND($E$2="Zuid",ISNA(VLOOKUP($B$4&$B15&F$10,Data!$A:$H,8,FALSE)=TRUE)),"",IF(AND($E$2="Noord",VLOOKUP($B$4&$B15&F$10,Data!$A:$H,6,FALSE)="Vakantie"),"x",IF(AND($E$2="Midden",VLOOKUP($B$4&$B15&F$10,Data!$A:$H,7,FALSE)="Vakantie"),"x",IF(AND($E$2="Zuid",VLOOKUP($B$4&$B15&F$10,Data!$A:$H,8,FALSE)="Vakantie"),"x","")))))) | G15: =IF(AND($E$2="Noord",ISNA(VLOOKUP($B$4&$B15&G$10,Data!$A:$H,6,FALSE)=TRUE)),"",IF(AND($E$2="Midden",ISNA(VLOOKUP($B$4&$B15&G$10,Data!$A:$H,7,FALSE)=TRUE)),"",IF(AND($E$2="Zuid",ISNA(VLOOKUP($B$4&$B15&G$10,Data!$A:$H,8,FALSE)=TRUE)),"",IF(AND($E$2="Noord",VLOOKUP($B$4&$B15&G$10,Data!$A:$H,6,FALSE)="Vakantie"),"x",IF(AND($E$2="Midden",VLOOKUP($B$4&$B15&G$10,Data!$A:$H,7,FALSE)="Vakantie"),"x",IF(AND($E$2="Zuid",VLOOKUP($B$4&$B15&G$10,Data!$A:$H,8,FALSE)="Vakantie"),"x","")))))) | H15: =IF(AND($E$2="Noord",ISNA(VLOOKUP($B$4&$B15&H$10,Data!$A:$H,6,FALSE)=TRUE)),"",IF(AND($E$2="Midden",ISNA(VLOOKUP($B$4&$B15&H$10,Data!$A:$H,7,FALSE)=TRUE)),"",IF(AND($E$2="Zuid",ISNA(VLOOKUP($B$4&$B15&H$10,Data!$A:$H,8,FALSE)=TRUE)),"",IF(AND($E$2="Noord",VLOOKUP($B$4&$B15&H$10,Data!$A:$H,6,FALSE)="Vakantie"),"x",IF(AND($E$2="Midden",VLOOKUP($B$4&$B15&H$10,Data!$A:$H,7,FALSE)="Vakantie"),"x",IF(AND($E$2="Zuid",VLOOKUP($B$4&$B15&H$10,Data!$A:$H,8,FALSE)="Vakantie"),"x","")))))) | I15: =IF(AND($E$2="Noord",ISNA(VLOOKUP($B$4&$B15&I$10,Data!$A:$H,6,FALSE)=TRUE)),"",IF(AND($E$2="Midden",ISNA(VLOOKUP($B$4&$B15&I$10,Data!$A:$H,7,FALSE)=TRUE)),"",IF(AND($E$2="Zuid",ISNA(VLOOKUP($B$4&$B15&I$10,Data!$A:$H,8,FALSE)=TRUE)),"",IF(AND($E$2="Noord",VLOOKUP($B$4&$B15&I$10,Data!$A:$H,6,FALSE)="Vakantie"),"x",IF(AND($E$2="Midden",VLOOKUP($B$4&$B15&I$10,Data!$A:$H,7,FALSE)="Vakantie"),"x",IF(AND($E$2="Zuid",VLOOKUP($B$4&$B15&I$10,Data!$A:$H,8,FALSE)="Vakantie"),"x","")))))) | J15: =SUM(E15:I15) -> 0 | L15: 5 | M15: =M14+7 -> 46048 | N15: =+M16-3 -> 46052 | O15: =IF(AND($E$2="Noord",ISNA(VLOOKUP($L$4&$L15&O$10,Data!$A:$H,6,FALSE)=TRUE)),"",IF(AND($E$2="Midden",ISNA(VLOOKUP($L$4&$L15&O$10,Data!$A:$H,7,FALSE)=TRUE)),"",IF(AND($E$2="Zuid",ISNA(VLOOKUP($L$4&$L15&O$10,Data!$A:$H,8,FALSE)=TRUE)),"",IF(AND($E$2="Noord",VLOOKUP($L$4&$L15&O$10,Data!$A:$H,6,FALSE)="Vakantie"),"x",IF(AND($E$2="Midden",VLOOKUP($L$4&$L15&O$10,Data!$A:$H,7,FALSE)="Vakantie"),"x",IF(AND($E$2="Zuid",VLOOKUP($L$4&$L15&O$10,Data!$A:$H,8,FALSE)="Vakantie"),"x","")))))) | P15: =IF(AND($E$2="Noord",ISNA(VLOOKUP($L$4&$L15&P$10,Data!$A:$H,6,FALSE)=TRUE)),"",IF(AND($E$2="Midden",ISNA(VLOOKUP($L$4&$L15&P$10,Data!$A:$H,7,FALSE)=TRUE)),"",IF(AND($E$2="Zuid",ISNA(VLOOKUP($L$4&$L15&P$10,Data!$A:$H,8,FALSE)=TRUE)),"",IF(AND($E$2="Noord",VLOOKUP($L$4&$L15&P$10,Data!$A:$H,6,FALSE)="Vakantie"),"x",IF(AND($E$2="Midden",VLOOKUP($L$4&$L15&P$10,Data!$A:$H,7,FALSE)="Vakantie"),"x",IF(AND($E$2="Zuid",VLOOKUP($L$4&$L15&P$10,Data!$A:$H,8,FALSE)="Vakantie"),"x","")))))) | Q15: =IF(AND($E$2="Noord",ISNA(VLOOKUP($L$4&$L15&Q$10,Data!$A:$H,6,FALSE)=TRUE)),"",IF(AND($E$2="Midden",ISNA(VLOOKUP($L$4&$L15&Q$10,Data!$A:$H,7,FALSE)=TRUE)),"",IF(AND($E$2="Zuid",ISNA(VLOOKUP($L$4&$L15&Q$10,Data!$A:$H,8,FALSE)=TRUE)),"",IF(AND($E$2="Noord",VLOOKUP($L$4&$L15&Q$10,Data!$A:$H,6,FALSE)="Vakantie"),"x",IF(AND($E$2="Midden",VLOOKUP($L$4&$L15&Q$10,Data!$A:$H,7,FALSE)="Vakantie"),"x",IF(AND($E$2="Zuid",VLOOKUP($L$4&$L15&Q$10,Data!$A:$H,8,FALSE)="Vakantie"),"x","")))))) | R15: =IF(AND($E$2="Noord",ISNA(VLOOKUP($L$4&$L15&R$10,Data!$A:$H,6,FALSE)=TRUE)),"",IF(AND($E$2="Midden",ISNA(VLOOKUP($L$4&$L15&R$10,Data!$A:$H,7,FALSE)=TRUE)),"",IF(AND($E$2="Zuid",ISNA(VLOOKUP($L$4&$L15&R$10,Data!$A:$H,8,FALSE)=TRUE)),"",IF(AND($E$2="Noord",VLOOKUP($L$4&$L15&R$10,Data!$A:$H,6,FALSE)="Vakantie"),"x",IF(AND($E$2="Midden",VLOOKUP($L$4&$L15&R$10,Data!$A:$H,7,FALSE)="Vakantie"),"x",IF(AND($E$2="Zuid",VLOOKUP($L$4&$L15&R$10,Data!$A:$H,8,FALSE)="Vakantie"),"x","")))))) | S15: =IF(AND($E$2="Noord",ISNA(VLOOKUP($L$4&$L15&S$10,Data!$A:$H,6,FALSE)=TRUE)),"",IF(AND($E$2="Midden",ISNA(VLOOKUP($L$4&$L15&S$10,Data!$A:$H,7,FALSE)=TRUE)),"",IF(AND($E$2="Zuid",ISNA(VLOOKUP($L$4&$L15&S$10,Data!$A:$H,8,FALSE)=TRUE)),"",IF(AND($E$2="Noord",VLOOKUP($L$4&$L15&S$10,Data!$A:$H,6,FALSE)="Vakantie"),"x",IF(AND($E$2="Midden",VLOOKUP($L$4&$L15&S$10,Data!$A:$H,7,FALSE)="Vakantie"),"x",IF(AND($E$2="Zuid",VLOOKUP($L$4&$L15&S$10,Data!$A:$H,8,FALSE)="Vakantie"),"x","")))))) | T15: =SUM(O15:S15) -> 0 | V15: 5 | W15: =+W14+7 -> 46419 | X15: =W16-3 -> 46423 | Y15: =IF(AND($E$2="Noord",ISNA(VLOOKUP($V$4&$V15&Y$10,Data!$A:$H,6,FALSE)=TRUE)),"",IF(AND($E$2="Midden",ISNA(VLOOKUP($V$4&$V15&Y$10,Data!$A:$H,7,FALSE)=TRUE)),"",IF(AND($E$2="Zuid",ISNA(VLOOKUP($V$4&$V15&Y$10,Data!$A:$H,8,FALSE)=TRUE)),"",IF(AND($E$2="Noord",VLOOKUP($V$4&$V15&Y$10,Data!$A:$H,6,FALSE)="Vakantie"),"x",IF(AND($E$2="Midden",VLOOKUP($V$4&$V15&Y$10,Data!$A:$H,7,FALSE)="Vakantie"),"x",IF(AND($E$2="Zuid",VLOOKUP($V$4&$V15&Y$10,Data!$A:$H,8,FALSE)="Vakantie"),"x","")))))) | Z15: =IF(AND($E$2="Noord",ISNA(VLOOKUP($V$4&$V15&Z$10,Data!$A:$H,6,FALSE)=TRUE)),"",IF(AND($E$2="Midden",ISNA(VLOOKUP($V$4&$V15&Z$10,Data!$A:$H,7,FALSE)=TRUE)),"",IF(AND($E$2="Zuid",ISNA(VLOOKUP($V$4&$V15&Z$10,Data!$A:$H,8,FALSE)=TRUE)),"",IF(AND($E$2="Noord",VLOOKUP($V$4&$V15&Z$10,Data!$A:$H,6,FALSE)="Vakantie"),"x",IF(AND($E$2="Midden",VLOOKUP($V$4&$V15&Z$10,Data!$A:$H,7,FALSE)="Vakantie"),"x",IF(AND($E$2="Zuid",VLOOKUP($V$4&$V15&Z$10,Data!$A:$H,8,FALSE)="Vakantie"),"x","")))))) | AA15: =IF(AND($E$2="Noord",ISNA(VLOOKUP($V$4&$V15&AA$10,Data!$A:$H,6,FALSE)=TRUE)),"",IF(AND($E$2="Midden",ISNA(VLOOKUP($V$4&$V15&AA$10,Data!$A:$H,7,FALSE)=TRUE)),"",IF(AND($E$2="Zuid",ISNA(VLOOKUP($V$4&$V15&AA$10,Data!$A:$H,8,FALSE)=TRUE)),"",IF(AND($E$2="Noord",VLOOKUP($V$4&$V15&AA$10,Data!$A:$H,6,FALSE)="Vakantie"),"x",IF(AND($E$2="Midden",VLOOKUP($V$4&$V15&AA$10,Data!$A:$H,7,FALSE)="Vakantie"),"x",IF(AND($E$2="Zuid",VLOOKUP($V$4&$V15&AA$10,Data!$A:$H,8,FALSE)="Vakantie"),"x","")))))) | AB15: =IF(AND($E$2="Noord",ISNA(VLOOKUP($V$4&$V15&AB$10,Data!$A:$H,6,FALSE)=TRUE)),"",IF(AND($E$2="Midden",ISNA(VLOOKUP($V$4&$V15&AB$10,Data!$A:$H,7,FALSE)=TRUE)),"",IF(AND($E$2="Zuid",ISNA(VLOOKUP($V$4&$V15&AB$10,Data!$A:$H,8,FALSE)=TRUE)),"",IF(AND($E$2="Noord",VLOOKUP($V$4&$V15&AB$10,Data!$A:$H,6,FALSE)="Vakantie"),"x",IF(AND($E$2="Midden",VLOOKUP($V$4&$V15&AB$10,Data!$A:$H,7,FALSE)="Vakantie"),"x",IF(AND($E$2="Zuid",VLOOKUP($V$4&$V15&AB$10,Data!$A:$H,8,FALSE)="Vakantie"),"x","")))))) | AC15: =IF(AND($E$2="Noord",ISNA(VLOOKUP($V$4&$V15&AC$10,Data!$A:$H,6,FALSE)=TRUE)),"",IF(AND($E$2="Midden",ISNA(VLOOKUP($V$4&$V15&AC$10,Data!$A:$H,7,FALSE)=TRUE)),"",IF(AND($E$2="Zuid",ISNA(VLOOKUP($V$4&$V15&AC$10,Data!$A:$H,8,FALSE)=TRUE)),"",IF(AND($E$2="Noord",VLOOKUP($V$4&$V15&AC$10,Data!$A:$H,6,FALSE)="Vakantie"),"x",IF(AND($E$2="Midden",VLOOKUP($V$4&$V15&AC$10,Data!$A:$H,7,FALSE)="Vakantie"),"x",IF(AND($E$2="Zuid",VLOOKUP($V$4&$V15&AC$10,Data!$A:$H,8,FALSE)="Vakantie"),"x","")))))) | AD15: =SUM(Y15:AC15) -> 0 | AI15: =IF(SUM($E15:$I15)=0,1,2) -> 1 | AJ15: =IF((COUNTIF($AI$11:$AI15,2))>1,"",IF(OR(AI14="",AI14=2),"",IF(AI15=1,"",IF(AND($AI15=2,E15<>""),$C15,IF(AND($AI15=2,F15<>""),$C15+1,IF(AND($AI15=2,G15<>""),$C15+2,IF(AND($AI15=2,H15<>""),$C15+3,IF(AND($AI15=2,I15<>""),$C15+4,"")))))))) | AK15: =IF(SUM(E16:$I$62)+$T$68+$AD$68=0,1,2) -> 1 | AL15: =IF(AK14="","",IF(AK14=1,"",IF(AK15<>1,"",IF(AND(AK15=1,I15<>""),C15+4,IF(AND(AK15=1,H15<>""),C15+3,IF(AND(AK15=1,G15<>""),C15+2,IF(AND(AK15=1,F15<>""),C15+1,IF(AND(AK15=1,E15<>""),C15,"")))))))) | AM15: =IF(SUM($O15:$S15)=0,1,2) -> 1 | AN15: =IF((COUNTIF($AI$11:$AI$64,2)+COUNTIF($AM14:$AM15,2))>1,"",IF(OR(AM14="",AM14=2),"",IF(AM15=1,"",IF(AND(AM15=2,O15<>""),M15,IF(AND(AM15=2,P15<>""),M15+1,IF(AND(AM15=2,Q15<>""),M15+2,IF(AND(AM15=2,R15<>""),M15+3,IF(AND(AM15=2,S15<>""),M15+4,"")))))))) | AO15: =IF(SUM(O16:$S$62)+$AD$68=0,1,2) -> 1 | AP15: =IF(AO14="","",IF(AO14=1,"",IF(AO15<>1,"",IF(AND(AO15=1,S15<>""),M15+4,IF(AND(AO15=1,R15<>""),M15+3,IF(AND(AO15=1,Q15<>""),M15+2,IF(AND(AO15=1,P15<>""),M15+1,IF(AND(AO15=1,O15<>""),M15,"")))))))) | AQ15: =IF(SUM($O16:$S$62)=0,1,2) -> 1 | AR15: =IF((COUNTIF($AI$11:$AI$64,2)+COUNTIF($AM$11:$AM$64,2)+COUNTIF(AQ$12:$AQ15,2))>1,"",IF(OR(AQ14="",AQ14=2),"",IF(AQ15=1,"",IF(AND(AQ15=2,Y15<>""),W15,IF(AND(AQ15=2,Z15<>""),W15+1,IF(AND(AQ15=2,AA15<>""),W15+2,IF(AND(AQ15=2,AB15<>""),W15+3,IF(AND(AQ15=2,AC15<>""),W15+4,"")))))))) | AS15: =IF(SUM(Y16:$AC$62)=0,1,2) -> 1 | AT15: =IF(AS14="","",IF(AS14=1,"",IF(AS15<>1,"",IF(AND(AS15=1,AC15<>""),W15+4,IF(AND(AS15=1,AB15<>""),W15+3,IF(AND(AS15=1,AA15<>""),W15+2,IF(AND(AS15=1,Z15<>""),W15+1,IF(AND(AS15=1,Y15<>""),W15,""))))))))
B16: 6 | C16: =C15+7 -> 45691 | D16: =C17-3 -> 45695 | E16: =IF(AND($E$2="Noord",ISNA(VLOOKUP($B$4&$B16&E$10,Data!$A:$H,6,FALSE)=TRUE)),"",IF(AND($E$2="Midden",ISNA(VLOOKUP($B$4&$B16&E$10,Data!$A:$H,7,FALSE)=TRUE)),"",IF(AND($E$2="Zuid",ISNA(VLOOKUP($B$4&$B16&E$10,Data!$A:$H,8,FALSE)=TRUE)),"",IF(AND($E$2="Noord",VLOOKUP($B$4&$B16&E$10,Data!$A:$H,6,FALSE)="Vakantie"),"x",IF(AND($E$2="Midden",VLOOKUP($B$4&$B16&E$10,Data!$A:$H,7,FALSE)="Vakantie"),"x",IF(AND($E$2="Zuid",VLOOKUP($B$4&$B16&E$10,Data!$A:$H,8,FALSE)="Vakantie"),"x","")))))) | F16: =IF(AND($E$2="Noord",ISNA(VLOOKUP($B$4&$B16&F$10,Data!$A:$H,6,FALSE)=TRUE)),"",IF(AND($E$2="Midden",ISNA(VLOOKUP($B$4&$B16&F$10,Data!$A:$H,7,FALSE)=TRUE)),"",IF(AND($E$2="Zuid",ISNA(VLOOKUP($B$4&$B16&F$10,Data!$A:$H,8,FALSE)=TRUE)),"",IF(AND($E$2="Noord",VLOOKUP($B$4&$B16&F$10,Data!$A:$H,6,FALSE)="Vakantie"),"x",IF(AND($E$2="Midden",VLOOKUP($B$4&$B16&F$10,Data!$A:$H,7,FALSE)="Vakantie"),"x",IF(AND($E$2="Zuid",VLOOKUP($B$4&$B16&F$10,Data!$A:$H,8,FALSE)="Vakantie"),"x","")))))) | G16: =IF(AND($E$2="Noord",ISNA(VLOOKUP($B$4&$B16&G$10,Data!$A:$H,6,FALSE)=TRUE)),"",IF(AND($E$2="Midden",ISNA(VLOOKUP($B$4&$B16&G$10,Data!$A:$H,7,FALSE)=TRUE)),"",IF(AND($E$2="Zuid",ISNA(VLOOKUP($B$4&$B16&G$10,Data!$A:$H,8,FALSE)=TRUE)),"",IF(AND($E$2="Noord",VLOOKUP($B$4&$B16&G$10,Data!$A:$H,6,FALSE)="Vakantie"),"x",IF(AND($E$2="Midden",VLOOKUP($B$4&$B16&G$10,Data!$A:$H,7,FALSE)="Vakantie"),"x",IF(AND($E$2="Zuid",VLOOKUP($B$4&$B16&G$10,Data!$A:$H,8,FALSE)="Vakantie"),"x","")))))) | H16: =IF(AND($E$2="Noord",ISNA(VLOOKUP($B$4&$B16&H$10,Data!$A:$H,6,FALSE)=TRUE)),"",IF(AND($E$2="Midden",ISNA(VLOOKUP($B$4&$B16&H$10,Data!$A:$H,7,FALSE)=TRUE)),"",IF(AND($E$2="Zuid",ISNA(VLOOKUP($B$4&$B16&H$10,Data!$A:$H,8,FALSE)=TRUE)),"",IF(AND($E$2="Noord",VLOOKUP($B$4&$B16&H$10,Data!$A:$H,6,FALSE)="Vakantie"),"x",IF(AND($E$2="Midden",VLOOKUP($B$4&$B16&H$10,Data!$A:$H,7,FALSE)="Vakantie"),"x",IF(AND($E$2="Zuid",VLOOKUP($B$4&$B16&H$10,Data!$A:$H,8,FALSE)="Vakantie"),"x","")))))) | I16: =IF(AND($E$2="Noord",ISNA(VLOOKUP($B$4&$B16&I$10,Data!$A:$H,6,FALSE)=TRUE)),"",IF(AND($E$2="Midden",ISNA(VLOOKUP($B$4&$B16&I$10,Data!$A:$H,7,FALSE)=TRUE)),"",IF(AND($E$2="Zuid",ISNA(VLOOKUP($B$4&$B16&I$10,Data!$A:$H,8,FALSE)=TRUE)),"",IF(AND($E$2="Noord",VLOOKUP($B$4&$B16&I$10,Data!$A:$H,6,FALSE)="Vakantie"),"x",IF(AND($E$2="Midden",VLOOKUP($B$4&$B16&I$10,Data!$A:$H,7,FALSE)="Vakantie"),"x",IF(AND($E$2="Zuid",VLOOKUP($B$4&$B16&I$10,Data!$A:$H,8,FALSE)="Vakantie"),"x","")))))) | J16: =SUM(E16:I16) -> 0 | L16: 6 | M16: =M15+7 -> 46055 | N16: =+M17-3 -> 46059 | O16: =IF(AND($E$2="Noord",ISNA(VLOOKUP($L$4&$L16&O$10,Data!$A:$H,6,FALSE)=TRUE)),"",IF(AND($E$2="Midden",ISNA(VLOOKUP($L$4&$L16&O$10,Data!$A:$H,7,FALSE)=TRUE)),"",IF(AND($E$2="Zuid",ISNA(VLOOKUP($L$4&$L16&O$10,Data!$A:$H,8,FALSE)=TRUE)),"",IF(AND($E$2="Noord",VLOOKUP($L$4&$L16&O$10,Data!$A:$H,6,FALSE)="Vakantie"),"x",IF(AND($E$2="Midden",VLOOKUP($L$4&$L16&O$10,Data!$A:$H,7,FALSE)="Vakantie"),"x",IF(AND($E$2="Zuid",VLOOKUP($L$4&$L16&O$10,Data!$A:$H,8,FALSE)="Vakantie"),"x","")))))) | P16: =IF(AND($E$2="Noord",ISNA(VLOOKUP($L$4&$L16&P$10,Data!$A:$H,6,FALSE)=TRUE)),"",IF(AND($E$2="Midden",ISNA(VLOOKUP($L$4&$L16&P$10,Data!$A:$H,7,FALSE)=TRUE)),"",IF(AND($E$2="Zuid",ISNA(VLOOKUP($L$4&$L16&P$10,Data!$A:$H,8,FALSE)=TRUE)),"",IF(AND($E$2="Noord",VLOOKUP($L$4&$L16&P$10,Data!$A:$H,6,FALSE)="Vakantie"),"x",IF(AND($E$2="Midden",VLOOKUP($L$4&$L16&P$10,Data!$A:$H,7,FALSE)="Vakantie"),"x",IF(AND($E$2="Zuid",VLOOKUP($L$4&$L16&P$10,Data!$A:$H,8,FALSE)="Vakantie"),"x","")))))) | Q16: =IF(AND($E$2="Noord",ISNA(VLOOKUP($L$4&$L16&Q$10,Data!$A:$H,6,FALSE)=TRUE)),"",IF(AND($E$2="Midden",ISNA(VLOOKUP($L$4&$L16&Q$10,Data!$A:$H,7,FALSE)=TRUE)),"",IF(AND($E$2="Zuid",ISNA(VLOOKUP($L$4&$L16&Q$10,Data!$A:$H,8,FALSE)=TRUE)),"",IF(AND($E$2="Noord",VLOOKUP($L$4&$L16&Q$10,Data!$A:$H,6,FALSE)="Vakantie"),"x",IF(AND($E$2="Midden",VLOOKUP($L$4&$L16&Q$10,Data!$A:$H,7,FALSE)="Vakantie"),"x",IF(AND($E$2="Zuid",VLOOKUP($L$4&$L16&Q$10,Data!$A:$H,8,FALSE)="Vakantie"),"x","")))))) | R16: =IF(AND($E$2="Noord",ISNA(VLOOKUP($L$4&$L16&R$10,Data!$A:$H,6,FALSE)=TRUE)),"",IF(AND($E$2="Midden",ISNA(VLOOKUP($L$4&$L16&R$10,Data!$A:$H,7,FALSE)=TRUE)),"",IF(AND($E$2="Zuid",ISNA(VLOOKUP($L$4&$L16&R$10,Data!$A:$H,8,FALSE)=TRUE)),"",IF(AND($E$2="Noord",VLOOKUP($L$4&$L16&R$10,Data!$A:$H,6,FALSE)="Vakantie"),"x",IF(AND($E$2="Midden",VLOOKUP($L$4&$L16&R$10,Data!$A:$H,7,FALSE)="Vakantie"),"x",IF(AND($E$2="Zuid",VLOOKUP($L$4&$L16&R$10,Data!$A:$H,8,FALSE)="Vakantie"),"x","")))))) | S16: =IF(AND($E$2="Noord",ISNA(VLOOKUP($L$4&$L16&S$10,Data!$A:$H,6,FALSE)=TRUE)),"",IF(AND($E$2="Midden",ISNA(VLOOKUP($L$4&$L16&S$10,Data!$A:$H,7,FALSE)=TRUE)),"",IF(AND($E$2="Zuid",ISNA(VLOOKUP($L$4&$L16&S$10,Data!$A:$H,8,FALSE)=TRUE)),"",IF(AND($E$2="Noord",VLOOKUP($L$4&$L16&S$10,Data!$A:$H,6,FALSE)="Vakantie"),"x",IF(AND($E$2="Midden",VLOOKUP($L$4&$L16&S$10,Data!$A:$H,7,FALSE)="Vakantie"),"x",IF(AND($E$2="Zuid",VLOOKUP($L$4&$L16&S$10,Data!$A:$H,8,FALSE)="Vakantie"),"x","")))))) | T16: =SUM(O16:S16) -> 0 | V16: 6 | W16: =+W15+7 -> 46426 | X16: =W17-3 -> 46430 | Y16: =IF(AND($E$2="Noord",ISNA(VLOOKUP($V$4&$V16&Y$10,Data!$A:$H,6,FALSE)=TRUE)),"",IF(AND($E$2="Midden",ISNA(VLOOKUP($V$4&$V16&Y$10,Data!$A:$H,7,FALSE)=TRUE)),"",IF(AND($E$2="Zuid",ISNA(VLOOKUP($V$4&$V16&Y$10,Data!$A:$H,8,FALSE)=TRUE)),"",IF(AND($E$2="Noord",VLOOKUP($V$4&$V16&Y$10,Data!$A:$H,6,FALSE)="Vakantie"),"x",IF(AND($E$2="Midden",VLOOKUP($V$4&$V16&Y$10,Data!$A:$H,7,FALSE)="Vakantie"),"x",IF(AND($E$2="Zuid",VLOOKUP($V$4&$V16&Y$10,Data!$A:$H,8,FALSE)="Vakantie"),"x","")))))) | Z16: =IF(AND($E$2="Noord",ISNA(VLOOKUP($V$4&$V16&Z$10,Data!$A:$H,6,FALSE)=TRUE)),"",IF(AND($E$2="Midden",ISNA(VLOOKUP($V$4&$V16&Z$10,Data!$A:$H,7,FALSE)=TRUE)),"",IF(AND($E$2="Zuid",ISNA(VLOOKUP($V$4&$V16&Z$10,Data!$A:$H,8,FALSE)=TRUE)),"",IF(AND($E$2="Noord",VLOOKUP($V$4&$V16&Z$10,Data!$A:$H,6,FALSE)="Vakantie"),"x",IF(AND($E$2="Midden",VLOOKUP($V$4&$V16&Z$10,Data!$A:$H,7,FALSE)="Vakantie"),"x",IF(AND($E$2="Zuid",VLOOKUP($V$4&$V16&Z$10,Data!$A:$H,8,FALSE)="Vakantie"),"x","")))))) | AA16: =IF(AND($E$2="Noord",ISNA(VLOOKUP($V$4&$V16&AA$10,Data!$A:$H,6,FALSE)=TRUE)),"",IF(AND($E$2="Midden",ISNA(VLOOKUP($V$4&$V16&AA$10,Data!$A:$H,7,FALSE)=TRUE)),"",IF(AND($E$2="Zuid",ISNA(VLOOKUP($V$4&$V16&AA$10,Data!$A:$H,8,FALSE)=TRUE)),"",IF(AND($E$2="Noord",VLOOKUP($V$4&$V16&AA$10,Data!$A:$H,6,FALSE)="Vakantie"),"x",IF(AND($E$2="Midden",VLOOKUP($V$4&$V16&AA$10,Data!$A:$H,7,FALSE)="Vakantie"),"x",IF(AND($E$2="Zuid",VLOOKUP($V$4&$V16&AA$10,Data!$A:$H,8,FALSE)="Vakantie"),"x","")))))) | AB16: =IF(AND($E$2="Noord",ISNA(VLOOKUP($V$4&$V16&AB$10,Data!$A:$H,6,FALSE)=TRUE)),"",IF(AND($E$2="Midden",ISNA(VLOOKUP($V$4&$V16&AB$10,Data!$A:$H,7,FALSE)=TRUE)),"",IF(AND($E$2="Zuid",ISNA(VLOOKUP($V$4&$V16&AB$10,Data!$A:$H,8,FALSE)=TRUE)),"",IF(AND($E$2="Noord",VLOOKUP($V$4&$V16&AB$10,Data!$A:$H,6,FALSE)="Vakantie"),"x",IF(AND($E$2="Midden",VLOOKUP($V$4&$V16&AB$10,Data!$A:$H,7,FALSE)="Vakantie"),"x",IF(AND($E$2="Zuid",VLOOKUP($V$4&$V16&AB$10,Data!$A:$H,8,FALSE)="Vakantie"),"x","")))))) | AC16: =IF(AND($E$2="Noord",ISNA(VLOOKUP($V$4&$V16&AC$10,Data!$A:$H,6,FALSE)=TRUE)),"",IF(AND($E$2="Midden",ISNA(VLOOKUP($V$4&$V16&AC$10,Data!$A:$H,7,FALSE)=TRUE)),"",IF(AND($E$2="Zuid",ISNA(VLOOKUP($V$4&$V16&AC$10,Data!$A:$H,8,FALSE)=TRUE)),"",IF(AND($E$2="Noord",VLOOKUP($V$4&$V16&AC$10,Data!$A:$H,6,FALSE)="Vakantie"),"x",IF(AND($E$2="Midden",VLOOKUP($V$4&$V16&AC$10,Data!$A:$H,7,FALSE)="Vakantie"),"x",IF(AND($E$2="Zuid",VLOOKUP($V$4&$V16&AC$10,Data!$A:$H,8,FALSE)="Vakantie"),"x","")))))) | AD16: =SUM(Y16:AC16) -> 0 | AI16: =IF(SUM($E16:$I16)=0,1,2) -> 1 | AJ16: =IF((COUNTIF($AI$11:$AI16,2))>1,"",IF(OR(AI15="",AI15=2),"",IF(AI16=1,"",IF(AND($AI16=2,E16<>""),$C16,IF(AND($AI16=2,F16<>""),$C16+1,IF(AND($AI16=2,G16<>""),$C16+2,IF(AND($AI16=2,H16<>""),$C16+3,IF(AND($AI16=2,I16<>""),$C16+4,"")))))))) | AK16: =IF(SUM(E17:$I$62)+$T$68+$AD$68=0,1,2) -> 1 | AL16: =IF(AK15="","",IF(AK15=1,"",IF(AK16<>1,"",IF(AND(AK16=1,I16<>""),C16+4,IF(AND(AK16=1,H16<>""),C16+3,IF(AND(AK16=1,G16<>""),C16+2,IF(AND(AK16=1,F16<>""),C16+1,IF(AND(AK16=1,E16<>""),C16,"")))))))) | AM16: =IF(SUM($O16:$S16)=0,1,2) -> 1 | AN16: =IF((COUNTIF($AI$11:$AI$64,2)+COUNTIF($AM15:$AM16,2))>1,"",IF(OR(AM15="",AM15=2),"",IF(AM16=1,"",IF(AND(AM16=2,O16<>""),M16,IF(AND(AM16=2,P16<>""),M16+1,IF(AND(AM16=2,Q16<>""),M16+2,IF(AND(AM16=2,R16<>""),M16+3,IF(AND(AM16=2,S16<>""),M16+4,"")))))))) | AO16: =IF(SUM(O17:$S$62)+$AD$68=0,1,2) -> 1 | AP16: =IF(AO15="","",IF(AO15=1,"",IF(AO16<>1,"",IF(AND(AO16=1,S16<>""),M16+4,IF(AND(AO16=1,R16<>""),M16+3,IF(AND(AO16=1,Q16<>""),M16+2,IF(AND(AO16=1,P16<>""),M16+1,IF(AND(AO16=1,O16<>""),M16,"")))))))) | AQ16: =IF(SUM($O17:$S$62)=0,1,2) -> 1 | AR16: =IF((COUNTIF($AI$11:$AI$64,2)+COUNTIF($AM$11:$AM$64,2)+COUNTIF(AQ$12:$AQ16,2))>1,"",IF(OR(AQ15="",AQ15=2),"",IF(AQ16=1,"",IF(AND(AQ16=2,Y16<>""),W16,IF(AND(AQ16=2,Z16<>""),W16+1,IF(AND(AQ16=2,AA16<>""),W16+2,IF(AND(AQ16=2,AB16<>""),W16+3,IF(AND(AQ16=2,AC16<>""),W16+4,"")))))))) | AS16: =IF(SUM(Y17:$AC$62)=0,1,2) -> 1 | AT16: =IF(AS15="","",IF(AS15=1,"",IF(AS16<>1,"",IF(AND(AS16=1,AC16<>""),W16+4,IF(AND(AS16=1,AB16<>""),W16+3,IF(AND(AS16=1,AA16<>""),W16+2,IF(AND(AS16=1,Z16<>""),W16+1,IF(AND(AS16=1,Y16<>""),W16,""))))))))
B17: 7 | C17: =C16+7 -> 45698 | D17: =C18-3 -> 45702 | E17: =IF(AND($E$2="Noord",ISNA(VLOOKUP($B$4&$B17&E$10,Data!$A:$H,6,FALSE)=TRUE)),"",IF(AND($E$2="Midden",ISNA(VLOOKUP($B$4&$B17&E$10,Data!$A:$H,7,FALSE)=TRUE)),"",IF(AND($E$2="Zuid",ISNA(VLOOKUP($B$4&$B17&E$10,Data!$A:$H,8,FALSE)=TRUE)),"",IF(AND($E$2="Noord",VLOOKUP($B$4&$B17&E$10,Data!$A:$H,6,FALSE)="Vakantie"),"x",IF(AND($E$2="Midden",VLOOKUP($B$4&$B17&E$10,Data!$A:$H,7,FALSE)="Vakantie"),"x",IF(AND($E$2="Zuid",VLOOKUP($B$4&$B17&E$10,Data!$A:$H,8,FALSE)="Vakantie"),"x","")))))) | F17: =IF(AND($E$2="Noord",ISNA(VLOOKUP($B$4&$B17&F$10,Data!$A:$H,6,FALSE)=TRUE)),"",IF(AND($E$2="Midden",ISNA(VLOOKUP($B$4&$B17&F$10,Data!$A:$H,7,FALSE)=TRUE)),"",IF(AND($E$2="Zuid",ISNA(VLOOKUP($B$4&$B17&F$10,Data!$A:$H,8,FALSE)=TRUE)),"",IF(AND($E$2="Noord",VLOOKUP($B$4&$B17&F$10,Data!$A:$H,6,FALSE)="Vakantie"),"x",IF(AND($E$2="Midden",VLOOKUP($B$4&$B17&F$10,Data!$A:$H,7,FALSE)="Vakantie"),"x",IF(AND($E$2="Zuid",VLOOKUP($B$4&$B17&F$10,Data!$A:$H,8,FALSE)="Vakantie"),"x","")))))) | G17: =IF(AND($E$2="Noord",ISNA(VLOOKUP($B$4&$B17&G$10,Data!$A:$H,6,FALSE)=TRUE)),"",IF(AND($E$2="Midden",ISNA(VLOOKUP($B$4&$B17&G$10,Data!$A:$H,7,FALSE)=TRUE)),"",IF(AND($E$2="Zuid",ISNA(VLOOKUP($B$4&$B17&G$10,Data!$A:$H,8,FALSE)=TRUE)),"",IF(AND($E$2="Noord",VLOOKUP($B$4&$B17&G$10,Data!$A:$H,6,FALSE)="Vakantie"),"x",IF(AND($E$2="Midden",VLOOKUP($B$4&$B17&G$10,Data!$A:$H,7,FALSE)="Vakantie"),"x",IF(AND($E$2="Zuid",VLOOKUP($B$4&$B17&G$10,Data!$A:$H,8,FALSE)="Vakantie"),"x","")))))) | H17: =IF(AND($E$2="Noord",ISNA(VLOOKUP($B$4&$B17&H$10,Data!$A:$H,6,FALSE)=TRUE)),"",IF(AND($E$2="Midden",ISNA(VLOOKUP($B$4&$B17&H$10,Data!$A:$H,7,FALSE)=TRUE)),"",IF(AND($E$2="Zuid",ISNA(VLOOKUP($B$4&$B17&H$10,Data!$A:$H,8,FALSE)=TRUE)),"",IF(AND($E$2="Noord",VLOOKUP($B$4&$B17&H$10,Data!$A:$H,6,FALSE)="Vakantie"),"x",IF(AND($E$2="Midden",VLOOKUP($B$4&$B17&H$10,Data!$A:$H,7,FALSE)="Vakantie"),"x",IF(AND($E$2="Zuid",VLOOKUP($B$4&$B17&H$10,Data!$A:$H,8,FALSE)="Vakantie"),"x","")))))) | I17: =IF(AND($E$2="Noord",ISNA(VLOOKUP($B$4&$B17&I$10,Data!$A:$H,6,FALSE)=TRUE)),"",IF(AND($E$2="Midden",ISNA(VLOOKUP($B$4&$B17&I$10,Data!$A:$H,7,FALSE)=TRUE)),"",IF(AND($E$2="Zuid",ISNA(VLOOKUP($B$4&$B17&I$10,Data!$A:$H,8,FALSE)=TRUE)),"",IF(AND($E$2="Noord",VLOOKUP($B$4&$B17&I$10,Data!$A:$H,6,FALSE)="Vakantie"),"x",IF(AND($E$2="Midden",VLOOKUP($B$4&$B17&I$10,Data!$A:$H,7,FALSE)="Vakantie"),"x",IF(AND($E$2="Zuid",VLOOKUP($B$4&$B17&I$10,Data!$A:$H,8,FALSE)="Vakantie"),"x","")))))) | J17: =SUM(E17:I17) -> 0 | L17: 7 | M17: =M16+7 -> 46062 | N17: =+M18-3 -> 46066 | O17: =IF(AND($E$2="Noord",ISNA(VLOOKUP($L$4&$L17&O$10,Data!$A:$H,6,FALSE)=TRUE)),"",IF(AND($E$2="Midden",ISNA(VLOOKUP($L$4&$L17&O$10,Data!$A:$H,7,FALSE)=TRUE)),"",IF(AND($E$2="Zuid",ISNA(VLOOKUP($L$4&$L17&O$10,Data!$A:$H,8,FALSE)=TRUE)),"",IF(AND($E$2="Noord",VLOOKUP($L$4&$L17&O$10,Data!$A:$H,6,FALSE)="Vakantie"),"x",IF(AND($E$2="Midden",VLOOKUP($L$4&$L17&O$10,Data!$A:$H,7,FALSE)="Vakantie"),"x",IF(AND($E$2="Zuid",VLOOKUP($L$4&$L17&O$10,Data!$A:$H,8,FALSE)="Vakantie"),"x","")))))) | P17: =IF(AND($E$2="Noord",ISNA(VLOOKUP($L$4&$L17&P$10,Data!$A:$H,6,FALSE)=TRUE)),"",IF(AND($E$2="Midden",ISNA(VLOOKUP($L$4&$L17&P$10,Data!$A:$H,7,FALSE)=TRUE)),"",IF(AND($E$2="Zuid",ISNA(VLOOKUP($L$4&$L17&P$10,Data!$A:$H,8,FALSE)=TRUE)),"",IF(AND($E$2="Noord",VLOOKUP($L$4&$L17&P$10,Data!$A:$H,6,FALSE)="Vakantie"),"x",IF(AND($E$2="Midden",VLOOKUP($L$4&$L17&P$10,Data!$A:$H,7,FALSE)="Vakantie"),"x",IF(AND($E$2="Zuid",VLOOKUP($L$4&$L17&P$10,Data!$A:$H,8,FALSE)="Vakantie"),"x","")))))) | Q17: =IF(AND($E$2="Noord",ISNA(VLOOKUP($L$4&$L17&Q$10,Data!$A:$H,6,FALSE)=TRUE)),"",IF(AND($E$2="Midden",ISNA(VLOOKUP($L$4&$L17&Q$10,Data!$A:$H,7,FALSE)=TRUE)),"",IF(AND($E$2="Zuid",ISNA(VLOOKUP($L$4&$L17&Q$10,Data!$A:$H,8,FALSE)=TRUE)),"",IF(AND($E$2="Noord",VLOOKUP($L$4&$L17&Q$10,Data!$A:$H,6,FALSE)="Vakantie"),"x",IF(AND($E$2="Midden",VLOOKUP($L$4&$L17&Q$10,Data!$A:$H,7,FALSE)="Vakantie"),"x",IF(AND($E$2="Zuid",VLOOKUP($L$4&$L17&Q$10,Data!$A:$H,8,FALSE)="Vakantie"),"x","")))))) | R17: =IF(AND($E$2="Noord",ISNA(VLOOKUP($L$4&$L17&R$10,Data!$A:$H,6,FALSE)=TRUE)),"",IF(AND($E$2="Midden",ISNA(VLOOKUP($L$4&$L17&R$10,Data!$A:$H,7,FALSE)=TRUE)),"",IF(AND($E$2="Zuid",ISNA(VLOOKUP($L$4&$L17&R$10,Data!$A:$H,8,FALSE)=TRUE)),"",IF(AND($E$2="Noord",VLOOKUP($L$4&$L17&R$10,Data!$A:$H,6,FALSE)="Vakantie"),"x",IF(AND($E$2="Midden",VLOOKUP($L$4&$L17&R$10,Data!$A:$H,7,FALSE)="Vakantie"),"x",IF(AND($E$2="Zuid",VLOOKUP($L$4&$L17&R$10,Data!$A:$H,8,FALSE)="Vakantie"),"x","")))))) | S17: =IF(AND($E$2="Noord",ISNA(VLOOKUP($L$4&$L17&S$10,Data!$A:$H,6,FALSE)=TRUE)),"",IF(AND($E$2="Midden",ISNA(VLOOKUP($L$4&$L17&S$10,Data!$A:$H,7,FALSE)=TRUE)),"",IF(AND($E$2="Zuid",ISNA(VLOOKUP($L$4&$L17&S$10,Data!$A:$H,8,FALSE)=TRUE)),"",IF(AND($E$2="Noord",VLOOKUP($L$4&$L17&S$10,Data!$A:$H,6,FALSE)="Vakantie"),"x",IF(AND($E$2="Midden",VLOOKUP($L$4&$L17&S$10,Data!$A:$H,7,FALSE)="Vakantie"),"x",IF(AND($E$2="Zuid",VLOOKUP($L$4&$L17&S$10,Data!$A:$H,8,FALSE)="Vakantie"),"x","")))))) | T17: =SUM(O17:S17) -> 0 | V17: 7 | W17: =+W16+7 -> 46433 | X17: =W18-3 -> 46437 | Y17: =IF(AND($E$2="Noord",ISNA(VLOOKUP($V$4&$V17&Y$10,Data!$A:$H,6,FALSE)=TRUE)),"",IF(AND($E$2="Midden",ISNA(VLOOKUP($V$4&$V17&Y$10,Data!$A:$H,7,FALSE)=TRUE)),"",IF(AND($E$2="Zuid",ISNA(VLOOKUP($V$4&$V17&Y$10,Data!$A:$H,8,FALSE)=TRUE)),"",IF(AND($E$2="Noord",VLOOKUP($V$4&$V17&Y$10,Data!$A:$H,6,FALSE)="Vakantie"),"x",IF(AND($E$2="Midden",VLOOKUP($V$4&$V17&Y$10,Data!$A:$H,7,FALSE)="Vakantie"),"x",IF(AND($E$2="Zuid",VLOOKUP($V$4&$V17&Y$10,Data!$A:$H,8,FALSE)="Vakantie"),"x","")))))) | Z17: =IF(AND($E$2="Noord",ISNA(VLOOKUP($V$4&$V17&Z$10,Data!$A:$H,6,FALSE)=TRUE)),"",IF(AND($E$2="Midden",ISNA(VLOOKUP($V$4&$V17&Z$10,Data!$A:$H,7,FALSE)=TRUE)),"",IF(AND($E$2="Zuid",ISNA(VLOOKUP($V$4&$V17&Z$10,Data!$A:$H,8,FALSE)=TRUE)),"",IF(AND($E$2="Noord",VLOOKUP($V$4&$V17&Z$10,Data!$A:$H,6,FALSE)="Vakantie"),"x",IF(AND($E$2="Midden",VLOOKUP($V$4&$V17&Z$10,Data!$A:$H,7,FALSE)="Vakantie"),"x",IF(AND($E$2="Zuid",VLOOKUP($V$4&$V17&Z$10,Data!$A:$H,8,FALSE)="Vakantie"),"x","")))))) | AA17: =IF(AND($E$2="Noord",ISNA(VLOOKUP($V$4&$V17&AA$10,Data!$A:$H,6,FALSE)=TRUE)),"",IF(AND($E$2="Midden",ISNA(VLOOKUP($V$4&$V17&AA$10,Data!$A:$H,7,FALSE)=TRUE)),"",IF(AND($E$2="Zuid",ISNA(VLOOKUP($V$4&$V17&AA$10,Data!$A:$H,8,FALSE)=TRUE)),"",IF(AND($E$2="Noord",VLOOKUP($V$4&$V17&AA$10,Data!$A:$H,6,FALSE)="Vakantie"),"x",IF(AND($E$2="Midden",VLOOKUP($V$4&$V17&AA$10,Data!$A:$H,7,FALSE)="Vakantie"),"x",IF(AND($E$2="Zuid",VLOOKUP($V$4&$V17&AA$10,Data!$A:$H,8,FALSE)="Vakantie"),"x","")))))) | AB17: =IF(AND($E$2="Noord",ISNA(VLOOKUP($V$4&$V17&AB$10,Data!$A:$H,6,FALSE)=TRUE)),"",IF(AND($E$2="Midden",ISNA(VLOOKUP($V$4&$V17&AB$10,Data!$A:$H,7,FALSE)=TRUE)),"",IF(AND($E$2="Zuid",ISNA(VLOOKUP($V$4&$V17&AB$10,Data!$A:$H,8,FALSE)=TRUE)),"",IF(AND($E$2="Noord",VLOOKUP($V$4&$V17&AB$10,Data!$A:$H,6,FALSE)="Vakantie"),"x",IF(AND($E$2="Midden",VLOOKUP($V$4&$V17&AB$10,Data!$A:$H,7,FALSE)="Vakantie"),"x",IF(AND($E$2="Zuid",VLOOKUP($V$4&$V17&AB$10,Data!$A:$H,8,FALSE)="Vakantie"),"x","")))))) | AC17: =IF(AND($E$2="Noord",ISNA(VLOOKUP($V$4&$V17&AC$10,Data!$A:$H,6,FALSE)=TRUE)),"",IF(AND($E$2="Midden",ISNA(VLOOKUP($V$4&$V17&AC$10,Data!$A:$H,7,FALSE)=TRUE)),"",IF(AND($E$2="Zuid",ISNA(VLOOKUP($V$4&$V17&AC$10,Data!$A:$H,8,FALSE)=TRUE)),"",IF(AND($E$2="Noord",VLOOKUP($V$4&$V17&AC$10,Data!$A:$H,6,FALSE)="Vakantie"),"x",IF(AND($E$2="Midden",VLOOKUP($V$4&$V17&AC$10,Data!$A:$H,7,FALSE)="Vakantie"),"x",IF(AND($E$2="Zuid",VLOOKUP($V$4&$V17&AC$10,Data!$A:$H,8,FALSE)="Vakantie"),"x","")))))) | AD17: =SUM(Y17:AC17) -> 0 | AI17: =IF(SUM($E17:$I17)=0,1,2) -> 1 | AJ17: =IF((COUNTIF($AI$11:$AI17,2))>1,"",IF(OR(AI16="",AI16=2),"",IF(AI17=1,"",IF(AND($AI17=2,E17<>""),$C17,IF(AND($AI17=2,F17<>""),$C17+1,IF(AND($AI17=2,G17<>""),$C17+2,IF(AND($AI17=2,H17<>""),$C17+3,IF(AND($AI17=2,I17<>""),$C17+4,"")))))))) | AK17: =IF(SUM(E18:$I$62)+$T$68+$AD$68=0,1,2) -> 1 | AL17: =IF(AK16="","",IF(AK16=1,"",IF(AK17<>1,"",IF(AND(AK17=1,I17<>""),C17+4,IF(AND(AK17=1,H17<>""),C17+3,IF(AND(AK17=1,G17<>""),C17+2,IF(AND(AK17=1,F17<>""),C17+1,IF(AND(AK17=1,E17<>""),C17,"")))))))) | AM17: =IF(SUM($O17:$S17)=0,1,2) -> 1 | AN17: =IF((COUNTIF($AI$11:$AI$64,2)+COUNTIF($AM16:$AM17,2))>1,"",IF(OR(AM16="",AM16=2),"",IF(AM17=1,"",IF(AND(AM17=2,O17<>""),M17,IF(AND(AM17=2,P17<>""),M17+1,IF(AND(AM17=2,Q17<>""),M17+2,IF(AND(AM17=2,R17<>""),M17+3,IF(AND(AM17=2,S17<>""),M17+4,"")))))))) | AO17: =IF(SUM(O18:$S$62)+$AD$68=0,1,2) -> 1 | AP17: =IF(AO16="","",IF(AO16=1,"",IF(AO17<>1,"",IF(AND(AO17=1,S17<>""),M17+4,IF(AND(AO17=1,R17<>""),M17+3,IF(AND(AO17=1,Q17<>""),M17+2,IF(AND(AO17=1,P17<>""),M17+1,IF(AND(AO17=1,O17<>""),M17,"")))))))) | AQ17: =IF(SUM($O18:$S$62)=0,1,2) -> 1 | AR17: =IF((COUNTIF($AI$11:$AI$64,2)+COUNTIF($AM$11:$AM$64,2)+COUNTIF(AQ$12:$AQ17,2))>1,"",IF(OR(AQ16="",AQ16=2),"",IF(AQ17=1,"",IF(AND(AQ17=2,Y17<>""),W17,IF(AND(AQ17=2,Z17<>""),W17+1,IF(AND(AQ17=2,AA17<>""),W17+2,IF(AND(AQ17=2,AB17<>""),W17+3,IF(AND(AQ17=2,AC17<>""),W17+4,"")))))))) | AS17: =IF(SUM(Y18:$AC$62)=0,1,2) -> 1 | AT17: =IF(AS16="","",IF(AS16=1,"",IF(AS17<>1,"",IF(AND(AS17=1,AC17<>""),W17+4,IF(AND(AS17=1,AB17<>""),W17+3,IF(AND(AS17=1,AA17<>""),W17+2,IF(AND(AS17=1,Z17<>""),W17+1,IF(AND(AS17=1,Y17<>""),W17,""))))))))
B18: 8 | C18: =C17+7 -> 45705 | D18: =C19-3 -> 45709 | E18: =IF(AND($E$2="Noord",ISNA(VLOOKUP($B$4&$B18&E$10,Data!$A:$H,6,FALSE)=TRUE)),"",IF(AND($E$2="Midden",ISNA(VLOOKUP($B$4&$B18&E$10,Data!$A:$H,7,FALSE)=TRUE)),"",IF(AND($E$2="Zuid",ISNA(VLOOKUP($B$4&$B18&E$10,Data!$A:$H,8,FALSE)=TRUE)),"",IF(AND($E$2="Noord",VLOOKUP($B$4&$B18&E$10,Data!$A:$H,6,FALSE)="Vakantie"),"x",IF(AND($E$2="Midden",VLOOKUP($B$4&$B18&E$10,Data!$A:$H,7,FALSE)="Vakantie"),"x",IF(AND($E$2="Zuid",VLOOKUP($B$4&$B18&E$10,Data!$A:$H,8,FALSE)="Vakantie"),"x","")))))) -> x | F18: =IF(AND($E$2="Noord",ISNA(VLOOKUP($B$4&$B18&F$10,Data!$A:$H,6,FALSE)=TRUE)),"",IF(AND($E$2="Midden",ISNA(VLOOKUP($B$4&$B18&F$10,Data!$A:$H,7,FALSE)=TRUE)),"",IF(AND($E$2="Zuid",ISNA(VLOOKUP($B$4&$B18&F$10,Data!$A:$H,8,FALSE)=TRUE)),"",IF(AND($E$2="Noord",VLOOKUP($B$4&$B18&F$10,Data!$A:$H,6,FALSE)="Vakantie"),"x",IF(AND($E$2="Midden",VLOOKUP($B$4&$B18&F$10,Data!$A:$H,7,FALSE)="Vakantie"),"x",IF(AND($E$2="Zuid",VLOOKUP($B$4&$B18&F$10,Data!$A:$H,8,FALSE)="Vakantie"),"x","")))))) -> x | G18: =IF(AND($E$2="Noord",ISNA(VLOOKUP($B$4&$B18&G$10,Data!$A:$H,6,FALSE)=TRUE)),"",IF(AND($E$2="Midden",ISNA(VLOOKUP($B$4&$B18&G$10,Data!$A:$H,7,FALSE)=TRUE)),"",IF(AND($E$2="Zuid",ISNA(VLOOKUP($B$4&$B18&G$10,Data!$A:$H,8,FALSE)=TRUE)),"",IF(AND($E$2="Noord",VLOOKUP($B$4&$B18&G$10,Data!$A:$H,6,FALSE)="Vakantie"),"x",IF(AND($E$2="Midden",VLOOKUP($B$4&$B18&G$10,Data!$A:$H,7,FALSE)="Vakantie"),"x",IF(AND($E$2="Zuid",VLOOKUP($B$4&$B18&G$10,Data!$A:$H,8,FALSE)="Vakantie"),"x","")))))) -> x | H18: =IF(AND($E$2="Noord",ISNA(VLOOKUP($B$4&$B18&H$10,Data!$A:$H,6,FALSE)=TRUE)),"",IF(AND($E$2="Midden",ISNA(VLOOKUP($B$4&$B18&H$10,Data!$A:$H,7,FALSE)=TRUE)),"",IF(AND($E$2="Zuid",ISNA(VLOOKUP($B$4&$B18&H$10,Data!$A:$H,8,FALSE)=TRUE)),"",IF(AND($E$2="Noord",VLOOKUP($B$4&$B18&H$10,Data!$A:$H,6,FALSE)="Vakantie"),"x",IF(AND($E$2="Midden",VLOOKUP($B$4&$B18&H$10,Data!$A:$H,7,FALSE)="Vakantie"),"x",IF(AND($E$2="Zuid",VLOOKUP($B$4&$B18&H$10,Data!$A:$H,8,FALSE)="Vakantie"),"x","")))))) -> x | I18: =IF(AND($E$2="Noord",ISNA(VLOOKUP($B$4&$B18&I$10,Data!$A:$H,6,FALSE)=TRUE)),"",IF(AND($E$2="Midden",ISNA(VLOOKUP($B$4&$B18&I$10,Data!$A:$H,7,FALSE)=TRUE)),"",IF(AND($E$2="Zuid",ISNA(VLOOKUP($B$4&$B18&I$10,Data!$A:$H,8,FALSE)=TRUE)),"",IF(AND($E$2="Noord",VLOOKUP($B$4&$B18&I$10,Data!$A:$H,6,FALSE)="Vakantie"),"x",IF(AND($E$2="Midden",VLOOKUP($B$4&$B18&I$10,Data!$A:$H,7,FALSE)="Vakantie"),"x",IF(AND($E$2="Zuid",VLOOKUP($B$4&$B18&I$10,Data!$A:$H,8,FALSE)="Vakantie"),"x","")))))) -> x | J18: =SUM(E18:I18) -> 0 | L18: 8 | M18: =M17+7 -> 46069 | N18: =+M19-3 -> 46073 | O18: =IF(AND($E$2="Noord",ISNA(VLOOKUP($L$4&$L18&O$10,Data!$A:$H,6,FALSE)=TRUE)),"",IF(AND($E$2="Midden",ISNA(VLOOKUP($L$4&$L18&O$10,Data!$A:$H,7,FALSE)=TRUE)),"",IF(AND($E$2="Zuid",ISNA(VLOOKUP($L$4&$L18&O$10,Data!$A:$H,8,FALSE)=TRUE)),"",IF(AND($E$2="Noord",VLOOKUP($L$4&$L18&O$10,Data!$A:$H,6,FALSE)="Vakantie"),"x",IF(AND($E$2="Midden",VLOOKUP($L$4&$L18&O$10,Data!$A:$H,7,FALSE)="Vakantie"),"x",IF(AND($E$2="Zuid",VLOOKUP($L$4&$L18&O$10,Data!$A:$H,8,FALSE)="Vakantie"),"x","")))))) | P18: =IF(AND($E$2="Noord",ISNA(VLOOKUP($L$4&$L18&P$10,Data!$A:$H,6,FALSE)=TRUE)),"",IF(AND($E$2="Midden",ISNA(VLOOKUP($L$4&$L18&P$10,Data!$A:$H,7,FALSE)=TRUE)),"",IF(AND($E$2="Zuid",ISNA(VLOOKUP($L$4&$L18&P$10,Data!$A:$H,8,FALSE)=TRUE)),"",IF(AND($E$2="Noord",VLOOKUP($L$4&$L18&P$10,Data!$A:$H,6,FALSE)="Vakantie"),"x",IF(AND($E$2="Midden",VLOOKUP($L$4&$L18&P$10,Data!$A:$H,7,FALSE)="Vakantie"),"x",IF(AND($E$2="Zuid",VLOOKUP($L$4&$L18&P$10,Data!$A:$H,8,FALSE)="Vakantie"),"x","")))))) | Q18: =IF(AND($E$2="Noord",ISNA(VLOOKUP($L$4&$L18&Q$10,Data!$A:$H,6,FALSE)=TRUE)),"",IF(AND($E$2="Midden",ISNA(VLOOKUP($L$4&$L18&Q$10,Data!$A:$H,7,FALSE)=TRUE)),"",IF(AND($E$2="Zuid",ISNA(VLOOKUP($L$4&$L18&Q$10,Data!$A:$H,8,FALSE)=TRUE)),"",IF(AND($E$2="Noord",VLOOKUP($L$4&$L18&Q$10,Data!$A:$H,6,FALSE)="Vakantie"),"x",IF(AND($E$2="Midden",VLOOKUP($L$4&$L18&Q$10,Data!$A:$H,7,FALSE)="Vakantie"),"x",IF(AND($E$2="Zuid",VLOOKUP($L$4&$L18&Q$10,Data!$A:$H,8,FALSE)="Vakantie"),"x","")))))) | R18: =IF(AND($E$2="Noord",ISNA(VLOOKUP($L$4&$L18&R$10,Data!$A:$H,6,FALSE)=TRUE)),"",IF(AND($E$2="Midden",ISNA(VLOOKUP($L$4&$L18&R$10,Data!$A:$H,7,FALSE)=TRUE)),"",IF(AND($E$2="Zuid",ISNA(VLOOKUP($L$4&$L18&R$10,Data!$A:$H,8,FALSE)=TRUE)),"",IF(AND($E$2="Noord",VLOOKUP($L$4&$L18&R$10,Data!$A:$H,6,FALSE)="Vakantie"),"x",IF(AND($E$2="Midden",VLOOKUP($L$4&$L18&R$10,Data!$A:$H,7,FALSE)="Vakantie"),"x",IF(AND($E$2="Zuid",VLOOKUP($L$4&$L18&R$10,Data!$A:$H,8,FALSE)="Vakantie"),"x","")))))) | S18: =IF(AND($E$2="Noord",ISNA(VLOOKUP($L$4&$L18&S$10,Data!$A:$H,6,FALSE)=TRUE)),"",IF(AND($E$2="Midden",ISNA(VLOOKUP($L$4&$L18&S$10,Data!$A:$H,7,FALSE)=TRUE)),"",IF(AND($E$2="Zuid",ISNA(VLOOKUP($L$4&$L18&S$10,Data!$A:$H,8,FALSE)=TRUE)),"",IF(AND($E$2="Noord",VLOOKUP($L$4&$L18&S$10,Data!$A:$H,6,FALSE)="Vakantie"),"x",IF(AND($E$2="Midden",VLOOKUP($L$4&$L18&S$10,Data!$A:$H,7,FALSE)="Vakantie"),"x",IF(AND($E$2="Zuid",VLOOKUP($L$4&$L18&S$10,Data!$A:$H,8,FALSE)="Vakantie"),"x","")))))) | T18: =SUM(O18:S18) -> 0 | V18: 8 | W18: =+W17+7 -> 46440 | X18: =W19-3 -> 46444 | Y18: =IF(AND($E$2="Noord",ISNA(VLOOKUP($V$4&$V18&Y$10,Data!$A:$H,6,FALSE)=TRUE)),"",IF(AND($E$2="Midden",ISNA(VLOOKUP($V$4&$V18&Y$10,Data!$A:$H,7,FALSE)=TRUE)),"",IF(AND($E$2="Zuid",ISNA(VLOOKUP($V$4&$V18&Y$10,Data!$A:$H,8,FALSE)=TRUE)),"",IF(AND($E$2="Noord",VLOOKUP($V$4&$V18&Y$10,Data!$A:$H,6,FALSE)="Vakantie"),"x",IF(AND($E$2="Midden",VLOOKUP($V$4&$V18&Y$10,Data!$A:$H,7,FALSE)="Vakantie"),"x",IF(AND($E$2="Zuid",VLOOKUP($V$4&$V18&Y$10,Data!$A:$H,8,FALSE)="Vakantie"),"x","")))))) -> x | Z18: =IF(AND($E$2="Noord",ISNA(VLOOKUP($V$4&$V18&Z$10,Data!$A:$H,6,FALSE)=TRUE)),"",IF(AND($E$2="Midden",ISNA(VLOOKUP($V$4&$V18&Z$10,Data!$A:$H,7,FALSE)=TRUE)),"",IF(AND($E$2="Zuid",ISNA(VLOOKUP($V$4&$V18&Z$10,Data!$A:$H,8,FALSE)=TRUE)),"",IF(AND($E$2="Noord",VLOOKUP($V$4&$V18&Z$10,Data!$A:$H,6,FALSE)="Vakantie"),"x",IF(AND($E$2="Midden",VLOOKUP($V$4&$V18&Z$10,Data!$A:$H,7,FALSE)="Vakantie"),"x",IF(AND($E$2="Zuid",VLOOKUP($V$4&$V18&Z$10,Data!$A:$H,8,FALSE)="Vakantie"),"x","")))))) -> x | AA18: =IF(AND($E$2="Noord",ISNA(VLOOKUP($V$4&$V18&AA$10,Data!$A:$H,6,FALSE)=TRUE)),"",IF(AND($E$2="Midden",ISNA(VLOOKUP($V$4&$V18&AA$10,Data!$A:$H,7,FALSE)=TRUE)),"",IF(AND($E$2="Zuid",ISNA(VLOOKUP($V$4&$V18&AA$10,Data!$A:$H,8,FALSE)=TRUE)),"",IF(AND($E$2="Noord",VLOOKUP($V$4&$V18&AA$10,Data!$A:$H,6,FALSE)="Vakantie"),"x",IF(AND($E$2="Midden",VLOOKUP($V$4&$V18&AA$10,Data!$A:$H,7,FALSE)="Vakantie"),"x",IF(AND($E$2="Zuid",VLOOKUP($V$4&$V18&AA$10,Data!$A:$H,8,FALSE)="Vakantie"),"x","")))))) -> x | AB18: =IF(AND($E$2="Noord",ISNA(VLOOKUP($V$4&$V18&AB$10,Data!$A:$H,6,FALSE)=TRUE)),"",IF(AND($E$2="Midden",ISNA(VLOOKUP($V$4&$V18&AB$10,Data!$A:$H,7,FALSE)=TRUE)),"",IF(AND($E$2="Zuid",ISNA(VLOOKUP($V$4&$V18&AB$10,Data!$A:$H,8,FALSE)=TRUE)),"",IF(AND($E$2="Noord",VLOOKUP($V$4&$V18&AB$10,Data!$A:$H,6,FALSE)="Vakantie"),"x",IF(AND($E$2="Midden",VLOOKUP($V$4&$V18&AB$10,Data!$A:$H,7,FALSE)="Vakantie"),"x",IF(AND($E$2="Zuid",VLOOKUP($V$4&$V18&AB$10,Data!$A:$H,8,FALSE)="Vakantie"),"x","")))))) -> x | AC18: =IF(AND($E$2="Noord",ISNA(VLOOKUP($V$4&$V18&AC$10,Data!$A:$H,6,FALSE)=TRUE)),"",IF(AND($E$2="Midden",ISNA(VLOOKUP($V$4&$V18&AC$10,Data!$A:$H,7,FALSE)=TRUE)),"",IF(AND($E$2="Zuid",ISNA(VLOOKUP($V$4&$V18&AC$10,Data!$A:$H,8,FALSE)=TRUE)),"",IF(AND($E$2="Noord",VLOOKUP($V$4&$V18&AC$10,Data!$A:$H,6,FALSE)="Vakantie"),"x",IF(AND($E$2="Midden",VLOOKUP($V$4&$V18&AC$10,Data!$A:$H,7,FALSE)="Vakantie"),"x",IF(AND($E$2="Zuid",VLOOKUP($V$4&$V18&AC$10,Data!$A:$H,8,FALSE)="Vakantie"),"x","")))))) -> x | AD18: =SUM(Y18:AC18) -> 0 | AI18: =IF(SUM($E18:$I18)=0,1,2) -> 1 | AJ18: =IF((COUNTIF($AI$11:$AI18,2))>1,"",IF(OR(AI17="",AI17=2),"",IF(AI18=1,"",IF(AND($AI18=2,E18<>""),$C18,IF(AND($AI18=2,F18<>""),$C18+1,IF(AND($AI18=2,G18<>""),$C18+2,IF(AND($AI18=2,H18<>""),$C18+3,IF(AND($AI18=2,I18<>""),$C18+4,"")))))))) | AK18: =IF(SUM(E19:$I$62)+$T$68+$AD$68=0,1,2) -> 1 | AL18: =IF(AK17="","",IF(AK17=1,"",IF(AK18<>1,"",IF(AND(AK18=1,I18<>""),C18+4,IF(AND(AK18=1,H18<>""),C18+3,IF(AND(AK18=1,G18<>""),C18+2,IF(AND(AK18=1,F18<>""),C18+1,IF(AND(AK18=1,E18<>""),C18,"")))))))) | AM18: =IF(SUM($O18:$S18)=0,1,2) -> 1 | AN18: =IF((COUNTIF($AI$11:$AI$64,2)+COUNTIF($AM17:$AM18,2))>1,"",IF(OR(AM17="",AM17=2),"",IF(AM18=1,"",IF(AND(AM18=2,O18<>""),M18,IF(AND(AM18=2,P18<>""),M18+1,IF(AND(AM18=2,Q18<>""),M18+2,IF(AND(AM18=2,R18<>""),M18+3,IF(AND(AM18=2,S18<>""),M18+4,"")))))))) | AO18: =IF(SUM(O19:$S$62)+$AD$68=0,1,2) -> 1 | AP18: =IF(AO17="","",IF(AO17=1,"",IF(AO18<>1,"",IF(AND(AO18=1,S18<>""),M18+4,IF(AND(AO18=1,R18<>""),M18+3,IF(AND(AO18=1,Q18<>""),M18+2,IF(AND(AO18=1,P18<>""),M18+1,IF(AND(AO18=1,O18<>""),M18,"")))))))) | AQ18: =IF(SUM($O19:$S$62)=0,1,2) -> 1 | AR18: =IF((COUNTIF($AI$11:$AI$64,2)+COUNTIF($AM$11:$AM$64,2)+COUNTIF(AQ$12:$AQ18,2))>1,"",IF(OR(AQ17="",AQ17=2),"",IF(AQ18=1,"",IF(AND(AQ18=2,Y18<>""),W18,IF(AND(AQ18=2,Z18<>""),W18+1,IF(AND(AQ18=2,AA18<>""),W18+2,IF(AND(AQ18=2,AB18<>""),W18+3,IF(AND(AQ18=2,AC18<>""),W18+4,"")))))))) | AS18: =IF(SUM(Y19:$AC$62)=0,1,2) -> 1 | AT18: =IF(AS17="","",IF(AS17=1,"",IF(AS18<>1,"",IF(AND(AS18=1,AC18<>""),W18+4,IF(AND(AS18=1,AB18<>""),W18+3,IF(AND(AS18=1,AA18<>""),W18+2,IF(AND(AS18=1,Z18<>""),W18+1,IF(AND(AS18=1,Y18<>""),W18,""))))))))
B19: 9 | C19: =C18+7 -> 45712 | D19: =C20-3 -> 45716 | E19: =IF(AND($E$2="Noord",ISNA(VLOOKUP($B$4&$B19&E$10,Data!$A:$H,6,FALSE)=TRUE)),"",IF(AND($E$2="Midden",ISNA(VLOOKUP($B$4&$B19&E$10,Data!$A:$H,7,FALSE)=TRUE)),"",IF(AND($E$2="Zuid",ISNA(VLOOKUP($B$4&$B19&E$10,Data!$A:$H,8,FALSE)=TRUE)),"",IF(AND($E$2="Noord",VLOOKUP($B$4&$B19&E$10,Data!$A:$H,6,FALSE)="Vakantie"),"x",IF(AND($E$2="Midden",VLOOKUP($B$4&$B19&E$10,Data!$A:$H,7,FALSE)="Vakantie"),"x",IF(AND($E$2="Zuid",VLOOKUP($B$4&$B19&E$10,Data!$A:$H,8,FALSE)="Vakantie"),"x","")))))) | F19: =IF(AND($E$2="Noord",ISNA(VLOOKUP($B$4&$B19&F$10,Data!$A:$H,6,FALSE)=TRUE)),"",IF(AND($E$2="Midden",ISNA(VLOOKUP($B$4&$B19&F$10,Data!$A:$H,7,FALSE)=TRUE)),"",IF(AND($E$2="Zuid",ISNA(VLOOKUP($B$4&$B19&F$10,Data!$A:$H,8,FALSE)=TRUE)),"",IF(AND($E$2="Noord",VLOOKUP($B$4&$B19&F$10,Data!$A:$H,6,FALSE)="Vakantie"),"x",IF(AND($E$2="Midden",VLOOKUP($B$4&$B19&F$10,Data!$A:$H,7,FALSE)="Vakantie"),"x",IF(AND($E$2="Zuid",VLOOKUP($B$4&$B19&F$10,Data!$A:$H,8,FALSE)="Vakantie"),"x","")))))) | G19: =IF(AND($E$2="Noord",ISNA(VLOOKUP($B$4&$B19&G$10,Data!$A:$H,6,FALSE)=TRUE)),"",IF(AND($E$2="Midden",ISNA(VLOOKUP($B$4&$B19&G$10,Data!$A:$H,7,FALSE)=TRUE)),"",IF(AND($E$2="Zuid",ISNA(VLOOKUP($B$4&$B19&G$10,Data!$A:$H,8,FALSE)=TRUE)),"",IF(AND($E$2="Noord",VLOOKUP($B$4&$B19&G$10,Data!$A:$H,6,FALSE)="Vakantie"),"x",IF(AND($E$2="Midden",VLOOKUP($B$4&$B19&G$10,Data!$A:$H,7,FALSE)="Vakantie"),"x",IF(AND($E$2="Zuid",VLOOKUP($B$4&$B19&G$10,Data!$A:$H,8,FALSE)="Vakantie"),"x","")))))) | H19: =IF(AND($E$2="Noord",ISNA(VLOOKUP($B$4&$B19&H$10,Data!$A:$H,6,FALSE)=TRUE)),"",IF(AND($E$2="Midden",ISNA(VLOOKUP($B$4&$B19&H$10,Data!$A:$H,7,FALSE)=TRUE)),"",IF(AND($E$2="Zuid",ISNA(VLOOKUP($B$4&$B19&H$10,Data!$A:$H,8,FALSE)=TRUE)),"",IF(AND($E$2="Noord",VLOOKUP($B$4&$B19&H$10,Data!$A:$H,6,FALSE)="Vakantie"),"x",IF(AND($E$2="Midden",VLOOKUP($B$4&$B19&H$10,Data!$A:$H,7,FALSE)="Vakantie"),"x",IF(AND($E$2="Zuid",VLOOKUP($B$4&$B19&H$10,Data!$A:$H,8,FALSE)="Vakantie"),"x","")))))) | I19: =IF(AND($E$2="Noord",ISNA(VLOOKUP($B$4&$B19&I$10,Data!$A:$H,6,FALSE)=TRUE)),"",IF(AND($E$2="Midden",ISNA(VLOOKUP($B$4&$B19&I$10,Data!$A:$H,7,FALSE)=TRUE)),"",IF(AND($E$2="Zuid",ISNA(VLOOKUP($B$4&$B19&I$10,Data!$A:$H,8,FALSE)=TRUE)),"",IF(AND($E$2="Noord",VLOOKUP($B$4&$B19&I$10,Data!$A:$H,6,FALSE)="Vakantie"),"x",IF(AND($E$2="Midden",VLOOKUP($B$4&$B19&I$10,Data!$A:$H,7,FALSE)="Vakantie"),"x",IF(AND($E$2="Zuid",VLOOKUP($B$4&$B19&I$10,Data!$A:$H,8,FALSE)="Vakantie"),"x","")))))) | J19: =SUM(E19:I19) -> 0 | L19: 9 | M19: =M18+7 -> 46076 | N19: =+M20-3 -> 46080 | O19: =IF(AND($E$2="Noord",ISNA(VLOOKUP($L$4&$L19&O$10,Data!$A:$H,6,FALSE)=TRUE)),"",IF(AND($E$2="Midden",ISNA(VLOOKUP($L$4&$L19&O$10,Data!$A:$H,7,FALSE)=TRUE)),"",IF(AND($E$2="Zuid",ISNA(VLOOKUP($L$4&$L19&O$10,Data!$A:$H,8,FALSE)=TRUE)),"",IF(AND($E$2="Noord",VLOOKUP($L$4&$L19&O$10,Data!$A:$H,6,FALSE)="Vakantie"),"x",IF(AND($E$2="Midden",VLOOKUP($L$4&$L19&O$10,Data!$A:$H,7,FALSE)="Vakantie"),"x",IF(AND($E$2="Zuid",VLOOKUP($L$4&$L19&O$10,Data!$A:$H,8,FALSE)="Vakantie"),"x","")))))) -> x | P19: =IF(AND($E$2="Noord",ISNA(VLOOKUP($L$4&$L19&P$10,Data!$A:$H,6,FALSE)=TRUE)),"",IF(AND($E$2="Midden",ISNA(VLOOKUP($L$4&$L19&P$10,Data!$A:$H,7,FALSE)=TRUE)),"",IF(AND($E$2="Zuid",ISNA(VLOOKUP($L$4&$L19&P$10,Data!$A:$H,8,FALSE)=TRUE)),"",IF(AND($E$2="Noord",VLOOKUP($L$4&$L19&P$10,Data!$A:$H,6,FALSE)="Vakantie"),"x",IF(AND($E$2="Midden",VLOOKUP($L$4&$L19&P$10,Data!$A:$H,7,FALSE)="Vakantie"),"x",IF(AND($E$2="Zuid",VLOOKUP($L$4&$L19&P$10,Data!$A:$H,8,FALSE)="Vakantie"),"x","")))))) -> x | Q19: =IF(AND($E$2="Noord",ISNA(VLOOKUP($L$4&$L19&Q$10,Data!$A:$H,6,FALSE)=TRUE)),"",IF(AND($E$2="Midden",ISNA(VLOOKUP($L$4&$L19&Q$10,Data!$A:$H,7,FALSE)=TRUE)),"",IF(AND($E$2="Zuid",ISNA(VLOOKUP($L$4&$L19&Q$10,Data!$A:$H,8,FALSE)=TRUE)),"",IF(AND($E$2="Noord",VLOOKUP($L$4&$L19&Q$10,Data!$A:$H,6,FALSE)="Vakantie"),"x",IF(AND($E$2="Midden",VLOOKUP($L$4&$L19&Q$10,Data!$A:$H,7,FALSE)="Vakantie"),"x",IF(AND($E$2="Zuid",VLOOKUP($L$4&$L19&Q$10,Data!$A:$H,8,FALSE)="Vakantie"),"x","")))))) -> x | R19: =IF(AND($E$2="Noord",ISNA(VLOOKUP($L$4&$L19&R$10,Data!$A:$H,6,FALSE)=TRUE)),"",IF(AND($E$2="Midden",ISNA(VLOOKUP($L$4&$L19&R$10,Data!$A:$H,7,FALSE)=TRUE)),"",IF(AND($E$2="Zuid",ISNA(VLOOKUP($L$4&$L19&R$10,Data!$A:$H,8,FALSE)=TRUE)),"",IF(AND($E$2="Noord",VLOOKUP($L$4&$L19&R$10,Data!$A:$H,6,FALSE)="Vakantie"),"x",IF(AND($E$2="Midden",VLOOKUP($L$4&$L19&R$10,Data!$A:$H,7,FALSE)="Vakantie"),"x",IF(AND($E$2="Zuid",VLOOKUP($L$4&$L19&R$10,Data!$A:$H,8,FALSE)="Vakantie"),"x","")))))) -> x | S19: =IF(AND($E$2="Noord",ISNA(VLOOKUP($L$4&$L19&S$10,Data!$A:$H,6,FALSE)=TRUE)),"",IF(AND($E$2="Midden",ISNA(VLOOKUP($L$4&$L19&S$10,Data!$A:$H,7,FALSE)=TRUE)),"",IF(AND($E$2="Zuid",ISNA(VLOOKUP($L$4&$L19&S$10,Data!$A:$H,8,FALSE)=TRUE)),"",IF(AND($E$2="Noord",VLOOKUP($L$4&$L19&S$10,Data!$A:$H,6,FALSE)="Vakantie"),"x",IF(AND($E$2="Midden",VLOOKUP($L$4&$L19&S$10,Data!$A:$H,7,FALSE)="Vakantie"),"x",IF(AND($E$2="Zuid",VLOOKUP($L$4&$L19&S$10,Data!$A:$H,8,FALSE)="Vakantie"),"x","")))))) -> x | T19: =SUM(O19:S19) -> 0 | V19: 9 | W19: =+W18+7 -> 46447 | X19: =W20-3 -> 46451 | Y19: =IF(AND($E$2="Noord",ISNA(VLOOKUP($V$4&$V19&Y$10,Data!$A:$H,6,FALSE)=TRUE)),"",IF(AND($E$2="Midden",ISNA(VLOOKUP($V$4&$V19&Y$10,Data!$A:$H,7,FALSE)=TRUE)),"",IF(AND($E$2="Zuid",ISNA(VLOOKUP($V$4&$V19&Y$10,Data!$A:$H,8,FALSE)=TRUE)),"",IF(AND($E$2="Noord",VLOOKUP($V$4&$V19&Y$10,Data!$A:$H,6,FALSE)="Vakantie"),"x",IF(AND($E$2="Midden",VLOOKUP($V$4&$V19&Y$10,Data!$A:$H,7,FALSE)="Vakantie"),"x",IF(AND($E$2="Zuid",VLOOKUP($V$4&$V19&Y$10,Data!$A:$H,8,FALSE)="Vakantie"),"x","")))))) | Z19: =IF(AND($E$2="Noord",ISNA(VLOOKUP($V$4&$V19&Z$10,Data!$A:$H,6,FALSE)=TRUE)),"",IF(AND($E$2="Midden",ISNA(VLOOKUP($V$4&$V19&Z$10,Data!$A:$H,7,FALSE)=TRUE)),"",IF(AND($E$2="Zuid",ISNA(VLOOKUP($V$4&$V19&Z$10,Data!$A:$H,8,FALSE)=TRUE)),"",IF(AND($E$2="Noord",VLOOKUP($V$4&$V19&Z$10,Data!$A:$H,6,FALSE)="Vakantie"),"x",IF(AND($E$2="Midden",VLOOKUP($V$4&$V19&Z$10,Data!$A:$H,7,FALSE)="Vakantie"),"x",IF(AND($E$2="Zuid",VLOOKUP($V$4&$V19&Z$10,Data!$A:$H,8,FALSE)="Vakantie"),"x","")))))) | AA19: =IF(AND($E$2="Noord",ISNA(VLOOKUP($V$4&$V19&AA$10,Data!$A:$H,6,FALSE)=TRUE)),"",IF(AND($E$2="Midden",ISNA(VLOOKUP($V$4&$V19&AA$10,Data!$A:$H,7,FALSE)=TRUE)),"",IF(AND($E$2="Zuid",ISNA(VLOOKUP($V$4&$V19&AA$10,Data!$A:$H,8,FALSE)=TRUE)),"",IF(AND($E$2="Noord",VLOOKUP($V$4&$V19&AA$10,Data!$A:$H,6,FALSE)="Vakantie"),"x",IF(AND($E$2="Midden",VLOOKUP($V$4&$V19&AA$10,Data!$A:$H,7,FALSE)="Vakantie"),"x",IF(AND($E$2="Zuid",VLOOKUP($V$4&$V19&AA$10,Data!$A:$H,8,FALSE)="Vakantie"),"x","")))))) | AB19: =IF(AND($E$2="Noord",ISNA(VLOOKUP($V$4&$V19&AB$10,Data!$A:$H,6,FALSE)=TRUE)),"",IF(AND($E$2="Midden",ISNA(VLOOKUP($V$4&$V19&AB$10,Data!$A:$H,7,FALSE)=TRUE)),"",IF(AND($E$2="Zuid",ISNA(VLOOKUP($V$4&$V19&AB$10,Data!$A:$H,8,FALSE)=TRUE)),"",IF(AND($E$2="Noord",VLOOKUP($V$4&$V19&AB$10,Data!$A:$H,6,FALSE)="Vakantie"),"x",IF(AND($E$2="Midden",VLOOKUP($V$4&$V19&AB$10,Data!$A:$H,7,FALSE)="Vakantie"),"x",IF(AND($E$2="Zuid",VLOOKUP($V$4&$V19&AB$10,Data!$A:$H,8,FALSE)="Vakantie"),"x","")))))) | AC19: =IF(AND($E$2="Noord",ISNA(VLOOKUP($V$4&$V19&AC$10,Data!$A:$H,6,FALSE)=TRUE)),"",IF(AND($E$2="Midden",ISNA(VLOOKUP($V$4&$V19&AC$10,Data!$A:$H,7,FALSE)=TRUE)),"",IF(AND($E$2="Zuid",ISNA(VLOOKUP($V$4&$V19&AC$10,Data!$A:$H,8,FALSE)=TRUE)),"",IF(AND($E$2="Noord",VLOOKUP($V$4&$V19&AC$10,Data!$A:$H,6,FALSE)="Vakantie"),"x",IF(AND($E$2="Midden",VLOOKUP($V$4&$V19&AC$10,Data!$A:$H,7,FALSE)="Vakantie"),"x",IF(AND($E$2="Zuid",VLOOKUP($V$4&$V19&AC$10,Data!$A:$H,8,FALSE)="Vakantie"),"x","")))))) | AD19: =SUM(Y19:AC19) -> 0 | AI19: =IF(SUM($E19:$I19)=0,1,2) -> 1 | AJ19: =IF((COUNTIF($AI$11:$AI19,2))>1,"",IF(OR(AI18="",AI18=2),"",IF(AI19=1,"",IF(AND($AI19=2,E19<>""),$C19,IF(AND($AI19=2,F19<>""),$C19+1,IF(AND($AI19=2,G19<>""),$C19+2,IF(AND($AI19=2,H19<>""),$C19+3,IF(AND($AI19=2,I19<>""),$C19+4,"")))))))) | AK19: =IF(SUM(E20:$I$62)+$T$68+$AD$68=0,1,2) -> 1 | AL19: =IF(AK18="","",IF(AK18=1,"",IF(AK19<>1,"",IF(AND(AK19=1,I19<>""),C19+4,IF(AND(AK19=1,H19<>""),C19+3,IF(AND(AK19=1,G19<>""),C19+2,IF(AND(AK19=1,F19<>""),C19+1,IF(AND(AK19=1,E19<>""),C19,"")))))))) | AM19: =IF(SUM($O19:$S19)=0,1,2) -> 1 | AN19: =IF((COUNTIF($AI$11:$AI$64,2)+COUNTIF($AM18:$AM19,2))>1,"",IF(OR(AM18="",AM18=2),"",IF(AM19=1,"",IF(AND(AM19=2,O19<>""),M19,IF(AND(AM19=2,P19<>""),M19+1,IF(AND(AM19=2,Q19<>""),M19+2,IF(AND(AM19=2,R19<>""),M19+3,IF(AND(AM19=2,S19<>""),M19+4,"")))))))) | AO19: =IF(SUM(O20:$S$62)+$AD$68=0,1,2) -> 1 | AP19: =IF(AO18="","",IF(AO18=1,"",IF(AO19<>1,"",IF(AND(AO19=1,S19<>""),M19+4,IF(AND(AO19=1,R19<>""),M19+3,IF(AND(AO19=1,Q19<>""),M19+2,IF(AND(AO19=1,P19<>""),M19+1,IF(AND(AO19=1,O19<>""),M19,"")))))))) | AQ19: =IF(SUM($O20:$S$62)=0,1,2) -> 1 | AR19: =IF((COUNTIF($AI$11:$AI$64,2)+COUNTIF($AM$11:$AM$64,2)+COUNTIF(AQ$12:$AQ19,2))>1,"",IF(OR(AQ18="",AQ18=2),"",IF(AQ19=1,"",IF(AND(AQ19=2,Y19<>""),W19,IF(AND(AQ19=2,Z19<>""),W19+1,IF(AND(AQ19=2,AA19<>""),W19+2,IF(AND(AQ19=2,AB19<>""),W19+3,IF(AND(AQ19=2,AC19<>""),W19+4,"")))))))) | AS19: =IF(SUM(Y20:$AC$62)=0,1,2) -> 1 | AT19: =IF(AS18="","",IF(AS18=1,"",IF(AS19<>1,"",IF(AND(AS19=1,AC19<>""),W19+4,IF(AND(AS19=1,AB19<>""),W19+3,IF(AND(AS19=1,AA19<>""),W19+2,IF(AND(AS19=1,Z19<>""),W19+1,IF(AND(AS19=1,Y19<>""),W19,""))))))))
B20: 10 | C20: =C19+7 -> 45719 | D20: =C21-3 -> 45723 | E20: =IF(AND($E$2="Noord",ISNA(VLOOKUP($B$4&$B20&E$10,Data!$A:$H,6,FALSE)=TRUE)),"",IF(AND($E$2="Midden",ISNA(VLOOKUP($B$4&$B20&E$10,Data!$A:$H,7,FALSE)=TRUE)),"",IF(AND($E$2="Zuid",ISNA(VLOOKUP($B$4&$B20&E$10,Data!$A:$H,8,FALSE)=TRUE)),"",IF(AND($E$2="Noord",VLOOKUP($B$4&$B20&E$10,Data!$A:$H,6,FALSE)="Vakantie"),"x",IF(AND($E$2="Midden",VLOOKUP($B$4&$B20&E$10,Data!$A:$H,7,FALSE)="Vakantie"),"x",IF(AND($E$2="Zuid",VLOOKUP($B$4&$B20&E$10,Data!$A:$H,8,FALSE)="Vakantie"),"x","")))))) | F20: =IF(AND($E$2="Noord",ISNA(VLOOKUP($B$4&$B20&F$10,Data!$A:$H,6,FALSE)=TRUE)),"",IF(AND($E$2="Midden",ISNA(VLOOKUP($B$4&$B20&F$10,Data!$A:$H,7,FALSE)=TRUE)),"",IF(AND($E$2="Zuid",ISNA(VLOOKUP($B$4&$B20&F$10,Data!$A:$H,8,FALSE)=TRUE)),"",IF(AND($E$2="Noord",VLOOKUP($B$4&$B20&F$10,Data!$A:$H,6,FALSE)="Vakantie"),"x",IF(AND($E$2="Midden",VLOOKUP($B$4&$B20&F$10,Data!$A:$H,7,FALSE)="Vakantie"),"x",IF(AND($E$2="Zuid",VLOOKUP($B$4&$B20&F$10,Data!$A:$H,8,FALSE)="Vakantie"),"x","")))))) | G20: =IF(AND($E$2="Noord",ISNA(VLOOKUP($B$4&$B20&G$10,Data!$A:$H,6,FALSE)=TRUE)),"",IF(AND($E$2="Midden",ISNA(VLOOKUP($B$4&$B20&G$10,Data!$A:$H,7,FALSE)=TRUE)),"",IF(AND($E$2="Zuid",ISNA(VLOOKUP($B$4&$B20&G$10,Data!$A:$H,8,FALSE)=TRUE)),"",IF(AND($E$2="Noord",VLOOKUP($B$4&$B20&G$10,Data!$A:$H,6,FALSE)="Vakantie"),"x",IF(AND($E$2="Midden",VLOOKUP($B$4&$B20&G$10,Data!$A:$H,7,FALSE)="Vakantie"),"x",IF(AND($E$2="Zuid",VLOOKUP($B$4&$B20&G$10,Data!$A:$H,8,FALSE)="Vakantie"),"x","")))))) | H20: =IF(AND($E$2="Noord",ISNA(VLOOKUP($B$4&$B20&H$10,Data!$A:$H,6,FALSE)=TRUE)),"",IF(AND($E$2="Midden",ISNA(VLOOKUP($B$4&$B20&H$10,Data!$A:$H,7,FALSE)=TRUE)),"",IF(AND($E$2="Zuid",ISNA(VLOOKUP($B$4&$B20&H$10,Data!$A:$H,8,FALSE)=TRUE)),"",IF(AND($E$2="Noord",VLOOKUP($B$4&$B20&H$10,Data!$A:$H,6,FALSE)="Vakantie"),"x",IF(AND($E$2="Midden",VLOOKUP($B$4&$B20&H$10,Data!$A:$H,7,FALSE)="Vakantie"),"x",IF(AND($E$2="Zuid",VLOOKUP($B$4&$B20&H$10,Data!$A:$H,8,FALSE)="Vakantie"),"x","")))))) | I20: =IF(AND($E$2="Noord",ISNA(VLOOKUP($B$4&$B20&I$10,Data!$A:$H,6,FALSE)=TRUE)),"",IF(AND($E$2="Midden",ISNA(VLOOKUP($B$4&$B20&I$10,Data!$A:$H,7,FALSE)=TRUE)),"",IF(AND($E$2="Zuid",ISNA(VLOOKUP($B$4&$B20&I$10,Data!$A:$H,8,FALSE)=TRUE)),"",IF(AND($E$2="Noord",VLOOKUP($B$4&$B20&I$10,Data!$A:$H,6,FALSE)="Vakantie"),"x",IF(AND($E$2="Midden",VLOOKUP($B$4&$B20&I$10,Data!$A:$H,7,FALSE)="Vakantie"),"x",IF(AND($E$2="Zuid",VLOOKUP($B$4&$B20&I$10,Data!$A:$H,8,FALSE)="Vakantie"),"x","")))))) | J20: =SUM(E20:I20) -> 0 | L20: 10 | M20: =M19+7 -> 46083 | N20: =+M21-3 -> 46087 | O20: =IF(AND($E$2="Noord",ISNA(VLOOKUP($L$4&$L20&O$10,Data!$A:$H,6,FALSE)=TRUE)),"",IF(AND($E$2="Midden",ISNA(VLOOKUP($L$4&$L20&O$10,Data!$A:$H,7,FALSE)=TRUE)),"",IF(AND($E$2="Zuid",ISNA(VLOOKUP($L$4&$L20&O$10,Data!$A:$H,8,FALSE)=TRUE)),"",IF(AND($E$2="Noord",VLOOKUP($L$4&$L20&O$10,Data!$A:$H,6,FALSE)="Vakantie"),"x",IF(AND($E$2="Midden",VLOOKUP($L$4&$L20&O$10,Data!$A:$H,7,FALSE)="Vakantie"),"x",IF(AND($E$2="Zuid",VLOOKUP($L$4&$L20&O$10,Data!$A:$H,8,FALSE)="Vakantie"),"x","")))))) | P20: =IF(AND($E$2="Noord",ISNA(VLOOKUP($L$4&$L20&P$10,Data!$A:$H,6,FALSE)=TRUE)),"",IF(AND($E$2="Midden",ISNA(VLOOKUP($L$4&$L20&P$10,Data!$A:$H,7,FALSE)=TRUE)),"",IF(AND($E$2="Zuid",ISNA(VLOOKUP($L$4&$L20&P$10,Data!$A:$H,8,FALSE)=TRUE)),"",IF(AND($E$2="Noord",VLOOKUP($L$4&$L20&P$10,Data!$A:$H,6,FALSE)="Vakantie"),"x",IF(AND($E$2="Midden",VLOOKUP($L$4&$L20&P$10,Data!$A:$H,7,FALSE)="Vakantie"),"x",IF(AND($E$2="Zuid",VLOOKUP($L$4&$L20&P$10,Data!$A:$H,8,FALSE)="Vakantie"),"x","")))))) | Q20: =IF(AND($E$2="Noord",ISNA(VLOOKUP($L$4&$L20&Q$10,Data!$A:$H,6,FALSE)=TRUE)),"",IF(AND($E$2="Midden",ISNA(VLOOKUP($L$4&$L20&Q$10,Data!$A:$H,7,FALSE)=TRUE)),"",IF(AND($E$2="Zuid",ISNA(VLOOKUP($L$4&$L20&Q$10,Data!$A:$H,8,FALSE)=TRUE)),"",IF(AND($E$2="Noord",VLOOKUP($L$4&$L20&Q$10,Data!$A:$H,6,FALSE)="Vakantie"),"x",IF(AND($E$2="Midden",VLOOKUP($L$4&$L20&Q$10,Data!$A:$H,7,FALSE)="Vakantie"),"x",IF(AND($E$2="Zuid",VLOOKUP($L$4&$L20&Q$10,Data!$A:$H,8,FALSE)="Vakantie"),"x","")))))) | R20: =IF(AND($E$2="Noord",ISNA(VLOOKUP($L$4&$L20&R$10,Data!$A:$H,6,FALSE)=TRUE)),"",IF(AND($E$2="Midden",ISNA(VLOOKUP($L$4&$L20&R$10,Data!$A:$H,7,FALSE)=TRUE)),"",IF(AND($E$2="Zuid",ISNA(VLOOKUP($L$4&$L20&R$10,Data!$A:$H,8,FALSE)=TRUE)),"",IF(AND($E$2="Noord",VLOOKUP($L$4&$L20&R$10,Data!$A:$H,6,FALSE)="Vakantie"),"x",IF(AND($E$2="Midden",VLOOKUP($L$4&$L20&R$10,Data!$A:$H,7,FALSE)="Vakantie"),"x",IF(AND($E$2="Zuid",VLOOKUP($L$4&$L20&R$10,Data!$A:$H,8,FALSE)="Vakantie"),"x","")))))) | S20: =IF(AND($E$2="Noord",ISNA(VLOOKUP($L$4&$L20&S$10,Data!$A:$H,6,FALSE)=TRUE)),"",IF(AND($E$2="Midden",ISNA(VLOOKUP($L$4&$L20&S$10,Data!$A:$H,7,FALSE)=TRUE)),"",IF(AND($E$2="Zuid",ISNA(VLOOKUP($L$4&$L20&S$10,Data!$A:$H,8,FALSE)=TRUE)),"",IF(AND($E$2="Noord",VLOOKUP($L$4&$L20&S$10,Data!$A:$H,6,FALSE)="Vakantie"),"x",IF(AND($E$2="Midden",VLOOKUP($L$4&$L20&S$10,Data!$A:$H,7,FALSE)="Vakantie"),"x",IF(AND($E$2="Zuid",VLOOKUP($L$4&$L20&S$10,Data!$A:$H,8,FALSE)="Vakantie"),"x","")))))) | T20: =SUM(O20:S20) -> 0 | V20: 10 | W20: =+W19+7 -> 46454 | X20: =W21-3 -> 46458 | Y20: =IF(AND($E$2="Noord",ISNA(VLOOKUP($V$4&$V20&Y$10,Data!$A:$H,6,FALSE)=TRUE)),"",IF(AND($E$2="Midden",ISNA(VLOOKUP($V$4&$V20&Y$10,Data!$A:$H,7,FALSE)=TRUE)),"",IF(AND($E$2="Zuid",ISNA(VLOOKUP($V$4&$V20&Y$10,Data!$A:$H,8,FALSE)=TRUE)),"",IF(AND($E$2="Noord",VLOOKUP($V$4&$V20&Y$10,Data!$A:$H,6,FALSE)="Vakantie"),"x",IF(AND($E$2="Midden",VLOOKUP($V$4&$V20&Y$10,Data!$A:$H,7,FALSE)="Vakantie"),"x",IF(AND($E$2="Zuid",VLOOKUP($V$4&$V20&Y$10,Data!$A:$H,8,FALSE)="Vakantie"),"x","")))))) | Z20: =IF(AND($E$2="Noord",ISNA(VLOOKUP($V$4&$V20&Z$10,Data!$A:$H,6,FALSE)=TRUE)),"",IF(AND($E$2="Midden",ISNA(VLOOKUP($V$4&$V20&Z$10,Data!$A:$H,7,FALSE)=TRUE)),"",IF(AND($E$2="Zuid",ISNA(VLOOKUP($V$4&$V20&Z$10,Data!$A:$H,8,FALSE)=TRUE)),"",IF(AND($E$2="Noord",VLOOKUP($V$4&$V20&Z$10,Data!$A:$H,6,FALSE)="Vakantie"),"x",IF(AND($E$2="Midden",VLOOKUP($V$4&$V20&Z$10,Data!$A:$H,7,FALSE)="Vakantie"),"x",IF(AND($E$2="Zuid",VLOOKUP($V$4&$V20&Z$10,Data!$A:$H,8,FALSE)="Vakantie"),"x","")))))) | AA20: =IF(AND($E$2="Noord",ISNA(VLOOKUP($V$4&$V20&AA$10,Data!$A:$H,6,FALSE)=TRUE)),"",IF(AND($E$2="Midden",ISNA(VLOOKUP($V$4&$V20&AA$10,Data!$A:$H,7,FALSE)=TRUE)),"",IF(AND($E$2="Zuid",ISNA(VLOOKUP($V$4&$V20&AA$10,Data!$A:$H,8,FALSE)=TRUE)),"",IF(AND($E$2="Noord",VLOOKUP($V$4&$V20&AA$10,Data!$A:$H,6,FALSE)="Vakantie"),"x",IF(AND($E$2="Midden",VLOOKUP($V$4&$V20&AA$10,Data!$A:$H,7,FALSE)="Vakantie"),"x",IF(AND($E$2="Zuid",VLOOKUP($V$4&$V20&AA$10,Data!$A:$H,8,FALSE)="Vakantie"),"x","")))))) | AB20: =IF(AND($E$2="Noord",ISNA(VLOOKUP($V$4&$V20&AB$10,Data!$A:$H,6,FALSE)=TRUE)),"",IF(AND($E$2="Midden",ISNA(VLOOKUP($V$4&$V20&AB$10,Data!$A:$H,7,FALSE)=TRUE)),"",IF(AND($E$2="Zuid",ISNA(VLOOKUP($V$4&$V20&AB$10,Data!$A:$H,8,FALSE)=TRUE)),"",IF(AND($E$2="Noord",VLOOKUP($V$4&$V20&AB$10,Data!$A:$H,6,FALSE)="Vakantie"),"x",IF(AND($E$2="Midden",VLOOKUP($V$4&$V20&AB$10,Data!$A:$H,7,FALSE)="Vakantie"),"x",IF(AND($E$2="Zuid",VLOOKUP($V$4&$V20&AB$10,Data!$A:$H,8,FALSE)="Vakantie"),"x","")))))) | AC20: =IF(AND($E$2="Noord",ISNA(VLOOKUP($V$4&$V20&AC$10,Data!$A:$H,6,FALSE)=TRUE)),"",IF(AND($E$2="Midden",ISNA(VLOOKUP($V$4&$V20&AC$10,Data!$A:$H,7,FALSE)=TRUE)),"",IF(AND($E$2="Zuid",ISNA(VLOOKUP($V$4&$V20&AC$10,Data!$A:$H,8,FALSE)=TRUE)),"",IF(AND($E$2="Noord",VLOOKUP($V$4&$V20&AC$10,Data!$A:$H,6,FALSE)="Vakantie"),"x",IF(AND($E$2="Midden",VLOOKUP($V$4&$V20&AC$10,Data!$A:$H,7,FALSE)="Vakantie"),"x",IF(AND($E$2="Zuid",VLOOKUP($V$4&$V20&AC$10,Data!$A:$H,8,FALSE)="Vakantie"),"x","")))))) | AD20: =SUM(Y20:AC20) -> 0 | AI20: =IF(SUM($E20:$I20)=0,1,2) -> 1 | AJ20: =IF((COUNTIF($AI$11:$AI20,2))>1,"",IF(OR(AI19="",AI19=2),"",IF(AI20=1,"",IF(AND($AI20=2,E20<>""),$C20,IF(AND($AI20=2,F20<>""),$C20+1,IF(AND($AI20=2,G20<>""),$C20+2,IF(AND($AI20=2,H20<>""),$C20+3,IF(AND($AI20=2,I20<>""),$C20+4,"")))))))) | AK20: =IF(SUM(E21:$I$62)+$T$68+$AD$68=0,1,2) -> 1 | AL20: =IF(AK19="","",IF(AK19=1,"",IF(AK20<>1,"",IF(AND(AK20=1,I20<>""),C20+4,IF(AND(AK20=1,H20<>""),C20+3,IF(AND(AK20=1,G20<>""),C20+2,IF(AND(AK20=1,F20<>""),C20+1,IF(AND(AK20=1,E20<>""),C20,"")))))))) | AM20: =IF(SUM($O20:$S20)=0,1,2) -> 1 | AN20: =IF((COUNTIF($AI$11:$AI$64,2)+COUNTIF($AM19:$AM20,2))>1,"",IF(OR(AM19="",AM19=2),"",IF(AM20=1,"",IF(AND(AM20=2,O20<>""),M20,IF(AND(AM20=2,P20<>""),M20+1,IF(AND(AM20=2,Q20<>""),M20+2,IF(AND(AM20=2,R20<>""),M20+3,IF(AND(AM20=2,S20<>""),M20+4,"")))))))) | AO20: =IF(SUM(O21:$S$62)+$AD$68=0,1,2) -> 1 | AP20: =IF(AO19="","",IF(AO19=1,"",IF(AO20<>1,"",IF(AND(AO20=1,S20<>""),M20+4,IF(AND(AO20=1,R20<>""),M20+3,IF(AND(AO20=1,Q20<>""),M20+2,IF(AND(AO20=1,P20<>""),M20+1,IF(AND(AO20=1,O20<>""),M20,"")))))))) | AQ20: =IF(SUM($O21:$S$62)=0,1,2) -> 1 | AR20: =IF((COUNTIF($AI$11:$AI$64,2)+COUNTIF($AM$11:$AM$64,2)+COUNTIF(AQ$12:$AQ20,2))>1,"",IF(OR(AQ19="",AQ19=2),"",IF(AQ20=1,"",IF(AND(AQ20=2,Y20<>""),W20,IF(AND(AQ20=2,Z20<>""),W20+1,IF(AND(AQ20=2,AA20<>""),W20+2,IF(AND(AQ20=2,AB20<>""),W20+3,IF(AND(AQ20=2,AC20<>""),W20+4,"")))))))) | AS20: =IF(SUM(Y21:$AC$62)=0,1,2) -> 1 | AT20: =IF(AS19="","",IF(AS19=1,"",IF(AS20<>1,"",IF(AND(AS20=1,AC20<>""),W20+4,IF(AND(AS20=1,AB20<>""),W20+3,IF(AND(AS20=1,AA20<>""),W20+2,IF(AND(AS20=1,Z20<>""),W20+1,IF(AND(AS20=1,Y20<>""),W20,""))))))))
B21: 11 | C21: =C20+7 -> 45726 | D21: =C22-3 -> 45730 | E21: =IF(AND($E$2="Noord",ISNA(VLOOKUP($B$4&$B21&E$10,Data!$A:$H,6,FALSE)=TRUE)),"",IF(AND($E$2="Midden",ISNA(VLOOKUP($B$4&$B21&E$10,Data!$A:$H,7,FALSE)=TRUE)),"",IF(AND($E$2="Zuid",ISNA(VLOOKUP($B$4&$B21&E$10,Data!$A:$H,8,FALSE)=TRUE)),"",IF(AND($E$2="Noord",VLOOKUP($B$4&$B21&E$10,Data!$A:$H,6,FALSE)="Vakantie"),"x",IF(AND($E$2="Midden",VLOOKUP($B$4&$B21&E$10,Data!$A:$H,7,FALSE)="Vakantie"),"x",IF(AND($E$2="Zuid",VLOOKUP($B$4&$B21&E$10,Data!$A:$H,8,FALSE)="Vakantie"),"x","")))))) | F21: =IF(AND($E$2="Noord",ISNA(VLOOKUP($B$4&$B21&F$10,Data!$A:$H,6,FALSE)=TRUE)),"",IF(AND($E$2="Midden",ISNA(VLOOKUP($B$4&$B21&F$10,Data!$A:$H,7,FALSE)=TRUE)),"",IF(AND($E$2="Zuid",ISNA(VLOOKUP($B$4&$B21&F$10,Data!$A:$H,8,FALSE)=TRUE)),"",IF(AND($E$2="Noord",VLOOKUP($B$4&$B21&F$10,Data!$A:$H,6,FALSE)="Vakantie"),"x",IF(AND($E$2="Midden",VLOOKUP($B$4&$B21&F$10,Data!$A:$H,7,FALSE)="Vakantie"),"x",IF(AND($E$2="Zuid",VLOOKUP($B$4&$B21&F$10,Data!$A:$H,8,FALSE)="Vakantie"),"x","")))))) | G21: =IF(AND($E$2="Noord",ISNA(VLOOKUP($B$4&$B21&G$10,Data!$A:$H,6,FALSE)=TRUE)),"",IF(AND($E$2="Midden",ISNA(VLOOKUP($B$4&$B21&G$10,Data!$A:$H,7,FALSE)=TRUE)),"",IF(AND($E$2="Zuid",ISNA(VLOOKUP($B$4&$B21&G$10,Data!$A:$H,8,FALSE)=TRUE)),"",IF(AND($E$2="Noord",VLOOKUP($B$4&$B21&G$10,Data!$A:$H,6,FALSE)="Vakantie"),"x",IF(AND($E$2="Midden",VLOOKUP($B$4&$B21&G$10,Data!$A:$H,7,FALSE)="Vakantie"),"x",IF(AND($E$2="Zuid",VLOOKUP($B$4&$B21&G$10,Data!$A:$H,8,FALSE)="Vakantie"),"x","")))))) | H21: =IF(AND($E$2="Noord",ISNA(VLOOKUP($B$4&$B21&H$10,Data!$A:$H,6,FALSE)=TRUE)),"",IF(AND($E$2="Midden",ISNA(VLOOKUP($B$4&$B21&H$10,Data!$A:$H,7,FALSE)=TRUE)),"",IF(AND($E$2="Zuid",ISNA(VLOOKUP($B$4&$B21&H$10,Data!$A:$H,8,FALSE)=TRUE)),"",IF(AND($E$2="Noord",VLOOKUP($B$4&$B21&H$10,Data!$A:$H,6,FALSE)="Vakantie"),"x",IF(AND($E$2="Midden",VLOOKUP($B$4&$B21&H$10,Data!$A:$H,7,FALSE)="Vakantie"),"x",IF(AND($E$2="Zuid",VLOOKUP($B$4&$B21&H$10,Data!$A:$H,8,FALSE)="Vakantie"),"x","")))))) | I21: =IF(AND($E$2="Noord",ISNA(VLOOKUP($B$4&$B21&I$10,Data!$A:$H,6,FALSE)=TRUE)),"",IF(AND($E$2="Midden",ISNA(VLOOKUP($B$4&$B21&I$10,Data!$A:$H,7,FALSE)=TRUE)),"",IF(AND($E$2="Zuid",ISNA(VLOOKUP($B$4&$B21&I$10,Data!$A:$H,8,FALSE)=TRUE)),"",IF(AND($E$2="Noord",VLOOKUP($B$4&$B21&I$10,Data!$A:$H,6,FALSE)="Vakantie"),"x",IF(AND($E$2="Midden",VLOOKUP($B$4&$B21&I$10,Data!$A:$H,7,FALSE)="Vakantie"),"x",IF(AND($E$2="Zuid",VLOOKUP($B$4&$B21&I$10,Data!$A:$H,8,FALSE)="Vakantie"),"x","")))))) | J21: =SUM(E21:I21) -> 0 | L21: 11 | M21: =M20+7 -> 46090 | N21: =+M22-3 -> 46094 | O21: =IF(AND($E$2="Noord",ISNA(VLOOKUP($L$4&$L21&O$10,Data!$A:$H,6,FALSE)=TRUE)),"",IF(AND($E$2="Midden",ISNA(VLOOKUP($L$4&$L21&O$10,Data!$A:$H,7,FALSE)=TRUE)),"",IF(AND($E$2="Zuid",ISNA(VLOOKUP($L$4&$L21&O$10,Data!$A:$H,8,FALSE)=TRUE)),"",IF(AND($E$2="Noord",VLOOKUP($L$4&$L21&O$10,Data!$A:$H,6,FALSE)="Vakantie"),"x",IF(AND($E$2="Midden",VLOOKUP($L$4&$L21&O$10,Data!$A:$H,7,FALSE)="Vakantie"),"x",IF(AND($E$2="Zuid",VLOOKUP($L$4&$L21&O$10,Data!$A:$H,8,FALSE)="Vakantie"),"x","")))))) | P21: =IF(AND($E$2="Noord",ISNA(VLOOKUP($L$4&$L21&P$10,Data!$A:$H,6,FALSE)=TRUE)),"",IF(AND($E$2="Midden",ISNA(VLOOKUP($L$4&$L21&P$10,Data!$A:$H,7,FALSE)=TRUE)),"",IF(AND($E$2="Zuid",ISNA(VLOOKUP($L$4&$L21&P$10,Data!$A:$H,8,FALSE)=TRUE)),"",IF(AND($E$2="Noord",VLOOKUP($L$4&$L21&P$10,Data!$A:$H,6,FALSE)="Vakantie"),"x",IF(AND($E$2="Midden",VLOOKUP($L$4&$L21&P$10,Data!$A:$H,7,FALSE)="Vakantie"),"x",IF(AND($E$2="Zuid",VLOOKUP($L$4&$L21&P$10,Data!$A:$H,8,FALSE)="Vakantie"),"x","")))))) | Q21: =IF(AND($E$2="Noord",ISNA(VLOOKUP($L$4&$L21&Q$10,Data!$A:$H,6,FALSE)=TRUE)),"",IF(AND($E$2="Midden",ISNA(VLOOKUP($L$4&$L21&Q$10,Data!$A:$H,7,FALSE)=TRUE)),"",IF(AND($E$2="Zuid",ISNA(VLOOKUP($L$4&$L21&Q$10,Data!$A:$H,8,FALSE)=TRUE)),"",IF(AND($E$2="Noord",VLOOKUP($L$4&$L21&Q$10,Data!$A:$H,6,FALSE)="Vakantie"),"x",IF(AND($E$2="Midden",VLOOKUP($L$4&$L21&Q$10,Data!$A:$H,7,FALSE)="Vakantie"),"x",IF(AND($E$2="Zuid",VLOOKUP($L$4&$L21&Q$10,Data!$A:$H,8,FALSE)="Vakantie"),"x","")))))) | R21: =IF(AND($E$2="Noord",ISNA(VLOOKUP($L$4&$L21&R$10,Data!$A:$H,6,FALSE)=TRUE)),"",IF(AND($E$2="Midden",ISNA(VLOOKUP($L$4&$L21&R$10,Data!$A:$H,7,FALSE)=TRUE)),"",IF(AND($E$2="Zuid",ISNA(VLOOKUP($L$4&$L21&R$10,Data!$A:$H,8,FALSE)=TRUE)),"",IF(AND($E$2="Noord",VLOOKUP($L$4&$L21&R$10,Data!$A:$H,6,FALSE)="Vakantie"),"x",IF(AND($E$2="Midden",VLOOKUP($L$4&$L21&R$10,Data!$A:$H,7,FALSE)="Vakantie"),"x",IF(AND($E$2="Zuid",VLOOKUP($L$4&$L21&R$10,Data!$A:$H,8,FALSE)="Vakantie"),"x","")))))) | S21: =IF(AND($E$2="Noord",ISNA(VLOOKUP($L$4&$L21&S$10,Data!$A:$H,6,FALSE)=TRUE)),"",IF(AND($E$2="Midden",ISNA(VLOOKUP($L$4&$L21&S$10,Data!$A:$H,7,FALSE)=TRUE)),"",IF(AND($E$2="Zuid",ISNA(VLOOKUP($L$4&$L21&S$10,Data!$A:$H,8,FALSE)=TRUE)),"",IF(AND($E$2="Noord",VLOOKUP($L$4&$L21&S$10,Data!$A:$H,6,FALSE)="Vakantie"),"x",IF(AND($E$2="Midden",VLOOKUP($L$4&$L21&S$10,Data!$A:$H,7,FALSE)="Vakantie"),"x",IF(AND($E$2="Zuid",VLOOKUP($L$4&$L21&S$10,Data!$A:$H,8,FALSE)="Vakantie"),"x","")))))) | T21: =SUM(O21:S21) -> 0 | V21: 11 | W21: =+W20+7 -> 46461 | X21: =W22-3 -> 46465 | Y21: =IF(AND($E$2="Noord",ISNA(VLOOKUP($V$4&$V21&Y$10,Data!$A:$H,6,FALSE)=TRUE)),"",IF(AND($E$2="Midden",ISNA(VLOOKUP($V$4&$V21&Y$10,Data!$A:$H,7,FALSE)=TRUE)),"",IF(AND($E$2="Zuid",ISNA(VLOOKUP($V$4&$V21&Y$10,Data!$A:$H,8,FALSE)=TRUE)),"",IF(AND($E$2="Noord",VLOOKUP($V$4&$V21&Y$10,Data!$A:$H,6,FALSE)="Vakantie"),"x",IF(AND($E$2="Midden",VLOOKUP($V$4&$V21&Y$10,Data!$A:$H,7,FALSE)="Vakantie"),"x",IF(AND($E$2="Zuid",VLOOKUP($V$4&$V21&Y$10,Data!$A:$H,8,FALSE)="Vakantie"),"x","")))))) | Z21: =IF(AND($E$2="Noord",ISNA(VLOOKUP($V$4&$V21&Z$10,Data!$A:$H,6,FALSE)=TRUE)),"",IF(AND($E$2="Midden",ISNA(VLOOKUP($V$4&$V21&Z$10,Data!$A:$H,7,FALSE)=TRUE)),"",IF(AND($E$2="Zuid",ISNA(VLOOKUP($V$4&$V21&Z$10,Data!$A:$H,8,FALSE)=TRUE)),"",IF(AND($E$2="Noord",VLOOKUP($V$4&$V21&Z$10,Data!$A:$H,6,FALSE)="Vakantie"),"x",IF(AND($E$2="Midden",VLOOKUP($V$4&$V21&Z$10,Data!$A:$H,7,FALSE)="Vakantie"),"x",IF(AND($E$2="Zuid",VLOOKUP($V$4&$V21&Z$10,Data!$A:$H,8,FALSE)="Vakantie"),"x","")))))) | AA21: =IF(AND($E$2="Noord",ISNA(VLOOKUP($V$4&$V21&AA$10,Data!$A:$H,6,FALSE)=TRUE)),"",IF(AND($E$2="Midden",ISNA(VLOOKUP($V$4&$V21&AA$10,Data!$A:$H,7,FALSE)=TRUE)),"",IF(AND($E$2="Zuid",ISNA(VLOOKUP($V$4&$V21&AA$10,Data!$A:$H,8,FALSE)=TRUE)),"",IF(AND($E$2="Noord",VLOOKUP($V$4&$V21&AA$10,Data!$A:$H,6,FALSE)="Vakantie"),"x",IF(AND($E$2="Midden",VLOOKUP($V$4&$V21&AA$10,Data!$A:$H,7,FALSE)="Vakantie"),"x",IF(AND($E$2="Zuid",VLOOKUP($V$4&$V21&AA$10,Data!$A:$H,8,FALSE)="Vakantie"),"x","")))))) | AB21: =IF(AND($E$2="Noord",ISNA(VLOOKUP($V$4&$V21&AB$10,Data!$A:$H,6,FALSE)=TRUE)),"",IF(AND($E$2="Midden",ISNA(VLOOKUP($V$4&$V21&AB$10,Data!$A:$H,7,FALSE)=TRUE)),"",IF(AND($E$2="Zuid",ISNA(VLOOKUP($V$4&$V21&AB$10,Data!$A:$H,8,FALSE)=TRUE)),"",IF(AND($E$2="Noord",VLOOKUP($V$4&$V21&AB$10,Data!$A:$H,6,FALSE)="Vakantie"),"x",IF(AND($E$2="Midden",VLOOKUP($V$4&$V21&AB$10,Data!$A:$H,7,FALSE)="Vakantie"),"x",IF(AND($E$2="Zuid",VLOOKUP($V$4&$V21&AB$10,Data!$A:$H,8,FALSE)="Vakantie"),"x","")))))) | AC21: =IF(AND($E$2="Noord",ISNA(VLOOKUP($V$4&$V21&AC$10,Data!$A:$H,6,FALSE)=TRUE)),"",IF(AND($E$2="Midden",ISNA(VLOOKUP($V$4&$V21&AC$10,Data!$A:$H,7,FALSE)=TRUE)),"",IF(AND($E$2="Zuid",ISNA(VLOOKUP($V$4&$V21&AC$10,Data!$A:$H,8,FALSE)=TRUE)),"",IF(AND($E$2="Noord",VLOOKUP($V$4&$V21&AC$10,Data!$A:$H,6,FALSE)="Vakantie"),"x",IF(AND($E$2="Midden",VLOOKUP($V$4&$V21&AC$10,Data!$A:$H,7,FALSE)="Vakantie"),"x",IF(AND($E$2="Zuid",VLOOKUP($V$4&$V21&AC$10,Data!$A:$H,8,FALSE)="Vakantie"),"x","")))))) | AD21: =SUM(Y21:AC21) -> 0 | AI21: =IF(SUM($E21:$I21)=0,1,2) -> 1 | AJ21: =IF((COUNTIF($AI$11:$AI21,2))>1,"",IF(OR(AI20="",AI20=2),"",IF(AI21=1,"",IF(AND($AI21=2,E21<>""),$C21,IF(AND($AI21=2,F21<>""),$C21+1,IF(AND($AI21=2,G21<>""),$C21+2,IF(AND($AI21=2,H21<>""),$C21+3,IF(AND($AI21=2,I21<>""),$C21+4,"")))))))) | AK21: =IF(SUM(E22:$I$62)+$T$68+$AD$68=0,1,2) -> 1 | AL21: =IF(AK20="","",IF(AK20=1,"",IF(AK21<>1,"",IF(AND(AK21=1,I21<>""),C21+4,IF(AND(AK21=1,H21<>""),C21+3,IF(AND(AK21=1,G21<>""),C21+2,IF(AND(AK21=1,F21<>""),C21+1,IF(AND(AK21=1,E21<>""),C21,"")))))))) | AM21: =IF(SUM($O21:$S21)=0,1,2) -> 1 | AN21: =IF((COUNTIF($AI$11:$AI$64,2)+COUNTIF($AM20:$AM21,2))>1,"",IF(OR(AM20="",AM20=2),"",IF(AM21=1,"",IF(AND(AM21=2,O21<>""),M21,IF(AND(AM21=2,P21<>""),M21+1,IF(AND(AM21=2,Q21<>""),M21+2,IF(AND(AM21=2,R21<>""),M21+3,IF(AND(AM21=2,S21<>""),M21+4,"")))))))) | AO21: =IF(SUM(O22:$S$62)+$AD$68=0,1,2) -> 1 | AP21: =IF(AO20="","",IF(AO20=1,"",IF(AO21<>1,"",IF(AND(AO21=1,S21<>""),M21+4,IF(AND(AO21=1,R21<>""),M21+3,IF(AND(AO21=1,Q21<>""),M21+2,IF(AND(AO21=1,P21<>""),M21+1,IF(AND(AO21=1,O21<>""),M21,"")))))))) | AQ21: =IF(SUM($O22:$S$62)=0,1,2) -> 1 | AR21: =IF((COUNTIF($AI$11:$AI$64,2)+COUNTIF($AM$11:$AM$64,2)+COUNTIF(AQ$12:$AQ21,2))>1,"",IF(OR(AQ20="",AQ20=2),"",IF(AQ21=1,"",IF(AND(AQ21=2,Y21<>""),W21,IF(AND(AQ21=2,Z21<>""),W21+1,IF(AND(AQ21=2,AA21<>""),W21+2,IF(AND(AQ21=2,AB21<>""),W21+3,IF(AND(AQ21=2,AC21<>""),W21+4,"")))))))) | AS21: =IF(SUM(Y22:$AC$62)=0,1,2) -> 1 | AT21: =IF(AS20="","",IF(AS20=1,"",IF(AS21<>1,"",IF(AND(AS21=1,AC21<>""),W21+4,IF(AND(AS21=1,AB21<>""),W21+3,IF(AND(AS21=1,AA21<>""),W21+2,IF(AND(AS21=1,Z21<>""),W21+1,IF(AND(AS21=1,Y21<>""),W21,""))))))))
B22: 12 | C22: =C21+7 -> 45733 | D22: =C23-3 -> 45737 | E22: =IF(AND($E$2="Noord",ISNA(VLOOKUP($B$4&$B22&E$10,Data!$A:$H,6,FALSE)=TRUE)),"",IF(AND($E$2="Midden",ISNA(VLOOKUP($B$4&$B22&E$10,Data!$A:$H,7,FALSE)=TRUE)),"",IF(AND($E$2="Zuid",ISNA(VLOOKUP($B$4&$B22&E$10,Data!$A:$H,8,FALSE)=TRUE)),"",IF(AND($E$2="Noord",VLOOKUP($B$4&$B22&E$10,Data!$A:$H,6,FALSE)="Vakantie"),"x",IF(AND($E$2="Midden",VLOOKUP($B$4&$B22&E$10,Data!$A:$H,7,FALSE)="Vakantie"),"x",IF(AND($E$2="Zuid",VLOOKUP($B$4&$B22&E$10,Data!$A:$H,8,FALSE)="Vakantie"),"x","")))))) | F22: =IF(AND($E$2="Noord",ISNA(VLOOKUP($B$4&$B22&F$10,Data!$A:$H,6,FALSE)=TRUE)),"",IF(AND($E$2="Midden",ISNA(VLOOKUP($B$4&$B22&F$10,Data!$A:$H,7,FALSE)=TRUE)),"",IF(AND($E$2="Zuid",ISNA(VLOOKUP($B$4&$B22&F$10,Data!$A:$H,8,FALSE)=TRUE)),"",IF(AND($E$2="Noord",VLOOKUP($B$4&$B22&F$10,Data!$A:$H,6,FALSE)="Vakantie"),"x",IF(AND($E$2="Midden",VLOOKUP($B$4&$B22&F$10,Data!$A:$H,7,FALSE)="Vakantie"),"x",IF(AND($E$2="Zuid",VLOOKUP($B$4&$B22&F$10,Data!$A:$H,8,FALSE)="Vakantie"),"x","")))))) | G22: =IF(AND($E$2="Noord",ISNA(VLOOKUP($B$4&$B22&G$10,Data!$A:$H,6,FALSE)=TRUE)),"",IF(AND($E$2="Midden",ISNA(VLOOKUP($B$4&$B22&G$10,Data!$A:$H,7,FALSE)=TRUE)),"",IF(AND($E$2="Zuid",ISNA(VLOOKUP($B$4&$B22&G$10,Data!$A:$H,8,FALSE)=TRUE)),"",IF(AND($E$2="Noord",VLOOKUP($B$4&$B22&G$10,Data!$A:$H,6,FALSE)="Vakantie"),"x",IF(AND($E$2="Midden",VLOOKUP($B$4&$B22&G$10,Data!$A:$H,7,FALSE)="Vakantie"),"x",IF(AND($E$2="Zuid",VLOOKUP($B$4&$B22&G$10,Data!$A:$H,8,FALSE)="Vakantie"),"x","")))))) | H22: =IF(AND($E$2="Noord",ISNA(VLOOKUP($B$4&$B22&H$10,Data!$A:$H,6,FALSE)=TRUE)),"",IF(AND($E$2="Midden",ISNA(VLOOKUP($B$4&$B22&H$10,Data!$A:$H,7,FALSE)=TRUE)),"",IF(AND($E$2="Zuid",ISNA(VLOOKUP($B$4&$B22&H$10,Data!$A:$H,8,FALSE)=TRUE)),"",IF(AND($E$2="Noord",VLOOKUP($B$4&$B22&H$10,Data!$A:$H,6,FALSE)="Vakantie"),"x",IF(AND($E$2="Midden",VLOOKUP($B$4&$B22&H$10,Data!$A:$H,7,FALSE)="Vakantie"),"x",IF(AND($E$2="Zuid",VLOOKUP($B$4&$B22&H$10,Data!$A:$H,8,FALSE)="Vakantie"),"x","")))))) | I22: =IF(AND($E$2="Noord",ISNA(VLOOKUP($B$4&$B22&I$10,Data!$A:$H,6,FALSE)=TRUE)),"",IF(AND($E$2="Midden",ISNA(VLOOKUP($B$4&$B22&I$10,Data!$A:$H,7,FALSE)=TRUE)),"",IF(AND($E$2="Zuid",ISNA(VLOOKUP($B$4&$B22&I$10,Data!$A:$H,8,FALSE)=TRUE)),"",IF(AND($E$2="Noord",VLOOKUP($B$4&$B22&I$10,Data!$A:$H,6,FALSE)="Vakantie"),"x",IF(AND($E$2="Midden",VLOOKUP($B$4&$B22&I$10,Data!$A:$H,7,FALSE)="Vakantie"),"x",IF(AND($E$2="Zuid",VLOOKUP($B$4&$B22&I$10,Data!$A:$H,8,FALSE)="Vakantie"),"x","")))))) | J22: =SUM(E22:I22) -> 0 | L22: 12 | M22: =M21+7 -> 46097 | N22: =+M23-3 -> 46101 | O22: =IF(AND($E$2="Noord",ISNA(VLOOKUP($L$4&$L22&O$10,Data!$A:$H,6,FALSE)=TRUE)),"",IF(AND($E$2="Midden",ISNA(VLOOKUP($L$4&$L22&O$10,Data!$A:$H,7,FALSE)=TRUE)),"",IF(AND($E$2="Zuid",ISNA(VLOOKUP($L$4&$L22&O$10,Data!$A:$H,8,FALSE)=TRUE)),"",IF(AND($E$2="Noord",VLOOKUP($L$4&$L22&O$10,Data!$A:$H,6,FALSE)="Vakantie"),"x",IF(AND($E$2="Midden",VLOOKUP($L$4&$L22&O$10,Data!$A:$H,7,FALSE)="Vakantie"),"x",IF(AND($E$2="Zuid",VLOOKUP($L$4&$L22&O$10,Data!$A:$H,8,FALSE)="Vakantie"),"x","")))))) | P22: =IF(AND($E$2="Noord",ISNA(VLOOKUP($L$4&$L22&P$10,Data!$A:$H,6,FALSE)=TRUE)),"",IF(AND($E$2="Midden",ISNA(VLOOKUP($L$4&$L22&P$10,Data!$A:$H,7,FALSE)=TRUE)),"",IF(AND($E$2="Zuid",ISNA(VLOOKUP($L$4&$L22&P$10,Data!$A:$H,8,FALSE)=TRUE)),"",IF(AND($E$2="Noord",VLOOKUP($L$4&$L22&P$10,Data!$A:$H,6,FALSE)="Vakantie"),"x",IF(AND($E$2="Midden",VLOOKUP($L$4&$L22&P$10,Data!$A:$H,7,FALSE)="Vakantie"),"x",IF(AND($E$2="Zuid",VLOOKUP($L$4&$L22&P$10,Data!$A:$H,8,FALSE)="Vakantie"),"x","")))))) | Q22: =IF(AND($E$2="Noord",ISNA(VLOOKUP($L$4&$L22&Q$10,Data!$A:$H,6,FALSE)=TRUE)),"",IF(AND($E$2="Midden",ISNA(VLOOKUP($L$4&$L22&Q$10,Data!$A:$H,7,FALSE)=TRUE)),"",IF(AND($E$2="Zuid",ISNA(VLOOKUP($L$4&$L22&Q$10,Data!$A:$H,8,FALSE)=TRUE)),"",IF(AND($E$2="Noord",VLOOKUP($L$4&$L22&Q$10,Data!$A:$H,6,FALSE)="Vakantie"),"x",IF(AND($E$2="Midden",VLOOKUP($L$4&$L22&Q$10,Data!$A:$H,7,FALSE)="Vakantie"),"x",IF(AND($E$2="Zuid",VLOOKUP($L$4&$L22&Q$10,Data!$A:$H,8,FALSE)="Vakantie"),"x","")))))) | R22: =IF(AND($E$2="Noord",ISNA(VLOOKUP($L$4&$L22&R$10,Data!$A:$H,6,FALSE)=TRUE)),"",IF(AND($E$2="Midden",ISNA(VLOOKUP($L$4&$L22&R$10,Data!$A:$H,7,FALSE)=TRUE)),"",IF(AND($E$2="Zuid",ISNA(VLOOKUP($L$4&$L22&R$10,Data!$A:$H,8,FALSE)=TRUE)),"",IF(AND($E$2="Noord",VLOOKUP($L$4&$L22&R$10,Data!$A:$H,6,FALSE)="Vakantie"),"x",IF(AND($E$2="Midden",VLOOKUP($L$4&$L22&R$10,Data!$A:$H,7,FALSE)="Vakantie"),"x",IF(AND($E$2="Zuid",VLOOKUP($L$4&$L22&R$10,Data!$A:$H,8,FALSE)="Vakantie"),"x","")))))) | S22: =IF(AND($E$2="Noord",ISNA(VLOOKUP($L$4&$L22&S$10,Data!$A:$H,6,FALSE)=TRUE)),"",IF(AND($E$2="Midden",ISNA(VLOOKUP($L$4&$L22&S$10,Data!$A:$H,7,FALSE)=TRUE)),"",IF(AND($E$2="Zuid",ISNA(VLOOKUP($L$4&$L22&S$10,Data!$A:$H,8,FALSE)=TRUE)),"",IF(AND($E$2="Noord",VLOOKUP($L$4&$L22&S$10,Data!$A:$H,6,FALSE)="Vakantie"),"x",IF(AND($E$2="Midden",VLOOKUP($L$4&$L22&S$10,Data!$A:$H,7,FALSE)="Vakantie"),"x",IF(AND($E$2="Zuid",VLOOKUP($L$4&$L22&S$10,Data!$A:$H,8,FALSE)="Vakantie"),"x","")))))) | T22: =SUM(O22:S22) -> 0 | V22: 12 | W22: =+W21+7 -> 46468 | X22: =W23-3 -> 46472 | Y22: =IF(AND($E$2="Noord",ISNA(VLOOKUP($V$4&$V22&Y$10,Data!$A:$H,6,FALSE)=TRUE)),"",IF(AND($E$2="Midden",ISNA(VLOOKUP($V$4&$V22&Y$10,Data!$A:$H,7,FALSE)=TRUE)),"",IF(AND($E$2="Zuid",ISNA(VLOOKUP($V$4&$V22&Y$10,Data!$A:$H,8,FALSE)=TRUE)),"",IF(AND($E$2="Noord",VLOOKUP($V$4&$V22&Y$10,Data!$A:$H,6,FALSE)="Vakantie"),"x",IF(AND($E$2="Midden",VLOOKUP($V$4&$V22&Y$10,Data!$A:$H,7,FALSE)="Vakantie"),"x",IF(AND($E$2="Zuid",VLOOKUP($V$4&$V22&Y$10,Data!$A:$H,8,FALSE)="Vakantie"),"x","")))))) | Z22: =IF(AND($E$2="Noord",ISNA(VLOOKUP($V$4&$V22&Z$10,Data!$A:$H,6,FALSE)=TRUE)),"",IF(AND($E$2="Midden",ISNA(VLOOKUP($V$4&$V22&Z$10,Data!$A:$H,7,FALSE)=TRUE)),"",IF(AND($E$2="Zuid",ISNA(VLOOKUP($V$4&$V22&Z$10,Data!$A:$H,8,FALSE)=TRUE)),"",IF(AND($E$2="Noord",VLOOKUP($V$4&$V22&Z$10,Data!$A:$H,6,FALSE)="Vakantie"),"x",IF(AND($E$2="Midden",VLOOKUP($V$4&$V22&Z$10,Data!$A:$H,7,FALSE)="Vakantie"),"x",IF(AND($E$2="Zuid",VLOOKUP($V$4&$V22&Z$10,Data!$A:$H,8,FALSE)="Vakantie"),"x","")))))) | AA22: =IF(AND($E$2="Noord",ISNA(VLOOKUP($V$4&$V22&AA$10,Data!$A:$H,6,FALSE)=TRUE)),"",IF(AND($E$2="Midden",ISNA(VLOOKUP($V$4&$V22&AA$10,Data!$A:$H,7,FALSE)=TRUE)),"",IF(AND($E$2="Zuid",ISNA(VLOOKUP($V$4&$V22&AA$10,Data!$A:$H,8,FALSE)=TRUE)),"",IF(AND($E$2="Noord",VLOOKUP($V$4&$V22&AA$10,Data!$A:$H,6,FALSE)="Vakantie"),"x",IF(AND($E$2="Midden",VLOOKUP($V$4&$V22&AA$10,Data!$A:$H,7,FALSE)="Vakantie"),"x",IF(AND($E$2="Zuid",VLOOKUP($V$4&$V22&AA$10,Data!$A:$H,8,FALSE)="Vakantie"),"x","")))))) | AB22: =IF(AND($E$2="Noord",ISNA(VLOOKUP($V$4&$V22&AB$10,Data!$A:$H,6,FALSE)=TRUE)),"",IF(AND($E$2="Midden",ISNA(VLOOKUP($V$4&$V22&AB$10,Data!$A:$H,7,FALSE)=TRUE)),"",IF(AND($E$2="Zuid",ISNA(VLOOKUP($V$4&$V22&AB$10,Data!$A:$H,8,FALSE)=TRUE)),"",IF(AND($E$2="Noord",VLOOKUP($V$4&$V22&AB$10,Data!$A:$H,6,FALSE)="Vakantie"),"x",IF(AND($E$2="Midden",VLOOKUP($V$4&$V22&AB$10,Data!$A:$H,7,FALSE)="Vakantie"),"x",IF(AND($E$2="Zuid",VLOOKUP($V$4&$V22&AB$10,Data!$A:$H,8,FALSE)="Vakantie"),"x","")))))) | AC22: =IF(AND($E$2="Noord",ISNA(VLOOKUP($V$4&$V22&AC$10,Data!$A:$H,6,FALSE)=TRUE)),"",IF(AND($E$2="Midden",ISNA(VLOOKUP($V$4&$V22&AC$10,Data!$A:$H,7,FALSE)=TRUE)),"",IF(AND($E$2="Zuid",ISNA(VLOOKUP($V$4&$V22&AC$10,Data!$A:$H,8,FALSE)=TRUE)),"",IF(AND($E$2="Noord",VLOOKUP($V$4&$V22&AC$10,Data!$A:$H,6,FALSE)="Vakantie"),"x",IF(AND($E$2="Midden",VLOOKUP($V$4&$V22&AC$10,Data!$A:$H,7,FALSE)="Vakantie"),"x",IF(AND($E$2="Zuid",VLOOKUP($V$4&$V22&AC$10,Data!$A:$H,8,FALSE)="Vakantie"),"x","")))))) -> x | AD22: =SUM(Y22:AC22) -> 0 | AI22: =IF(SUM($E22:$I22)=0,1,2) -> 1 | AJ22: =IF((COUNTIF($AI$11:$AI22,2))>1,"",IF(OR(AI21="",AI21=2),"",IF(AI22=1,"",IF(AND($AI22=2,E22<>""),$C22,IF(AND($AI22=2,F22<>""),$C22+1,IF(AND($AI22=2,G22<>""),$C22+2,IF(AND($AI22=2,H22<>""),$C22+3,IF(AND($AI22=2,I22<>""),$C22+4,"")))))))) | AK22: =IF(SUM(E23:$I$62)+$T$68+$AD$68=0,1,2) -> 1 | AL22: =IF(AK21="","",IF(AK21=1,"",IF(AK22<>1,"",IF(AND(AK22=1,I22<>""),C22+4,IF(AND(AK22=1,H22<>""),C22+3,IF(AND(AK22=1,G22<>""),C22+2,IF(AND(AK22=1,F22<>""),C22+1,IF(AND(AK22=1,E22<>""),C22,"")))))))) | AM22: =IF(SUM($O22:$S22)=0,1,2) -> 1 | AN22: =IF((COUNTIF($AI$11:$AI$64,2)+COUNTIF($AM21:$AM22,2))>1,"",IF(OR(AM21="",AM21=2),"",IF(AM22=1,"",IF(AND(AM22=2,O22<>""),M22,IF(AND(AM22=2,P22<>""),M22+1,IF(AND(AM22=2,Q22<>""),M22+2,IF(AND(AM22=2,R22<>""),M22+3,IF(AND(AM22=2,S22<>""),M22+4,"")))))))) | AO22: =IF(SUM(O23:$S$62)+$AD$68=0,1,2) -> 1 | AP22: =IF(AO21="","",IF(AO21=1,"",IF(AO22<>1,"",IF(AND(AO22=1,S22<>""),M22+4,IF(AND(AO22=1,R22<>""),M22+3,IF(AND(AO22=1,Q22<>""),M22+2,IF(AND(AO22=1,P22<>""),M22+1,IF(AND(AO22=1,O22<>""),M22,"")))))))) | AQ22: =IF(SUM($O23:$S$62)=0,1,2) -> 1 | AR22: =IF((COUNTIF($AI$11:$AI$64,2)+COUNTIF($AM$11:$AM$64,2)+COUNTIF(AQ$12:$AQ22,2))>1,"",IF(OR(AQ21="",AQ21=2),"",IF(AQ22=1,"",IF(AND(AQ22=2,Y22<>""),W22,IF(AND(AQ22=2,Z22<>""),W22+1,IF(AND(AQ22=2,AA22<>""),W22+2,IF(AND(AQ22=2,AB22<>""),W22+3,IF(AND(AQ22=2,AC22<>""),W22+4,"")))))))) | AS22: =IF(SUM(Y23:$AC$62)=0,1,2) -> 1 | AT22: =IF(AS21="","",IF(AS21=1,"",IF(AS22<>1,"",IF(AND(AS22=1,AC22<>""),W22+4,IF(AND(AS22=1,AB22<>""),W22+3,IF(AND(AS22=1,AA22<>""),W22+2,IF(AND(AS22=1,Z22<>""),W22+1,IF(AND(AS22=1,Y22<>""),W22,""))))))))
B23: 13 | C23: =C22+7 -> 45740 | D23: =C24-3 -> 45744 | E23: =IF(AND($E$2="Noord",ISNA(VLOOKUP($B$4&$B23&E$10,Data!$A:$H,6,FALSE)=TRUE)),"",IF(AND($E$2="Midden",ISNA(VLOOKUP($B$4&$B23&E$10,Data!$A:$H,7,FALSE)=TRUE)),"",IF(AND($E$2="Zuid",ISNA(VLOOKUP($B$4&$B23&E$10,Data!$A:$H,8,FALSE)=TRUE)),"",IF(AND($E$2="Noord",VLOOKUP($B$4&$B23&E$10,Data!$A:$H,6,FALSE)="Vakantie"),"x",IF(AND($E$2="Midden",VLOOKUP($B$4&$B23&E$10,Data!$A:$H,7,FALSE)="Vakantie"),"x",IF(AND($E$2="Zuid",VLOOKUP($B$4&$B23&E$10,Data!$A:$H,8,FALSE)="Vakantie"),"x","")))))) | F23: =IF(AND($E$2="Noord",ISNA(VLOOKUP($B$4&$B23&F$10,Data!$A:$H,6,FALSE)=TRUE)),"",IF(AND($E$2="Midden",ISNA(VLOOKUP($B$4&$B23&F$10,Data!$A:$H,7,FALSE)=TRUE)),"",IF(AND($E$2="Zuid",ISNA(VLOOKUP($B$4&$B23&F$10,Data!$A:$H,8,FALSE)=TRUE)),"",IF(AND($E$2="Noord",VLOOKUP($B$4&$B23&F$10,Data!$A:$H,6,FALSE)="Vakantie"),"x",IF(AND($E$2="Midden",VLOOKUP($B$4&$B23&F$10,Data!$A:$H,7,FALSE)="Vakantie"),"x",IF(AND($E$2="Zuid",VLOOKUP($B$4&$B23&F$10,Data!$A:$H,8,FALSE)="Vakantie"),"x","")))))) | G23: =IF(AND($E$2="Noord",ISNA(VLOOKUP($B$4&$B23&G$10,Data!$A:$H,6,FALSE)=TRUE)),"",IF(AND($E$2="Midden",ISNA(VLOOKUP($B$4&$B23&G$10,Data!$A:$H,7,FALSE)=TRUE)),"",IF(AND($E$2="Zuid",ISNA(VLOOKUP($B$4&$B23&G$10,Data!$A:$H,8,FALSE)=TRUE)),"",IF(AND($E$2="Noord",VLOOKUP($B$4&$B23&G$10,Data!$A:$H,6,FALSE)="Vakantie"),"x",IF(AND($E$2="Midden",VLOOKUP($B$4&$B23&G$10,Data!$A:$H,7,FALSE)="Vakantie"),"x",IF(AND($E$2="Zuid",VLOOKUP($B$4&$B23&G$10,Data!$A:$H,8,FALSE)="Vakantie"),"x","")))))) | H23: =IF(AND($E$2="Noord",ISNA(VLOOKUP($B$4&$B23&H$10,Data!$A:$H,6,FALSE)=TRUE)),"",IF(AND($E$2="Midden",ISNA(VLOOKUP($B$4&$B23&H$10,Data!$A:$H,7,FALSE)=TRUE)),"",IF(AND($E$2="Zuid",ISNA(VLOOKUP($B$4&$B23&H$10,Data!$A:$H,8,FALSE)=TRUE)),"",IF(AND($E$2="Noord",VLOOKUP($B$4&$B23&H$10,Data!$A:$H,6,FALSE)="Vakantie"),"x",IF(AND($E$2="Midden",VLOOKUP($B$4&$B23&H$10,Data!$A:$H,7,FALSE)="Vakantie"),"x",IF(AND($E$2="Zuid",VLOOKUP($B$4&$B23&H$10,Data!$A:$H,8,FALSE)="Vakantie"),"x","")))))) | I23: =IF(AND($E$2="Noord",ISNA(VLOOKUP($B$4&$B23&I$10,Data!$A:$H,6,FALSE)=TRUE)),"",IF(AND($E$2="Midden",ISNA(VLOOKUP($B$4&$B23&I$10,Data!$A:$H,7,FALSE)=TRUE)),"",IF(AND($E$2="Zuid",ISNA(VLOOKUP($B$4&$B23&I$10,Data!$A:$H,8,FALSE)=TRUE)),"",IF(AND($E$2="Noord",VLOOKUP($B$4&$B23&I$10,Data!$A:$H,6,FALSE)="Vakantie"),"x",IF(AND($E$2="Midden",VLOOKUP($B$4&$B23&I$10,Data!$A:$H,7,FALSE)="Vakantie"),"x",IF(AND($E$2="Zuid",VLOOKUP($B$4&$B23&I$10,Data!$A:$H,8,FALSE)="Vakantie"),"x","")))))) | J23: =SUM(E23:I23) -> 0 | L23: 13 | M23: =M22+7 -> 46104 | N23: =+M24-3 -> 46108 | O23: =IF(AND($E$2="Noord",ISNA(VLOOKUP($L$4&$L23&O$10,Data!$A:$H,6,FALSE)=TRUE)),"",IF(AND($E$2="Midden",ISNA(VLOOKUP($L$4&$L23&O$10,Data!$A:$H,7,FALSE)=TRUE)),"",IF(AND($E$2="Zuid",ISNA(VLOOKUP($L$4&$L23&O$10,Data!$A:$H,8,FALSE)=TRUE)),"",IF(AND($E$2="Noord",VLOOKUP($L$4&$L23&O$10,Data!$A:$H,6,FALSE)="Vakantie"),"x",IF(AND($E$2="Midden",VLOOKUP($L$4&$L23&O$10,Data!$A:$H,7,FALSE)="Vakantie"),"x",IF(AND($E$2="Zuid",VLOOKUP($L$4&$L23&O$10,Data!$A:$H,8,FALSE)="Vakantie"),"x","")))))) | P23: =IF(AND($E$2="Noord",ISNA(VLOOKUP($L$4&$L23&P$10,Data!$A:$H,6,FALSE)=TRUE)),"",IF(AND($E$2="Midden",ISNA(VLOOKUP($L$4&$L23&P$10,Data!$A:$H,7,FALSE)=TRUE)),"",IF(AND($E$2="Zuid",ISNA(VLOOKUP($L$4&$L23&P$10,Data!$A:$H,8,FALSE)=TRUE)),"",IF(AND($E$2="Noord",VLOOKUP($L$4&$L23&P$10,Data!$A:$H,6,FALSE)="Vakantie"),"x",IF(AND($E$2="Midden",VLOOKUP($L$4&$L23&P$10,Data!$A:$H,7,FALSE)="Vakantie"),"x",IF(AND($E$2="Zuid",VLOOKUP($L$4&$L23&P$10,Data!$A:$H,8,FALSE)="Vakantie"),"x","")))))) | Q23: =IF(AND($E$2="Noord",ISNA(VLOOKUP($L$4&$L23&Q$10,Data!$A:$H,6,FALSE)=TRUE)),"",IF(AND($E$2="Midden",ISNA(VLOOKUP($L$4&$L23&Q$10,Data!$A:$H,7,FALSE)=TRUE)),"",IF(AND($E$2="Zuid",ISNA(VLOOKUP($L$4&$L23&Q$10,Data!$A:$H,8,FALSE)=TRUE)),"",IF(AND($E$2="Noord",VLOOKUP($L$4&$L23&Q$10,Data!$A:$H,6,FALSE)="Vakantie"),"x",IF(AND($E$2="Midden",VLOOKUP($L$4&$L23&Q$10,Data!$A:$H,7,FALSE)="Vakantie"),"x",IF(AND($E$2="Zuid",VLOOKUP($L$4&$L23&Q$10,Data!$A:$H,8,FALSE)="Vakantie"),"x","")))))) | R23: =IF(AND($E$2="Noord",ISNA(VLOOKUP($L$4&$L23&R$10,Data!$A:$H,6,FALSE)=TRUE)),"",IF(AND($E$2="Midden",ISNA(VLOOKUP($L$4&$L23&R$10,Data!$A:$H,7,FALSE)=TRUE)),"",IF(AND($E$2="Zuid",ISNA(VLOOKUP($L$4&$L23&R$10,Data!$A:$H,8,FALSE)=TRUE)),"",IF(AND($E$2="Noord",VLOOKUP($L$4&$L23&R$10,Data!$A:$H,6,FALSE)="Vakantie"),"x",IF(AND($E$2="Midden",VLOOKUP($L$4&$L23&R$10,Data!$A:$H,7,FALSE)="Vakantie"),"x",IF(AND($E$2="Zuid",VLOOKUP($L$4&$L23&R$10,Data!$A:$H,8,FALSE)="Vakantie"),"x","")))))) | S23: =IF(AND($E$2="Noord",ISNA(VLOOKUP($L$4&$L23&S$10,Data!$A:$H,6,FALSE)=TRUE)),"",IF(AND($E$2="Midden",ISNA(VLOOKUP($L$4&$L23&S$10,Data!$A:$H,7,FALSE)=TRUE)),"",IF(AND($E$2="Zuid",ISNA(VLOOKUP($L$4&$L23&S$10,Data!$A:$H,8,FALSE)=TRUE)),"",IF(AND($E$2="Noord",VLOOKUP($L$4&$L23&S$10,Data!$A:$H,6,FALSE)="Vakantie"),"x",IF(AND($E$2="Midden",VLOOKUP($L$4&$L23&S$10,Data!$A:$H,7,FALSE)="Vakantie"),"x",IF(AND($E$2="Zuid",VLOOKUP($L$4&$L23&S$10,Data!$A:$H,8,FALSE)="Vakantie"),"x","")))))) | T23: =SUM(O23:S23) -> 0 | V23: 13 | W23: =+W22+7 -> 46475 | X23: =W24-3 -> 46479 | Y23: =IF(AND($E$2="Noord",ISNA(VLOOKUP($V$4&$V23&Y$10,Data!$A:$H,6,FALSE)=TRUE)),"",IF(AND($E$2="Midden",ISNA(VLOOKUP($V$4&$V23&Y$10,Data!$A:$H,7,FALSE)=TRUE)),"",IF(AND($E$2="Zuid",ISNA(VLOOKUP($V$4&$V23&Y$10,Data!$A:$H,8,FALSE)=TRUE)),"",IF(AND($E$2="Noord",VLOOKUP($V$4&$V23&Y$10,Data!$A:$H,6,FALSE)="Vakantie"),"x",IF(AND($E$2="Midden",VLOOKUP($V$4&$V23&Y$10,Data!$A:$H,7,FALSE)="Vakantie"),"x",IF(AND($E$2="Zuid",VLOOKUP($V$4&$V23&Y$10,Data!$A:$H,8,FALSE)="Vakantie"),"x","")))))) -> x | Z23: =IF(AND($E$2="Noord",ISNA(VLOOKUP($V$4&$V23&Z$10,Data!$A:$H,6,FALSE)=TRUE)),"",IF(AND($E$2="Midden",ISNA(VLOOKUP($V$4&$V23&Z$10,Data!$A:$H,7,FALSE)=TRUE)),"",IF(AND($E$2="Zuid",ISNA(VLOOKUP($V$4&$V23&Z$10,Data!$A:$H,8,FALSE)=TRUE)),"",IF(AND($E$2="Noord",VLOOKUP($V$4&$V23&Z$10,Data!$A:$H,6,FALSE)="Vakantie"),"x",IF(AND($E$2="Midden",VLOOKUP($V$4&$V23&Z$10,Data!$A:$H,7,FALSE)="Vakantie"),"x",IF(AND($E$2="Zuid",VLOOKUP($V$4&$V23&Z$10,Data!$A:$H,8,FALSE)="Vakantie"),"x","")))))) | AA23: =IF(AND($E$2="Noord",ISNA(VLOOKUP($V$4&$V23&AA$10,Data!$A:$H,6,FALSE)=TRUE)),"",IF(AND($E$2="Midden",ISNA(VLOOKUP($V$4&$V23&AA$10,Data!$A:$H,7,FALSE)=TRUE)),"",IF(AND($E$2="Zuid",ISNA(VLOOKUP($V$4&$V23&AA$10,Data!$A:$H,8,FALSE)=TRUE)),"",IF(AND($E$2="Noord",VLOOKUP($V$4&$V23&AA$10,Data!$A:$H,6,FALSE)="Vakantie"),"x",IF(AND($E$2="Midden",VLOOKUP($V$4&$V23&AA$10,Data!$A:$H,7,FALSE)="Vakantie"),"x",IF(AND($E$2="Zuid",VLOOKUP($V$4&$V23&AA$10,Data!$A:$H,8,FALSE)="Vakantie"),"x","")))))) | AB23: =IF(AND($E$2="Noord",ISNA(VLOOKUP($V$4&$V23&AB$10,Data!$A:$H,6,FALSE)=TRUE)),"",IF(AND($E$2="Midden",ISNA(VLOOKUP($V$4&$V23&AB$10,Data!$A:$H,7,FALSE)=TRUE)),"",IF(AND($E$2="Zuid",ISNA(VLOOKUP($V$4&$V23&AB$10,Data!$A:$H,8,FALSE)=TRUE)),"",IF(AND($E$2="Noord",VLOOKUP($V$4&$V23&AB$10,Data!$A:$H,6,FALSE)="Vakantie"),"x",IF(AND($E$2="Midden",VLOOKUP($V$4&$V23&AB$10,Data!$A:$H,7,FALSE)="Vakantie"),"x",IF(AND($E$2="Zuid",VLOOKUP($V$4&$V23&AB$10,Data!$A:$H,8,FALSE)="Vakantie"),"x","")))))) | AC23: =IF(AND($E$2="Noord",ISNA(VLOOKUP($V$4&$V23&AC$10,Data!$A:$H,6,FALSE)=TRUE)),"",IF(AND($E$2="Midden",ISNA(VLOOKUP($V$4&$V23&AC$10,Data!$A:$H,7,FALSE)=TRUE)),"",IF(AND($E$2="Zuid",ISNA(VLOOKUP($V$4&$V23&AC$10,Data!$A:$H,8,FALSE)=TRUE)),"",IF(AND($E$2="Noord",VLOOKUP($V$4&$V23&AC$10,Data!$A:$H,6,FALSE)="Vakantie"),"x",IF(AND($E$2="Midden",VLOOKUP($V$4&$V23&AC$10,Data!$A:$H,7,FALSE)="Vakantie"),"x",IF(AND($E$2="Zuid",VLOOKUP($V$4&$V23&AC$10,Data!$A:$H,8,FALSE)="Vakantie"),"x","")))))) | AD23: =SUM(Y23:AC23) -> 0 | AI23: =IF(SUM($E23:$I23)=0,1,2) -> 1 | AJ23: =IF((COUNTIF($AI$11:$AI23,2))>1,"",IF(OR(AI22="",AI22=2),"",IF(AI23=1,"",IF(AND($AI23=2,E23<>""),$C23,IF(AND($AI23=2,F23<>""),$C23+1,IF(AND($AI23=2,G23<>""),$C23+2,IF(AND($AI23=2,H23<>""),$C23+3,IF(AND($AI23=2,I23<>""),$C23+4,"")))))))) | AK23: =IF(SUM(E24:$I$62)+$T$68+$AD$68=0,1,2) -> 1 | AL23: =IF(AK22="","",IF(AK22=1,"",IF(AK23<>1,"",IF(AND(AK23=1,I23<>""),C23+4,IF(AND(AK23=1,H23<>""),C23+3,IF(AND(AK23=1,G23<>""),C23+2,IF(AND(AK23=1,F23<>""),C23+1,IF(AND(AK23=1,E23<>""),C23,"")))))))) | AM23: =IF(SUM($O23:$S23)=0,1,2) -> 1 | AN23: =IF((COUNTIF($AI$11:$AI$64,2)+COUNTIF($AM22:$AM23,2))>1,"",IF(OR(AM22="",AM22=2),"",IF(AM23=1,"",IF(AND(AM23=2,O23<>""),M23,IF(AND(AM23=2,P23<>""),M23+1,IF(AND(AM23=2,Q23<>""),M23+2,IF(AND(AM23=2,R23<>""),M23+3,IF(AND(AM23=2,S23<>""),M23+4,"")))))))) | AO23: =IF(SUM(O24:$S$62)+$AD$68=0,1,2) -> 1 | AP23: =IF(AO22="","",IF(AO22=1,"",IF(AO23<>1,"",IF(AND(AO23=1,S23<>""),M23+4,IF(AND(AO23=1,R23<>""),M23+3,IF(AND(AO23=1,Q23<>""),M23+2,IF(AND(AO23=1,P23<>""),M23+1,IF(AND(AO23=1,O23<>""),M23,"")))))))) | AQ23: =IF(SUM($O24:$S$62)=0,1,2) -> 1 | AR23: =IF((COUNTIF($AI$11:$AI$64,2)+COUNTIF($AM$11:$AM$64,2)+COUNTIF(AQ$12:$AQ23,2))>1,"",IF(OR(AQ22="",AQ22=2),"",IF(AQ23=1,"",IF(AND(AQ23=2,Y23<>""),W23,IF(AND(AQ23=2,Z23<>""),W23+1,IF(AND(AQ23=2,AA23<>""),W23+2,IF(AND(AQ23=2,AB23<>""),W23+3,IF(AND(AQ23=2,AC23<>""),W23+4,"")))))))) | AS23: =IF(SUM(Y24:$AC$62)=0,1,2) -> 1 | AT23: =IF(AS22="","",IF(AS22=1,"",IF(AS23<>1,"",IF(AND(AS23=1,AC23<>""),W23+4,IF(AND(AS23=1,AB23<>""),W23+3,IF(AND(AS23=1,AA23<>""),W23+2,IF(AND(AS23=1,Z23<>""),W23+1,IF(AND(AS23=1,Y23<>""),W23,""))))))))
B24: 14 | C24: =C23+7 -> 45747 | D24: =C25-3 -> 45751 | E24: =IF(AND($E$2="Noord",ISNA(VLOOKUP($B$4&$B24&E$10,Data!$A:$H,6,FALSE)=TRUE)),"",IF(AND($E$2="Midden",ISNA(VLOOKUP($B$4&$B24&E$10,Data!$A:$H,7,FALSE)=TRUE)),"",IF(AND($E$2="Zuid",ISNA(VLOOKUP($B$4&$B24&E$10,Data!$A:$H,8,FALSE)=TRUE)),"",IF(AND($E$2="Noord",VLOOKUP($B$4&$B24&E$10,Data!$A:$H,6,FALSE)="Vakantie"),"x",IF(AND($E$2="Midden",VLOOKUP($B$4&$B24&E$10,Data!$A:$H,7,FALSE)="Vakantie"),"x",IF(AND($E$2="Zuid",VLOOKUP($B$4&$B24&E$10,Data!$A:$H,8,FALSE)="Vakantie"),"x","")))))) | F24: =IF(AND($E$2="Noord",ISNA(VLOOKUP($B$4&$B24&F$10,Data!$A:$H,6,FALSE)=TRUE)),"",IF(AND($E$2="Midden",ISNA(VLOOKUP($B$4&$B24&F$10,Data!$A:$H,7,FALSE)=TRUE)),"",IF(AND($E$2="Zuid",ISNA(VLOOKUP($B$4&$B24&F$10,Data!$A:$H,8,FALSE)=TRUE)),"",IF(AND($E$2="Noord",VLOOKUP($B$4&$B24&F$10,Data!$A:$H,6,FALSE)="Vakantie"),"x",IF(AND($E$2="Midden",VLOOKUP($B$4&$B24&F$10,Data!$A:$H,7,FALSE)="Vakantie"),"x",IF(AND($E$2="Zuid",VLOOKUP($B$4&$B24&F$10,Data!$A:$H,8,FALSE)="Vakantie"),"x","")))))) | G24: =IF(AND($E$2="Noord",ISNA(VLOOKUP($B$4&$B24&G$10,Data!$A:$H,6,FALSE)=TRUE)),"",IF(AND($E$2="Midden",ISNA(VLOOKUP($B$4&$B24&G$10,Data!$A:$H,7,FALSE)=TRUE)),"",IF(AND($E$2="Zuid",ISNA(VLOOKUP($B$4&$B24&G$10,Data!$A:$H,8,FALSE)=TRUE)),"",IF(AND($E$2="Noord",VLOOKUP($B$4&$B24&G$10,Data!$A:$H,6,FALSE)="Vakantie"),"x",IF(AND($E$2="Midden",VLOOKUP($B$4&$B24&G$10,Data!$A:$H,7,FALSE)="Vakantie"),"x",IF(AND($E$2="Zuid",VLOOKUP($B$4&$B24&G$10,Data!$A:$H,8,FALSE)="Vakantie"),"x","")))))) | H24: =IF(AND($E$2="Noord",ISNA(VLOOKUP($B$4&$B24&H$10,Data!$A:$H,6,FALSE)=TRUE)),"",IF(AND($E$2="Midden",ISNA(VLOOKUP($B$4&$B24&H$10,Data!$A:$H,7,FALSE)=TRUE)),"",IF(AND($E$2="Zuid",ISNA(VLOOKUP($B$4&$B24&H$10,Data!$A:$H,8,FALSE)=TRUE)),"",IF(AND($E$2="Noord",VLOOKUP($B$4&$B24&H$10,Data!$A:$H,6,FALSE)="Vakantie"),"x",IF(AND($E$2="Midden",VLOOKUP($B$4&$B24&H$10,Data!$A:$H,7,FALSE)="Vakantie"),"x",IF(AND($E$2="Zuid",VLOOKUP($B$4&$B24&H$10,Data!$A:$H,8,FALSE)="Vakantie"),"x","")))))) | I24: =IF(AND($E$2="Noord",ISNA(VLOOKUP($B$4&$B24&I$10,Data!$A:$H,6,FALSE)=TRUE)),"",IF(AND($E$2="Midden",ISNA(VLOOKUP($B$4&$B24&I$10,Data!$A:$H,7,FALSE)=TRUE)),"",IF(AND($E$2="Zuid",ISNA(VLOOKUP($B$4&$B24&I$10,Data!$A:$H,8,FALSE)=TRUE)),"",IF(AND($E$2="Noord",VLOOKUP($B$4&$B24&I$10,Data!$A:$H,6,FALSE)="Vakantie"),"x",IF(AND($E$2="Midden",VLOOKUP($B$4&$B24&I$10,Data!$A:$H,7,FALSE)="Vakantie"),"x",IF(AND($E$2="Zuid",VLOOKUP($B$4&$B24&I$10,Data!$A:$H,8,FALSE)="Vakantie"),"x","")))))) | J24: =SUM(E24:I24) -> 0 | L24: 14 | M24: =M23+7 -> 46111 | N24: =+M25-3 -> 46115 | O24: =IF(AND($E$2="Noord",ISNA(VLOOKUP($L$4&$L24&O$10,Data!$A:$H,6,FALSE)=TRUE)),"",IF(AND($E$2="Midden",ISNA(VLOOKUP($L$4&$L24&O$10,Data!$A:$H,7,FALSE)=TRUE)),"",IF(AND($E$2="Zuid",ISNA(VLOOKUP($L$4&$L24&O$10,Data!$A:$H,8,FALSE)=TRUE)),"",IF(AND($E$2="Noord",VLOOKUP($L$4&$L24&O$10,Data!$A:$H,6,FALSE)="Vakantie"),"x",IF(AND($E$2="Midden",VLOOKUP($L$4&$L24&O$10,Data!$A:$H,7,FALSE)="Vakantie"),"x",IF(AND($E$2="Zuid",VLOOKUP($L$4&$L24&O$10,Data!$A:$H,8,FALSE)="Vakantie"),"x","")))))) | P24: =IF(AND($E$2="Noord",ISNA(VLOOKUP($L$4&$L24&P$10,Data!$A:$H,6,FALSE)=TRUE)),"",IF(AND($E$2="Midden",ISNA(VLOOKUP($L$4&$L24&P$10,Data!$A:$H,7,FALSE)=TRUE)),"",IF(AND($E$2="Zuid",ISNA(VLOOKUP($L$4&$L24&P$10,Data!$A:$H,8,FALSE)=TRUE)),"",IF(AND($E$2="Noord",VLOOKUP($L$4&$L24&P$10,Data!$A:$H,6,FALSE)="Vakantie"),"x",IF(AND($E$2="Midden",VLOOKUP($L$4&$L24&P$10,Data!$A:$H,7,FALSE)="Vakantie"),"x",IF(AND($E$2="Zuid",VLOOKUP($L$4&$L24&P$10,Data!$A:$H,8,FALSE)="Vakantie"),"x","")))))) | Q24: =IF(AND($E$2="Noord",ISNA(VLOOKUP($L$4&$L24&Q$10,Data!$A:$H,6,FALSE)=TRUE)),"",IF(AND($E$2="Midden",ISNA(VLOOKUP($L$4&$L24&Q$10,Data!$A:$H,7,FALSE)=TRUE)),"",IF(AND($E$2="Zuid",ISNA(VLOOKUP($L$4&$L24&Q$10,Data!$A:$H,8,FALSE)=TRUE)),"",IF(AND($E$2="Noord",VLOOKUP($L$4&$L24&Q$10,Data!$A:$H,6,FALSE)="Vakantie"),"x",IF(AND($E$2="Midden",VLOOKUP($L$4&$L24&Q$10,Data!$A:$H,7,FALSE)="Vakantie"),"x",IF(AND($E$2="Zuid",VLOOKUP($L$4&$L24&Q$10,Data!$A:$H,8,FALSE)="Vakantie"),"x","")))))) | R24: =IF(AND($E$2="Noord",ISNA(VLOOKUP($L$4&$L24&R$10,Data!$A:$H,6,FALSE)=TRUE)),"",IF(AND($E$2="Midden",ISNA(VLOOKUP($L$4&$L24&R$10,Data!$A:$H,7,FALSE)=TRUE)),"",IF(AND($E$2="Zuid",ISNA(VLOOKUP($L$4&$L24&R$10,Data!$A:$H,8,FALSE)=TRUE)),"",IF(AND($E$2="Noord",VLOOKUP($L$4&$L24&R$10,Data!$A:$H,6,FALSE)="Vakantie"),"x",IF(AND($E$2="Midden",VLOOKUP($L$4&$L24&R$10,Data!$A:$H,7,FALSE)="Vakantie"),"x",IF(AND($E$2="Zuid",VLOOKUP($L$4&$L24&R$10,Data!$A:$H,8,FALSE)="Vakantie"),"x","")))))) | S24: =IF(AND($E$2="Noord",ISNA(VLOOKUP($L$4&$L24&S$10,Data!$A:$H,6,FALSE)=TRUE)),"",IF(AND($E$2="Midden",ISNA(VLOOKUP($L$4&$L24&S$10,Data!$A:$H,7,FALSE)=TRUE)),"",IF(AND($E$2="Zuid",ISNA(VLOOKUP($L$4&$L24&S$10,Data!$A:$H,8,FALSE)=TRUE)),"",IF(AND($E$2="Noord",VLOOKUP($L$4&$L24&S$10,Data!$A:$H,6,FALSE)="Vakantie"),"x",IF(AND($E$2="Midden",VLOOKUP($L$4&$L24&S$10,Data!$A:$H,7,FALSE)="Vakantie"),"x",IF(AND($E$2="Zuid",VLOOKUP($L$4&$L24&S$10,Data!$A:$H,8,FALSE)="Vakantie"),"x","")))))) -> x | T24: =SUM(O24:S24) -> 0 | V24: 14 | W24: =+W23+7 -> 46482 | X24: =W25-3 -> 46486 | Y24: =IF(AND($E$2="Noord",ISNA(VLOOKUP($V$4&$V24&Y$10,Data!$A:$H,6,FALSE)=TRUE)),"",IF(AND($E$2="Midden",ISNA(VLOOKUP($V$4&$V24&Y$10,Data!$A:$H,7,FALSE)=TRUE)),"",IF(AND($E$2="Zuid",ISNA(VLOOKUP($V$4&$V24&Y$10,Data!$A:$H,8,FALSE)=TRUE)),"",IF(AND($E$2="Noord",VLOOKUP($V$4&$V24&Y$10,Data!$A:$H,6,FALSE)="Vakantie"),"x",IF(AND($E$2="Midden",VLOOKUP($V$4&$V24&Y$10,Data!$A:$H,7,FALSE)="Vakantie"),"x",IF(AND($E$2="Zuid",VLOOKUP($V$4&$V24&Y$10,Data!$A:$H,8,FALSE)="Vakantie"),"x","")))))) | Z24: =IF(AND($E$2="Noord",ISNA(VLOOKUP($V$4&$V24&Z$10,Data!$A:$H,6,FALSE)=TRUE)),"",IF(AND($E$2="Midden",ISNA(VLOOKUP($V$4&$V24&Z$10,Data!$A:$H,7,FALSE)=TRUE)),"",IF(AND($E$2="Zuid",ISNA(VLOOKUP($V$4&$V24&Z$10,Data!$A:$H,8,FALSE)=TRUE)),"",IF(AND($E$2="Noord",VLOOKUP($V$4&$V24&Z$10,Data!$A:$H,6,FALSE)="Vakantie"),"x",IF(AND($E$2="Midden",VLOOKUP($V$4&$V24&Z$10,Data!$A:$H,7,FALSE)="Vakantie"),"x",IF(AND($E$2="Zuid",VLOOKUP($V$4&$V24&Z$10,Data!$A:$H,8,FALSE)="Vakantie"),"x","")))))) | AA24: =IF(AND($E$2="Noord",ISNA(VLOOKUP($V$4&$V24&AA$10,Data!$A:$H,6,FALSE)=TRUE)),"",IF(AND($E$2="Midden",ISNA(VLOOKUP($V$4&$V24&AA$10,Data!$A:$H,7,FALSE)=TRUE)),"",IF(AND($E$2="Zuid",ISNA(VLOOKUP($V$4&$V24&AA$10,Data!$A:$H,8,FALSE)=TRUE)),"",IF(AND($E$2="Noord",VLOOKUP($V$4&$V24&AA$10,Data!$A:$H,6,FALSE)="Vakantie"),"x",IF(AND($E$2="Midden",VLOOKUP($V$4&$V24&AA$10,Data!$A:$H,7,FALSE)="Vakantie"),"x",IF(AND($E$2="Zuid",VLOOKUP($V$4&$V24&AA$10,Data!$A:$H,8,FALSE)="Vakantie"),"x","")))))) | AB24: =IF(AND($E$2="Noord",ISNA(VLOOKUP($V$4&$V24&AB$10,Data!$A:$H,6,FALSE)=TRUE)),"",IF(AND($E$2="Midden",ISNA(VLOOKUP($V$4&$V24&AB$10,Data!$A:$H,7,FALSE)=TRUE)),"",IF(AND($E$2="Zuid",ISNA(VLOOKUP($V$4&$V24&AB$10,Data!$A:$H,8,FALSE)=TRUE)),"",IF(AND($E$2="Noord",VLOOKUP($V$4&$V24&AB$10,Data!$A:$H,6,FALSE)="Vakantie"),"x",IF(AND($E$2="Midden",VLOOKUP($V$4&$V24&AB$10,Data!$A:$H,7,FALSE)="Vakantie"),"x",IF(AND($E$2="Zuid",VLOOKUP($V$4&$V24&AB$10,Data!$A:$H,8,FALSE)="Vakantie"),"x","")))))) | AC24: =IF(AND($E$2="Noord",ISNA(VLOOKUP($V$4&$V24&AC$10,Data!$A:$H,6,FALSE)=TRUE)),"",IF(AND($E$2="Midden",ISNA(VLOOKUP($V$4&$V24&AC$10,Data!$A:$H,7,FALSE)=TRUE)),"",IF(AND($E$2="Zuid",ISNA(VLOOKUP($V$4&$V24&AC$10,Data!$A:$H,8,FALSE)=TRUE)),"",IF(AND($E$2="Noord",VLOOKUP($V$4&$V24&AC$10,Data!$A:$H,6,FALSE)="Vakantie"),"x",IF(AND($E$2="Midden",VLOOKUP($V$4&$V24&AC$10,Data!$A:$H,7,FALSE)="Vakantie"),"x",IF(AND($E$2="Zuid",VLOOKUP($V$4&$V24&AC$10,Data!$A:$H,8,FALSE)="Vakantie"),"x","")))))) | AD24: =SUM(Y24:AC24) -> 0 | AI24: =IF(SUM($E24:$I24)=0,1,2) -> 1 | AJ24: =IF((COUNTIF($AI$11:$AI24,2))>1,"",IF(OR(AI23="",AI23=2),"",IF(AI24=1,"",IF(AND($AI24=2,E24<>""),$C24,IF(AND($AI24=2,F24<>""),$C24+1,IF(AND($AI24=2,G24<>""),$C24+2,IF(AND($AI24=2,H24<>""),$C24+3,IF(AND($AI24=2,I24<>""),$C24+4,"")))))))) | AK24: =IF(SUM(E25:$I$62)+$T$68+$AD$68=0,1,2) -> 1 | AL24: =IF(AK23="","",IF(AK23=1,"",IF(AK24<>1,"",IF(AND(AK24=1,I24<>""),C24+4,IF(AND(AK24=1,H24<>""),C24+3,IF(AND(AK24=1,G24<>""),C24+2,IF(AND(AK24=1,F24<>""),C24+1,IF(AND(AK24=1,E24<>""),C24,"")))))))) | AM24: =IF(SUM($O24:$S24)=0,1,2) -> 1 | AN24: =IF((COUNTIF($AI$11:$AI$64,2)+COUNTIF($AM23:$AM24,2))>1,"",IF(OR(AM23="",AM23=2),"",IF(AM24=1,"",IF(AND(AM24=2,O24<>""),M24,IF(AND(AM24=2,P24<>""),M24+1,IF(AND(AM24=2,Q24<>""),M24+2,IF(AND(AM24=2,R24<>""),M24+3,IF(AND(AM24=2,S24<>""),M24+4,"")))))))) | AO24: =IF(SUM(O25:$S$62)+$AD$68=0,1,2) -> 1 | AP24: =IF(AO23="","",IF(AO23=1,"",IF(AO24<>1,"",IF(AND(AO24=1,S24<>""),M24+4,IF(AND(AO24=1,R24<>""),M24+3,IF(AND(AO24=1,Q24<>""),M24+2,IF(AND(AO24=1,P24<>""),M24+1,IF(AND(AO24=1,O24<>""),M24,"")))))))) | AQ24: =IF(SUM($O25:$S$62)=0,1,2) -> 1 | AR24: =IF((COUNTIF($AI$11:$AI$64,2)+COUNTIF($AM$11:$AM$64,2)+COUNTIF(AQ$12:$AQ24,2))>1,"",IF(OR(AQ23="",AQ23=2),"",IF(AQ24=1,"",IF(AND(AQ24=2,Y24<>""),W24,IF(AND(AQ24=2,Z24<>""),W24+1,IF(AND(AQ24=2,AA24<>""),W24+2,IF(AND(AQ24=2,AB24<>""),W24+3,IF(AND(AQ24=2,AC24<>""),W24+4,"")))))))) | AS24: =IF(SUM(Y25:$AC$62)=0,1,2) -> 1 | AT24: =IF(AS23="","",IF(AS23=1,"",IF(AS24<>1,"",IF(AND(AS24=1,AC24<>""),W24+4,IF(AND(AS24=1,AB24<>""),W24+3,IF(AND(AS24=1,AA24<>""),W24+2,IF(AND(AS24=1,Z24<>""),W24+1,IF(AND(AS24=1,Y24<>""),W24,""))))))))
... B61: 51 | C61: =C60+7 -> 46006 | D61: =C62-3 -> 46010 | E61: =IF(AND($E$2="Noord",ISNA(VLOOKUP($B$4&$B61&E$10,Data!$A:$H,6,FALSE)=TRUE)),"",IF(AND($E$2="Midden",ISNA(VLOOKUP($B$4&$B61&E$10,Data!$A:$H,7,FALSE)=TRUE)),"",IF(AND($E$2="Zuid",ISNA(VLOOKUP($B$4&$B61&E$10,Data!$A:$H,8,FALSE)=TRUE)),"",IF(AND($E$2="Noord",VLOOKUP($B$4&$B61&E$10,Data!$A:$H,6,FALSE)="Vakantie"),"x",IF(AND($E$2="Midden",VLOOKUP($B$4&$B61&E$10,Data!$A:$H,7,FALSE)="Vakantie"),"x",IF(AND($E$2="Zuid",VLOOKUP($B$4&$B61&E$10,Data!$A:$H,8,FALSE)="Vakantie"),"x","")))))) | F61: =IF(AND($E$2="Noord",ISNA(VLOOKUP($B$4&$B61&F$10,Data!$A:$H,6,FALSE)=TRUE)),"",IF(AND($E$2="Midden",ISNA(VLOOKUP($B$4&$B61&F$10,Data!$A:$H,7,FALSE)=TRUE)),"",IF(AND($E$2="Zuid",ISNA(VLOOKUP($B$4&$B61&F$10,Data!$A:$H,8,FALSE)=TRUE)),"",IF(AND($E$2="Noord",VLOOKUP($B$4&$B61&F$10,Data!$A:$H,6,FALSE)="Vakantie"),"x",IF(AND($E$2="Midden",VLOOKUP($B$4&$B61&F$10,Data!$A:$H,7,FALSE)="Vakantie"),"x",IF(AND($E$2="Zuid",VLOOKUP($B$4&$B61&F$10,Data!$A:$H,8,FALSE)="Vakantie"),"x","")))))) | G61: =IF(AND($E$2="Noord",ISNA(VLOOKUP($B$4&$B61&G$10,Data!$A:$H,6,FALSE)=TRUE)),"",IF(AND($E$2="Midden",ISNA(VLOOKUP($B$4&$B61&G$10,Data!$A:$H,7,FALSE)=TRUE)),"",IF(AND($E$2="Zuid",ISNA(VLOOKUP($B$4&$B61&G$10,Data!$A:$H,8,FALSE)=TRUE)),"",IF(AND($E$2="Noord",VLOOKUP($B$4&$B61&G$10,Data!$A:$H,6,FALSE)="Vakantie"),"x",IF(AND($E$2="Midden",VLOOKUP($B$4&$B61&G$10,Data!$A:$H,7,FALSE)="Vakantie"),"x",IF(AND($E$2="Zuid",VLOOKUP($B$4&$B61&G$10,Data!$A:$H,8,FALSE)="Vakantie"),"x","")))))) | H61: =IF(AND($E$2="Noord",ISNA(VLOOKUP($B$4&$B61&H$10,Data!$A:$H,6,FALSE)=TRUE)),"",IF(AND($E$2="Midden",ISNA(VLOOKUP($B$4&$B61&H$10,Data!$A:$H,7,FALSE)=TRUE)),"",IF(AND($E$2="Zuid",ISNA(VLOOKUP($B$4&$B61&H$10,Data!$A:$H,8,FALSE)=TRUE)),"",IF(AND($E$2="Noord",VLOOKUP($B$4&$B61&H$10,Data!$A:$H,6,FALSE)="Vakantie"),"x",IF(AND($E$2="Midden",VLOOKUP($B$4&$B61&H$10,Data!$A:$H,7,FALSE)="Vakantie"),"x",IF(AND($E$2="Zuid",VLOOKUP($B$4&$B61&H$10,Data!$A:$H,8,FALSE)="Vakantie"),"x","")))))) | I61: =IF(AND($E$2="Noord",ISNA(VLOOKUP($B$4&$B61&I$10,Data!$A:$H,6,FALSE)=TRUE)),"",IF(AND($E$2="Midden",ISNA(VLOOKUP($B$4&$B61&I$10,Data!$A:$H,7,FALSE)=TRUE)),"",IF(AND($E$2="Zuid",ISNA(VLOOKUP($B$4&$B61&I$10,Data!$A:$H,8,FALSE)=TRUE)),"",IF(AND($E$2="Noord",VLOOKUP($B$4&$B61&I$10,Data!$A:$H,6,FALSE)="Vakantie"),"x",IF(AND($E$2="Midden",VLOOKUP($B$4&$B61&I$10,Data!$A:$H,7,FALSE)="Vakantie"),"x",IF(AND($E$2="Zuid",VLOOKUP($B$4&$B61&I$10,Data!$A:$H,8,FALSE)="Vakantie"),"x","")))))) | J61: =SUM(E61:I61) -> 0 | L61: 51 | M61: =M60+7 -> 46370 | N61: =+M62-3 -> 46374 | O61: =IF(AND($E$2="Noord",ISNA(VLOOKUP($L$4&$L61&O$10,Data!$A:$H,6,FALSE)=TRUE)),"",IF(AND($E$2="Midden",ISNA(VLOOKUP($L$4&$L61&O$10,Data!$A:$H,7,FALSE)=TRUE)),"",IF(AND($E$2="Zuid",ISNA(VLOOKUP($L$4&$L61&O$10,Data!$A:$H,8,FALSE)=TRUE)),"",IF(AND($E$2="Noord",VLOOKUP($L$4&$L61&O$10,Data!$A:$H,6,FALSE)="Vakantie"),"x",IF(AND($E$2="Midden",VLOOKUP($L$4&$L61&O$10,Data!$A:$H,7,FALSE)="Vakantie"),"x",IF(AND($E$2="Zuid",VLOOKUP($L$4&$L61&O$10,Data!$A:$H,8,FALSE)="Vakantie"),"x","")))))) | P61: =IF(AND($E$2="Noord",ISNA(VLOOKUP($L$4&$L61&P$10,Data!$A:$H,6,FALSE)=TRUE)),"",IF(AND($E$2="Midden",ISNA(VLOOKUP($L$4&$L61&P$10,Data!$A:$H,7,FALSE)=TRUE)),"",IF(AND($E$2="Zuid",ISNA(VLOOKUP($L$4&$L61&P$10,Data!$A:$H,8,FALSE)=TRUE)),"",IF(AND($E$2="Noord",VLOOKUP($L$4&$L61&P$10,Data!$A:$H,6,FALSE)="Vakantie"),"x",IF(AND($E$2="Midden",VLOOKUP($L$4&$L61&P$10,Data!$A:$H,7,FALSE)="Vakantie"),"x",IF(AND($E$2="Zuid",VLOOKUP($L$4&$L61&P$10,Data!$A:$H,8,FALSE)="Vakantie"),"x","")))))) | Q61: =IF(AND($E$2="Noord",ISNA(VLOOKUP($L$4&$L61&Q$10,Data!$A:$H,6,FALSE)=TRUE)),"",IF(AND($E$2="Midden",ISNA(VLOOKUP($L$4&$L61&Q$10,Data!$A:$H,7,FALSE)=TRUE)),"",IF(AND($E$2="Zuid",ISNA(VLOOKUP($L$4&$L61&Q$10,Data!$A:$H,8,FALSE)=TRUE)),"",IF(AND($E$2="Noord",VLOOKUP($L$4&$L61&Q$10,Data!$A:$H,6,FALSE)="Vakantie"),"x",IF(AND($E$2="Midden",VLOOKUP($L$4&$L61&Q$10,Data!$A:$H,7,FALSE)="Vakantie"),"x",IF(AND($E$2="Zuid",VLOOKUP($L$4&$L61&Q$10,Data!$A:$H,8,FALSE)="Vakantie"),"x","")))))) | R61: =IF(AND($E$2="Noord",ISNA(VLOOKUP($L$4&$L61&R$10,Data!$A:$H,6,FALSE)=TRUE)),"",IF(AND($E$2="Midden",ISNA(VLOOKUP($L$4&$L61&R$10,Data!$A:$H,7,FALSE)=TRUE)),"",IF(AND($E$2="Zuid",ISNA(VLOOKUP($L$4&$L61&R$10,Data!$A:$H,8,FALSE)=TRUE)),"",IF(AND($E$2="Noord",VLOOKUP($L$4&$L61&R$10,Data!$A:$H,6,FALSE)="Vakantie"),"x",IF(AND($E$2="Midden",VLOOKUP($L$4&$L61&R$10,Data!$A:$H,7,FALSE)="Vakantie"),"x",IF(AND($E$2="Zuid",VLOOKUP($L$4&$L61&R$10,Data!$A:$H,8,FALSE)="Vakantie"),"x","")))))) | S61: =IF(AND($E$2="Noord",ISNA(VLOOKUP($L$4&$L61&S$10,Data!$A:$H,6,FALSE)=TRUE)),"",IF(AND($E$2="Midden",ISNA(VLOOKUP($L$4&$L61&S$10,Data!$A:$H,7,FALSE)=TRUE)),"",IF(AND($E$2="Zuid",ISNA(VLOOKUP($L$4&$L61&S$10,Data!$A:$H,8,FALSE)=TRUE)),"",IF(AND($E$2="Noord",VLOOKUP($L$4&$L61&S$10,Data!$A:$H,6,FALSE)="Vakantie"),"x",IF(AND($E$2="Midden",VLOOKUP($L$4&$L61&S$10,Data!$A:$H,7,FALSE)="Vakantie"),"x",IF(AND($E$2="Zuid",VLOOKUP($L$4&$L61&S$10,Data!$A:$H,8,FALSE)="Vakantie"),"x","")))))) | T61: =SUM(O61:S61) -> 0 | V61: 51 | W61: =+W60+7 -> 46741 | X61: =W62-3 -> 46745 | Y61: =IF(AND($E$2="Noord",ISNA(VLOOKUP($V$4&$V61&Y$10,Data!$A:$H,6,FALSE)=TRUE)),"",IF(AND($E$2="Midden",ISNA(VLOOKUP($V$4&$V61&Y$10,Data!$A:$H,7,FALSE)=TRUE)),"",IF(AND($E$2="Zuid",ISNA(VLOOKUP($V$4&$V61&Y$10,Data!$A:$H,8,FALSE)=TRUE)),"",IF(AND($E$2="Noord",VLOOKUP($V$4&$V61&Y$10,Data!$A:$H,6,FALSE)="Vakantie"),"x",IF(AND($E$2="Midden",VLOOKUP($V$4&$V61&Y$10,Data!$A:$H,7,FALSE)="Vakantie"),"x",IF(AND($E$2="Zuid",VLOOKUP($V$4&$V61&Y$10,Data!$A:$H,8,FALSE)="Vakantie"),"x","")))))) | Z61: =IF(AND($E$2="Noord",ISNA(VLOOKUP($V$4&$V61&Z$10,Data!$A:$H,6,FALSE)=TRUE)),"",IF(AND($E$2="Midden",ISNA(VLOOKUP($V$4&$V61&Z$10,Data!$A:$H,7,FALSE)=TRUE)),"",IF(AND($E$2="Zuid",ISNA(VLOOKUP($V$4&$V61&Z$10,Data!$A:$H,8,FALSE)=TRUE)),"",IF(AND($E$2="Noord",VLOOKUP($V$4&$V61&Z$10,Data!$A:$H,6,FALSE)="Vakantie"),"x",IF(AND($E$2="Midden",VLOOKUP($V$4&$V61&Z$10,Data!$A:$H,7,FALSE)="Vakantie"),"x",IF(AND($E$2="Zuid",VLOOKUP($V$4&$V61&Z$10,Data!$A:$H,8,FALSE)="Vakantie"),"x","")))))) | AA61: =IF(AND($E$2="Noord",ISNA(VLOOKUP($V$4&$V61&AA$10,Data!$A:$H,6,FALSE)=TRUE)),"",IF(AND($E$2="Midden",ISNA(VLOOKUP($V$4&$V61&AA$10,Data!$A:$H,7,FALSE)=TRUE)),"",IF(AND($E$2="Zuid",ISNA(VLOOKUP($V$4&$V61&AA$10,Data!$A:$H,8,FALSE)=TRUE)),"",IF(AND($E$2="Noord",VLOOKUP($V$4&$V61&AA$10,Data!$A:$H,6,FALSE)="Vakantie"),"x",IF(AND($E$2="Midden",VLOOKUP($V$4&$V61&AA$10,Data!$A:$H,7,FALSE)="Vakantie"),"x",IF(AND($E$2="Zuid",VLOOKUP($V$4&$V61&AA$10,Data!$A:$H,8,FALSE)="Vakantie"),"x","")))))) | AB61: =IF(AND($E$2="Noord",ISNA(VLOOKUP($V$4&$V61&AB$10,Data!$A:$H,6,FALSE)=TRUE)),"",IF(AND($E$2="Midden",ISNA(VLOOKUP($V$4&$V61&AB$10,Data!$A:$H,7,FALSE)=TRUE)),"",IF(AND($E$2="Zuid",ISNA(VLOOKUP($V$4&$V61&AB$10,Data!$A:$H,8,FALSE)=TRUE)),"",IF(AND($E$2="Noord",VLOOKUP($V$4&$V61&AB$10,Data!$A:$H,6,FALSE)="Vakantie"),"x",IF(AND($E$2="Midden",VLOOKUP($V$4&$V61&AB$10,Data!$A:$H,7,FALSE)="Vakantie"),"x",IF(AND($E$2="Zuid",VLOOKUP($V$4&$V61&AB$10,Data!$A:$H,8,FALSE)="Vakantie"),"x","")))))) | AC61: =IF(AND($E$2="Noord",ISNA(VLOOKUP($V$4&$V61&AC$10,Data!$A:$H,6,FALSE)=TRUE)),"",IF(AND($E$2="Midden",ISNA(VLOOKUP($V$4&$V61&AC$10,Data!$A:$H,7,FALSE)=TRUE)),"",IF(AND($E$2="Zuid",ISNA(VLOOKUP($V$4&$V61&AC$10,Data!$A:$H,8,FALSE)=TRUE)),"",IF(AND($E$2="Noord",VLOOKUP($V$4&$V61&AC$10,Data!$A:$H,6,FALSE)="Vakantie"),"x",IF(AND($E$2="Midden",VLOOKUP($V$4&$V61&AC$10,Data!$A:$H,7,FALSE)="Vakantie"),"x",IF(AND($E$2="Zuid",VLOOKUP($V$4&$V61&AC$10,Data!$A:$H,8,FALSE)="Vakantie"),"x","")))))) | AD61: =SUM(Y61:AC61) -> 0 | AI61: =IF(SUM($E61:$I61)=0,1,2) -> 1 | AJ61: =IF((COUNTIF($AI$11:$AI61,2))>1,"",IF(OR(AI60="",AI60=2),"",IF(AI61=1,"",IF(AND($AI61=2,E61<>""),$C61,IF(AND($AI61=2,F61<>""),$C61+1,IF(AND($AI61=2,G61<>""),$C61+2,IF(AND($AI61=2,H61<>""),$C61+3,IF(AND($AI61=2,I61<>""),$C61+4,"")))))))) | AK61: =IF(SUM(E62:$I$62)+$T$68+$AD$68=0,1,2) -> 1 | AL61: =IF(AK60="","",IF(AK60=1,"",IF(AK61<>1,"",IF(AND(AK61=1,I61<>""),C61+4,IF(AND(AK61=1,H61<>""),C61+3,IF(AND(AK61=1,G61<>""),C61+2,IF(AND(AK61=1,F61<>""),C61+1,IF(AND(AK61=1,E61<>""),C61,"")))))))) | AM61: =IF(SUM($O61:$S61)=0,1,2) -> 1 | AN61: =IF((COUNTIF($AI$11:$AI$64,2)+COUNTIF($AM60:$AM61,2))>1,"",IF(OR(AM60="",AM60=2),"",IF(AM61=1,"",IF(AND(AM61=2,O61<>""),M61,IF(AND(AM61=2,P61<>""),M61+1,IF(AND(AM61=2,Q61<>""),M61+2,IF(AND(AM61=2,R61<>""),M61+3,IF(AND(AM61=2,S61<>""),M61+4,"")))))))) | AO61: =IF(SUM(O62:$S$62)+$AD$68=0,1,2) -> 1 | AP61: =IF(AO60="","",IF(AO60=1,"",IF(AO61<>1,"",IF(AND(AO61=1,S61<>""),M61+4,IF(AND(AO61=1,R61<>""),M61+3,IF(AND(AO61=1,Q61<>""),M61+2,IF(AND(AO61=1,P61<>""),M61+1,IF(AND(AO61=1,O61<>""),M61,"")))))))) | AQ61: =IF(SUM($O62:$S$62)=0,1,2) -> 1 | AR61: =IF((COUNTIF($AI$11:$AI$64,2)+COUNTIF($AM$11:$AM$64,2)+COUNTIF(AQ$12:$AQ61,2))>1,"",IF(OR(AQ60="",AQ60=2),"",IF(AQ61=1,"",IF(AND(AQ61=2,Y61<>""),W61,IF(AND(AQ61=2,Z61<>""),W61+1,IF(AND(AQ61=2,AA61<>""),W61+2,IF(AND(AQ61=2,AB61<>""),W61+3,IF(AND(AQ61=2,AC61<>""),W61+4,"")))))))) | AS61: =IF(SUM(Y62:$AC$62)=0,1,2) -> 1 | AT61: =IF(AS60="","",IF(AS60=1,"",IF(AS61<>1,"",IF(AND(AS61=1,AC61<>""),W61+4,IF(AND(AS61=1,AB61<>""),W61+3,IF(AND(AS61=1,AA61<>""),W61+2,IF(AND(AS61=1,Z61<>""),W61+1,IF(AND(AS61=1,Y61<>""),W61,""))))))))
B62: 52 | C62: =C61+7 -> 46013 | D62: =+D61+7 -> 46017 | E62: =IF(AND($E$2="Noord",ISNA(VLOOKUP($B$4&$B62&E$10,Data!$A:$H,6,FALSE)=TRUE)),"",IF(AND($E$2="Midden",ISNA(VLOOKUP($B$4&$B62&E$10,Data!$A:$H,7,FALSE)=TRUE)),"",IF(AND($E$2="Zuid",ISNA(VLOOKUP($B$4&$B62&E$10,Data!$A:$H,8,FALSE)=TRUE)),"",IF(AND($E$2="Noord",VLOOKUP($B$4&$B62&E$10,Data!$A:$H,6,FALSE)="Vakantie"),"x",IF(AND($E$2="Midden",VLOOKUP($B$4&$B62&E$10,Data!$A:$H,7,FALSE)="Vakantie"),"x",IF(AND($E$2="Zuid",VLOOKUP($B$4&$B62&E$10,Data!$A:$H,8,FALSE)="Vakantie"),"x","")))))) -> x | F62: =IF(AND($E$2="Noord",ISNA(VLOOKUP($B$4&$B62&F$10,Data!$A:$H,6,FALSE)=TRUE)),"",IF(AND($E$2="Midden",ISNA(VLOOKUP($B$4&$B62&F$10,Data!$A:$H,7,FALSE)=TRUE)),"",IF(AND($E$2="Zuid",ISNA(VLOOKUP($B$4&$B62&F$10,Data!$A:$H,8,FALSE)=TRUE)),"",IF(AND($E$2="Noord",VLOOKUP($B$4&$B62&F$10,Data!$A:$H,6,FALSE)="Vakantie"),"x",IF(AND($E$2="Midden",VLOOKUP($B$4&$B62&F$10,Data!$A:$H,7,FALSE)="Vakantie"),"x",IF(AND($E$2="Zuid",VLOOKUP($B$4&$B62&F$10,Data!$A:$H,8,FALSE)="Vakantie"),"x","")))))) -> x | G62: =IF(AND($E$2="Noord",ISNA(VLOOKUP($B$4&$B62&G$10,Data!$A:$H,6,FALSE)=TRUE)),"",IF(AND($E$2="Midden",ISNA(VLOOKUP($B$4&$B62&G$10,Data!$A:$H,7,FALSE)=TRUE)),"",IF(AND($E$2="Zuid",ISNA(VLOOKUP($B$4&$B62&G$10,Data!$A:$H,8,FALSE)=TRUE)),"",IF(AND($E$2="Noord",VLOOKUP($B$4&$B62&G$10,Data!$A:$H,6,FALSE)="Vakantie"),"x",IF(AND($E$2="Midden",VLOOKUP($B$4&$B62&G$10,Data!$A:$H,7,FALSE)="Vakantie"),"x",IF(AND($E$2="Zuid",VLOOKUP($B$4&$B62&G$10,Data!$A:$H,8,FALSE)="Vakantie"),"x","")))))) -> x | H62: =IF(AND($E$2="Noord",ISNA(VLOOKUP($B$4&$B62&H$10,Data!$A:$H,6,FALSE)=TRUE)),"",IF(AND($E$2="Midden",ISNA(VLOOKUP($B$4&$B62&H$10,Data!$A:$H,7,FALSE)=TRUE)),"",IF(AND($E$2="Zuid",ISNA(VLOOKUP($B$4&$B62&H$10,Data!$A:$H,8,FALSE)=TRUE)),"",IF(AND($E$2="Noord",VLOOKUP($B$4&$B62&H$10,Data!$A:$H,6,FALSE)="Vakantie"),"x",IF(AND($E$2="Midden",VLOOKUP($B$4&$B62&H$10,Data!$A:$H,7,FALSE)="Vakantie"),"x",IF(AND($E$2="Zuid",VLOOKUP($B$4&$B62&H$10,Data!$A:$H,8,FALSE)="Vakantie"),"x","")))))) -> x | I62: =IF(AND($E$2="Noord",ISNA(VLOOKUP($B$4&$B62&I$10,Data!$A:$H,6,FALSE)=TRUE)),"",IF(AND($E$2="Midden",ISNA(VLOOKUP($B$4&$B62&I$10,Data!$A:$H,7,FALSE)=TRUE)),"",IF(AND($E$2="Zuid",ISNA(VLOOKUP($B$4&$B62&I$10,Data!$A:$H,8,FALSE)=TRUE)),"",IF(AND($E$2="Noord",VLOOKUP($B$4&$B62&I$10,Data!$A:$H,6,FALSE)="Vakantie"),"x",IF(AND($E$2="Midden",VLOOKUP($B$4&$B62&I$10,Data!$A:$H,7,FALSE)="Vakantie"),"x",IF(AND($E$2="Zuid",VLOOKUP($B$4&$B62&I$10,Data!$A:$H,8,FALSE)="Vakantie"),"x","")))))) -> x | J62: =SUM(E62:I62) -> 0 | L62: 52 | M62: =M61+7 -> 46377 | N62: =+N61+7 -> 46381 | O62: =IF(AND($E$2="Noord",ISNA(VLOOKUP($L$4&$L62&O$10,Data!$A:$H,6,FALSE)=TRUE)),"",IF(AND($E$2="Midden",ISNA(VLOOKUP($L$4&$L62&O$10,Data!$A:$H,7,FALSE)=TRUE)),"",IF(AND($E$2="Zuid",ISNA(VLOOKUP($L$4&$L62&O$10,Data!$A:$H,8,FALSE)=TRUE)),"",IF(AND($E$2="Noord",VLOOKUP($L$4&$L62&O$10,Data!$A:$H,6,FALSE)="Vakantie"),"x",IF(AND($E$2="Midden",VLOOKUP($L$4&$L62&O$10,Data!$A:$H,7,FALSE)="Vakantie"),"x",IF(AND($E$2="Zuid",VLOOKUP($L$4&$L62&O$10,Data!$A:$H,8,FALSE)="Vakantie"),"x","")))))) -> x | P62: =IF(AND($E$2="Noord",ISNA(VLOOKUP($L$4&$L62&P$10,Data!$A:$H,6,FALSE)=TRUE)),"",IF(AND($E$2="Midden",ISNA(VLOOKUP($L$4&$L62&P$10,Data!$A:$H,7,FALSE)=TRUE)),"",IF(AND($E$2="Zuid",ISNA(VLOOKUP($L$4&$L62&P$10,Data!$A:$H,8,FALSE)=TRUE)),"",IF(AND($E$2="Noord",VLOOKUP($L$4&$L62&P$10,Data!$A:$H,6,FALSE)="Vakantie"),"x",IF(AND($E$2="Midden",VLOOKUP($L$4&$L62&P$10,Data!$A:$H,7,FALSE)="Vakantie"),"x",IF(AND($E$2="Zuid",VLOOKUP($L$4&$L62&P$10,Data!$A:$H,8,FALSE)="Vakantie"),"x","")))))) -> x | Q62: =IF(AND($E$2="Noord",ISNA(VLOOKUP($L$4&$L62&Q$10,Data!$A:$H,6,FALSE)=TRUE)),"",IF(AND($E$2="Midden",ISNA(VLOOKUP($L$4&$L62&Q$10,Data!$A:$H,7,FALSE)=TRUE)),"",IF(AND($E$2="Zuid",ISNA(VLOOKUP($L$4&$L62&Q$10,Data!$A:$H,8,FALSE)=TRUE)),"",IF(AND($E$2="Noord",VLOOKUP($L$4&$L62&Q$10,Data!$A:$H,6,FALSE)="Vakantie"),"x",IF(AND($E$2="Midden",VLOOKUP($L$4&$L62&Q$10,Data!$A:$H,7,FALSE)="Vakantie"),"x",IF(AND($E$2="Zuid",VLOOKUP($L$4&$L62&Q$10,Data!$A:$H,8,FALSE)="Vakantie"),"x","")))))) -> x | R62: =IF(AND($E$2="Noord",ISNA(VLOOKUP($L$4&$L62&R$10,Data!$A:$H,6,FALSE)=TRUE)),"",IF(AND($E$2="Midden",ISNA(VLOOKUP($L$4&$L62&R$10,Data!$A:$H,7,FALSE)=TRUE)),"",IF(AND($E$2="Zuid",ISNA(VLOOKUP($L$4&$L62&R$10,Data!$A:$H,8,FALSE)=TRUE)),"",IF(AND($E$2="Noord",VLOOKUP($L$4&$L62&R$10,Data!$A:$H,6,FALSE)="Vakantie"),"x",IF(AND($E$2="Midden",VLOOKUP($L$4&$L62&R$10,Data!$A:$H,7,FALSE)="Vakantie"),"x",IF(AND($E$2="Zuid",VLOOKUP($L$4&$L62&R$10,Data!$A:$H,8,FALSE)="Vakantie"),"x","")))))) -> x | S62: =IF(AND($E$2="Noord",ISNA(VLOOKUP($L$4&$L62&S$10,Data!$A:$H,6,FALSE)=TRUE)),"",IF(AND($E$2="Midden",ISNA(VLOOKUP($L$4&$L62&S$10,Data!$A:$H,7,FALSE)=TRUE)),"",IF(AND($E$2="Zuid",ISNA(VLOOKUP($L$4&$L62&S$10,Data!$A:$H,8,FALSE)=TRUE)),"",IF(AND($E$2="Noord",VLOOKUP($L$4&$L62&S$10,Data!$A:$H,6,FALSE)="Vakantie"),"x",IF(AND($E$2="Midden",VLOOKUP($L$4&$L62&S$10,Data!$A:$H,7,FALSE)="Vakantie"),"x",IF(AND($E$2="Zuid",VLOOKUP($L$4&$L62&S$10,Data!$A:$H,8,FALSE)="Vakantie"),"x","")))))) -> x | T62: =SUM(O62:S62) -> 0 | V62: 52 | W62: =+W61+7 -> 46748 | X62: =X61+7 -> 46752 | Y62: =IF(AND($E$2="Noord",ISNA(VLOOKUP($V$4&$V62&Y$10,Data!$A:$H,6,FALSE)=TRUE)),"",IF(AND($E$2="Midden",ISNA(VLOOKUP($V$4&$V62&Y$10,Data!$A:$H,7,FALSE)=TRUE)),"",IF(AND($E$2="Zuid",ISNA(VLOOKUP($V$4&$V62&Y$10,Data!$A:$H,8,FALSE)=TRUE)),"",IF(AND($E$2="Noord",VLOOKUP($V$4&$V62&Y$10,Data!$A:$H,6,FALSE)="Vakantie"),"x",IF(AND($E$2="Midden",VLOOKUP($V$4&$V62&Y$10,Data!$A:$H,7,FALSE)="Vakantie"),"x",IF(AND($E$2="Zuid",VLOOKUP($V$4&$V62&Y$10,Data!$A:$H,8,FALSE)="Vakantie"),"x","")))))) -> x | Z62: =IF(AND($E$2="Noord",ISNA(VLOOKUP($V$4&$V62&Z$10,Data!$A:$H,6,FALSE)=TRUE)),"",IF(AND($E$2="Midden",ISNA(VLOOKUP($V$4&$V62&Z$10,Data!$A:$H,7,FALSE)=TRUE)),"",IF(AND($E$2="Zuid",ISNA(VLOOKUP($V$4&$V62&Z$10,Data!$A:$H,8,FALSE)=TRUE)),"",IF(AND($E$2="Noord",VLOOKUP($V$4&$V62&Z$10,Data!$A:$H,6,FALSE)="Vakantie"),"x",IF(AND($E$2="Midden",VLOOKUP($V$4&$V62&Z$10,Data!$A:$H,7,FALSE)="Vakantie"),"x",IF(AND($E$2="Zuid",VLOOKUP($V$4&$V62&Z$10,Data!$A:$H,8,FALSE)="Vakantie"),"x","")))))) -> x | AA62: =IF(AND($E$2="Noord",ISNA(VLOOKUP($V$4&$V62&AA$10,Data!$A:$H,6,FALSE)=TRUE)),"",IF(AND($E$2="Midden",ISNA(VLOOKUP($V$4&$V62&AA$10,Data!$A:$H,7,FALSE)=TRUE)),"",IF(AND($E$2="Zuid",ISNA(VLOOKUP($V$4&$V62&AA$10,Data!$A:$H,8,FALSE)=TRUE)),"",IF(AND($E$2="Noord",VLOOKUP($V$4&$V62&AA$10,Data!$A:$H,6,FALSE)="Vakantie"),"x",IF(AND($E$2="Midden",VLOOKUP($V$4&$V62&AA$10,Data!$A:$H,7,FALSE)="Vakantie"),"x",IF(AND($E$2="Zuid",VLOOKUP($V$4&$V62&AA$10,Data!$A:$H,8,FALSE)="Vakantie"),"x","")))))) -> x | AB62: =IF(AND($E$2="Noord",ISNA(VLOOKUP($V$4&$V62&AB$10,Data!$A:$H,6,FALSE)=TRUE)),"",IF(AND($E$2="Midden",ISNA(VLOOKUP($V$4&$V62&AB$10,Data!$A:$H,7,FALSE)=TRUE)),"",IF(AND($E$2="Zuid",ISNA(VLOOKUP($V$4&$V62&AB$10,Data!$A:$H,8,FALSE)=TRUE)),"",IF(AND($E$2="Noord",VLOOKUP($V$4&$V62&AB$10,Data!$A:$H,6,FALSE)="Vakantie"),"x",IF(AND($E$2="Midden",VLOOKUP($V$4&$V62&AB$10,Data!$A:$H,7,FALSE)="Vakantie"),"x",IF(AND($E$2="Zuid",VLOOKUP($V$4&$V62&AB$10,Data!$A:$H,8,FALSE)="Vakantie"),"x","")))))) -> x | AC62: =IF(AND($E$2="Noord",ISNA(VLOOKUP($V$4&$V62&AC$10,Data!$A:$H,6,FALSE)=TRUE)),"",IF(AND($E$2="Midden",ISNA(VLOOKUP($V$4&$V62&AC$10,Data!$A:$H,7,FALSE)=TRUE)),"",IF(AND($E$2="Zuid",ISNA(VLOOKUP($V$4&$V62&AC$10,Data!$A:$H,8,FALSE)=TRUE)),"",IF(AND($E$2="Noord",VLOOKUP($V$4&$V62&AC$10,Data!$A:$H,6,FALSE)="Vakantie"),"x",IF(AND($E$2="Midden",VLOOKUP($V$4&$V62&AC$10,Data!$A:$H,7,FALSE)="Vakantie"),"x",IF(AND($E$2="Zuid",VLOOKUP($V$4&$V62&AC$10,Data!$A:$H,8,FALSE)="Vakantie"),"x","")))))) -> x | AD62: =SUM(Y62:AC62) -> 0 | AI62: =IF(SUM($E62:$I62)=0,1,2) -> 1 | AJ62: =IF((COUNTIF($AI$11:$AI62,2))>1,"",IF(OR(AI61="",AI61=2),"",IF(AI62=1,"",IF(AND($AI62=2,E62<>""),$C62,IF(AND($AI62=2,F62<>""),$C62+1,IF(AND($AI62=2,G62<>""),$C62+2,IF(AND($AI62=2,H62<>""),$C62+3,IF(AND($AI62=2,I62<>""),$C62+4,"")))))))) | AK62: =IF(SUM(E$62:$I63)+$T$68+$AD$68=0,1,2) -> 1 | AL62: =IF(AK61="","",IF(AK61=1,"",IF(AK62<>1,"",IF(AND(AK62=1,I62<>""),C62+4,IF(AND(AK62=1,H62<>""),C62+3,IF(AND(AK62=1,G62<>""),C62+2,IF(AND(AK62=1,F62<>""),C62+1,IF(AND(AK62=1,E62<>""),C62,"")))))))) | AM62: =IF(SUM($O62:$S62)=0,1,2) -> 1 | AN62: =IF((COUNTIF($AI$11:$AI$64,2)+COUNTIF($AM61:$AM62,2))>1,"",IF(OR(AM61="",AM61=2),"",IF(AM62=1,"",IF(AND(AM62=2,O62<>""),M62,IF(AND(AM62=2,P62<>""),M62+1,IF(AND(AM62=2,Q62<>""),M62+2,IF(AND(AM62=2,R62<>""),M62+3,IF(AND(AM62=2,S62<>""),M62+4,"")))))))) | AO62: =IF(SUM(O$62:$S63)+$AD$68=0,1,2) -> 1 | AP62: =IF(AO61="","",IF(AO61=1,"",IF(AO62<>1,"",IF(AND(AO62=1,S62<>""),M62+4,IF(AND(AO62=1,R62<>""),M62+3,IF(AND(AO62=1,Q62<>""),M62+2,IF(AND(AO62=1,P62<>""),M62+1,IF(AND(AO62=1,O62<>""),M62,"")))))))) | AQ62: =IF(SUM($O$62:$S63)=0,1,2) -> 1 | AR62: =IF((COUNTIF($AI$11:$AI$64,2)+COUNTIF($AM$11:$AM$64,2)+COUNTIF(AQ$12:$AQ62,2))>1,"",IF(OR(AQ61="",AQ61=2),"",IF(AQ62=1,"",IF(AND(AQ62=2,Y62<>""),W62,IF(AND(AQ62=2,Z62<>""),W62+1,IF(AND(AQ62=2,AA62<>""),W62+2,IF(AND(AQ62=2,AB62<>""),W62+3,IF(AND(AQ62=2,AC62<>""),W62+4,"")))))))) | AS62: =IF(SUM(Y$62:$AC63)=0,1,2) -> 1 | AT62: =IF(AS61="","",IF(AS61=1,"",IF(AS62<>1,"",IF(AND(AS62=1,AC62<>""),W62+4,IF(AND(AS62=1,AB62<>""),W62+3,IF(AND(AS62=1,AA62<>""),W62+2,IF(AND(AS62=1,Z62<>""),W62+1,IF(AND(AS62=1,Y62<>""),W62,""))))))))
L63: 53 | M63: =M62+7 -> 46384 | N63: =+N62+7 -> 46388 | O63: =IF(AND($E$2="Noord",ISNA(VLOOKUP($L$4&$L63&O$10,Data!$A:$H,6,FALSE)=TRUE)),"",IF(AND($E$2="Midden",ISNA(VLOOKUP($L$4&$L63&O$10,Data!$A:$H,7,FALSE)=TRUE)),"",IF(AND($E$2="Zuid",ISNA(VLOOKUP($L$4&$L63&O$10,Data!$A:$H,8,FALSE)=TRUE)),"",IF(AND($E$2="Noord",VLOOKUP($L$4&$L63&O$10,Data!$A:$H,6,FALSE)="Vakantie"),"x",IF(AND($E$2="Midden",VLOOKUP($L$4&$L63&O$10,Data!$A:$H,7,FALSE)="Vakantie"),"x",IF(AND($E$2="Zuid",VLOOKUP($L$4&$L63&O$10,Data!$A:$H,8,FALSE)="Vakantie"),"x","")))))) -> x | P63: =IF(AND($E$2="Noord",ISNA(VLOOKUP($L$4&$L63&P$10,Data!$A:$H,6,FALSE)=TRUE)),"",IF(AND($E$2="Midden",ISNA(VLOOKUP($L$4&$L63&P$10,Data!$A:$H,7,FALSE)=TRUE)),"",IF(AND($E$2="Zuid",ISNA(VLOOKUP($L$4&$L63&P$10,Data!$A:$H,8,FALSE)=TRUE)),"",IF(AND($E$2="Noord",VLOOKUP($L$4&$L63&P$10,Data!$A:$H,6,FALSE)="Vakantie"),"x",IF(AND($E$2="Midden",VLOOKUP($L$4&$L63&P$10,Data!$A:$H,7,FALSE)="Vakantie"),"x",IF(AND($E$2="Zuid",VLOOKUP($L$4&$L63&P$10,Data!$A:$H,8,FALSE)="Vakantie"),"x","")))))) -> x | Q63: =IF(AND($E$2="Noord",ISNA(VLOOKUP($L$4&$L63&Q$10,Data!$A:$H,6,FALSE)=TRUE)),"",IF(AND($E$2="Midden",ISNA(VLOOKUP($L$4&$L63&Q$10,Data!$A:$H,7,FALSE)=TRUE)),"",IF(AND($E$2="Zuid",ISNA(VLOOKUP($L$4&$L63&Q$10,Data!$A:$H,8,FALSE)=TRUE)),"",IF(AND($E$2="Noord",VLOOKUP($L$4&$L63&Q$10,Data!$A:$H,6,FALSE)="Vakantie"),"x",IF(AND($E$2="Midden",VLOOKUP($L$4&$L63&Q$10,Data!$A:$H,7,FALSE)="Vakantie"),"x",IF(AND($E$2="Zuid",VLOOKUP($L$4&$L63&Q$10,Data!$A:$H,8,FALSE)="Vakantie"),"x","")))))) -> x | R63: =IF(AND($E$2="Noord",ISNA(VLOOKUP($L$4&$L63&R$10,Data!$A:$H,6,FALSE)=TRUE)),"",IF(AND($E$2="Midden",ISNA(VLOOKUP($L$4&$L63&R$10,Data!$A:$H,7,FALSE)=TRUE)),"",IF(AND($E$2="Zuid",ISNA(VLOOKUP($L$4&$L63&R$10,Data!$A:$H,8,FALSE)=TRUE)),"",IF(AND($E$2="Noord",VLOOKUP($L$4&$L63&R$10,Data!$A:$H,6,FALSE)="Vakantie"),"x",IF(AND($E$2="Midden",VLOOKUP($L$4&$L63&R$10,Data!$A:$H,7,FALSE)="Vakantie"),"x",IF(AND($E$2="Zuid",VLOOKUP($L$4&$L63&R$10,Data!$A:$H,8,FALSE)="Vakantie"),"x","")))))) -> x | S63: =IF(AND($E$2="Noord",ISNA(VLOOKUP($L$4&$L63&S$10,Data!$A:$H,6,FALSE)=TRUE)),"",IF(AND($E$2="Midden",ISNA(VLOOKUP($L$4&$L63&S$10,Data!$A:$H,7,FALSE)=TRUE)),"",IF(AND($E$2="Zuid",ISNA(VLOOKUP($L$4&$L63&S$10,Data!$A:$H,8,FALSE)=TRUE)),"",IF(AND($E$2="Noord",VLOOKUP($L$4&$L63&S$10,Data!$A:$H,6,FALSE)="Vakantie"),"x",IF(AND($E$2="Midden",VLOOKUP($L$4&$L63&S$10,Data!$A:$H,7,FALSE)="Vakantie"),"x",IF(AND($E$2="Zuid",VLOOKUP($L$4&$L63&S$10,Data!$A:$H,8,FALSE)="Vakantie"),"x","")))))) -> x | T63: =SUM(O63:S63) -> 0 | AI63: =IF(SUM($E63:$I63)=0,1,2) -> 1 | AJ63: =IF((COUNTIF($AI$11:$AI63,2))>1,"",IF(OR(AI62="",AI62=2),"",IF(AI63=1,"",IF(AND($AI63=2,E63<>""),$C63,IF(AND($AI63=2,F63<>""),$C63+1,IF(AND($AI63=2,G63<>""),$C63+2,IF(AND($AI63=2,H63<>""),$C63+3,IF(AND($AI63=2,I63<>""),$C63+4,"")))))))) | AK63: =IF(SUM(E$62:$I64)+$T$68+$AD$68=0,1,2) -> 1 | AL63: =IF(AK62="","",IF(AK62=1,"",IF(AK63<>1,"",IF(AND(AK63=1,I63<>""),C63+4,IF(AND(AK63=1,H63<>""),C63+3,IF(AND(AK63=1,G63<>""),C63+2,IF(AND(AK63=1,F63<>""),C63+1,IF(AND(AK63=1,E63<>""),C63,"")))))))) | AM63: =IF(SUM($O63:$S63)=0,1,2) -> 1 | AN63: =IF((COUNTIF($AI$11:$AI$64,2)+COUNTIF($AM62:$AM63,2))>1,"",IF(OR(AM62="",AM62=2),"",IF(AM63=1,"",IF(AND(AM63=2,O63<>""),M63,IF(AND(AM63=2,P63<>""),M63+1,IF(AND(AM63=2,Q63<>""),M63+2,IF(AND(AM63=2,R63<>""),M63+3,IF(AND(AM63=2,S63<>""),M63+4,"")))))))) | AO63: =IF(SUM(O$62:$S64)+$AD$68=0,1,2) -> 1 | AP63: =IF(AO62="","",IF(AO62=1,"",IF(AO63<>1,"",IF(AND(AO63=1,S63<>""),M63+4,IF(AND(AO63=1,R63<>""),M63+3,IF(AND(AO63=1,Q63<>""),M63+2,IF(AND(AO63=1,P63<>""),M63+1,IF(AND(AO63=1,O63<>""),M63,"")))))))) | AQ63: =IF(SUM($O$62:$S64)=0,1,2) -> 1 | AR63: =IF((COUNTIF($AI$11:$AI$64,2)+COUNTIF($AM$11:$AM$64,2)+COUNTIF(AQ$12:$AQ63,2))>1,"",IF(OR(AQ62="",AQ62=2),"",IF(AQ63=1,"",IF(AND(AQ63=2,Y63<>""),W63,IF(AND(AQ63=2,Z63<>""),W63+1,IF(AND(AQ63=2,AA63<>""),W63+2,IF(AND(AQ63=2,AB63<>""),W63+3,IF(AND(AQ63=2,AC63<>""),W63+4,"")))))))) | AS63: =IF(SUM(Y$62:$AC64)=0,1,2) -> 1 | AT63: =IF(AS62="","",IF(AS62=1,"",IF(AS63<>1,"",IF(AND(AS63=1,AC63<>""),W63+4,IF(AND(AS63=1,AB63<>""),W63+3,IF(AND(AS63=1,AA63<>""),W63+2,IF(AND(AS63=1,Z63<>""),W63+1,IF(AND(AS63=1,Y63<>""),W63,""))))))))
B68: Totaal | J68: =SUM(J12:J63) -> 0 | K68: =SUM(K12:K67) -> 0 | L68: Totaal | T68: =SUM(T12:T63) -> 0 | U68: =SUM(U12:U67) -> 0 | V68: Totaal | AD68: =SUM(AD12:AD63) -> 0 | AE68: =SUM(AE12:AE67) -> 0 | AF68: Totaal | AJ68: =SUM(AJ11:AJ66) -> 0 | AL68: =SUM(AL11:AL66) -> 0 | AN68: =SUM(AN11:AN66) -> 0 | AP68: =SUM(AP11:AP66) -> 0 | AR68: =SUM(AR11:AR66) -> 0 | AT68: =SUM(AT11:AT66) -> 0
AA70: Totaal | AD70: =+J68+T68+AD68 -> 0

Sheet Opname per periode
B2: Betaald ouderschapsverlof 75% opname in uren
B4: Jaar Maand | C4: 2025 | D4: =C4+1 -> 2026 | E4: =D4+1 -> 2027 | F4: =E4+1 -> 2028 | G4: =F4+1 -> 2029
A5: 1 | B5: Januari | C5: =SUMIFS(Calc1!$F:$F,Calc1!$AK:$AK,'Opname per periode'!C$4&"-"&'Opname per periode'!$A5&"-"&Ouderschapsverlof!$AB$29)+SUMIFS(Calc1!$Q:$Q,Calc1!$AL:$AL,'Opname per periode'!C$4&"-"&'Opname per periode'!$A5&"-"&Ouderschapsverlof!$AB$42) -> 0 | D5: =SUMIFS(Calc1!$F:$F,Calc1!$AK:$AK,'Opname per periode'!D$4&"-"&'Opname per periode'!$A5&"-"&Ouderschapsverlof!$AB$29)+SUMIFS(Calc1!$Q:$Q,Calc1!$AL:$AL,'Opname per periode'!D$4&"-"&'Opname per periode'!$A5&"-"&Ouderschapsverlof!$AB$42) -> 0 | E5: =SUMIFS(Calc1!$F:$F,Calc1!$AK:$AK,'Opname per periode'!E$4&"-"&'Opname per periode'!$A5&"-"&Ouderschapsverlof!$AB$29)+SUMIFS(Calc1!$Q:$Q,Calc1!$AL:$AL,'Opname per periode'!E$4&"-"&'Opname per periode'!$A5&"-"&Ouderschapsverlof!$AB$42) -> 0 | F5: =SUMIFS(Calc1!$F:$F,Calc1!$AK:$AK,'Opname per periode'!F$4&"-"&'Opname per periode'!$A5&"-"&Ouderschapsverlof!$AB$29)+SUMIFS(Calc1!$Q:$Q,Calc1!$AL:$AL,'Opname per periode'!F$4&"-"&'Opname per periode'!$A5&"-"&Ouderschapsverlof!$AB$42) -> 0 | G5: =SUMIFS(Calc1!$F:$F,Calc1!$AK:$AK,'Opname per periode'!G$4&"-"&'Opname per periode'!$A5&"-"&Ouderschapsverlof!$AB$29)+SUMIFS(Calc1!$Q:$Q,Calc1!$AL:$AL,'Opname per periode'!G$4&"-"&'Opname per periode'!$A5&"-"&Ouderschapsverlof!$AB$42) -> 0
A6: 2 | B6: Februari | C6: =SUMIFS(Calc1!$F:$F,Calc1!$AK:$AK,'Opname per periode'!C$4&"-"&'Opname per periode'!$A6&"-"&Ouderschapsverlof!$AB$29)+SUMIFS(Calc1!$Q:$Q,Calc1!$AL:$AL,'Opname per periode'!C$4&"-"&'Opname per periode'!$A6&"-"&Ouderschapsverlof!$AB$42) -> 0 | D6: =SUMIFS(Calc1!$F:$F,Calc1!$AK:$AK,'Opname per periode'!D$4&"-"&'Opname per periode'!$A6&"-"&Ouderschapsverlof!$AB$29)+SUMIFS(Calc1!$Q:$Q,Calc1!$AL:$AL,'Opname per periode'!D$4&"-"&'Opname per periode'!$A6&"-"&Ouderschapsverlof!$AB$42) -> 0 | E6: =SUMIFS(Calc1!$F:$F,Calc1!$AK:$AK,'Opname per periode'!E$4&"-"&'Opname per periode'!$A6&"-"&Ouderschapsverlof!$AB$29)+SUMIFS(Calc1!$Q:$Q,Calc1!$AL:$AL,'Opname per periode'!E$4&"-"&'Opname per periode'!$A6&"-"&Ouderschapsverlof!$AB$42) -> 0 | F6: =SUMIFS(Calc1!$F:$F,Calc1!$AK:$AK,'Opname per periode'!F$4&"-"&'Opname per periode'!$A6&"-"&Ouderschapsverlof!$AB$29)+SUMIFS(Calc1!$Q:$Q,Calc1!$AL:$AL,'Opname per periode'!F$4&"-"&'Opname per periode'!$A6&"-"&Ouderschapsverlof!$AB$42) -> 0 | G6: =SUMIFS(Calc1!$F:$F,Calc1!$AK:$AK,'Opname per periode'!G$4&"-"&'Opname per periode'!$A6&"-"&Ouderschapsverlof!$AB$29)+SUMIFS(Calc1!$Q:$Q,Calc1!$AL:$AL,'Opname per periode'!G$4&"-"&'Opname per periode'!$A6&"-"&Ouderschapsverlof!$AB$42) -> 0
A7: 3 | B7: Maart | C7: =SUMIFS(Calc1!$F:$F,Calc1!$AK:$AK,'Opname per periode'!C$4&"-"&'Opname per periode'!$A7&"-"&Ouderschapsverlof!$AB$29)+SUMIFS(Calc1!$Q:$Q,Calc1!$AL:$AL,'Opname per periode'!C$4&"-"&'Opname per periode'!$A7&"-"&Ouderschapsverlof!$AB$42) -> 0 | D7: =SUMIFS(Calc1!$F:$F,Calc1!$AK:$AK,'Opname per periode'!D$4&"-"&'Opname per periode'!$A7&"-"&Ouderschapsverlof!$AB$29)+SUMIFS(Calc1!$Q:$Q,Calc1!$AL:$AL,'Opname per periode'!D$4&"-"&'Opname per periode'!$A7&"-"&Ouderschapsverlof!$AB$42) -> 0 | E7: =SUMIFS(Calc1!$F:$F,Calc1!$AK:$AK,'Opname per periode'!E$4&"-"&'Opname per periode'!$A7&"-"&Ouderschapsverlof!$AB$29)+SUMIFS(Calc1!$Q:$Q,Calc1!$AL:$AL,'Opname per periode'!E$4&"-"&'Opname per periode'!$A7&"-"&Ouderschapsverlof!$AB$42) -> 0 | F7: =SUMIFS(Calc1!$F:$F,Calc1!$AK:$AK,'Opname per periode'!F$4&"-"&'Opname per periode'!$A7&"-"&Ouderschapsverlof!$AB$29)+SUMIFS(Calc1!$Q:$Q,Calc1!$AL:$AL,'Opname per periode'!F$4&"-"&'Opname per periode'!$A7&"-"&Ouderschapsverlof!$AB$42) -> 0 | G7: =SUMIFS(Calc1!$F:$F,Calc1!$AK:$AK,'Opname per periode'!G$4&"-"&'Opname per periode'!$A7&"-"&Ouderschapsverlof!$AB$29)+SUMIFS(Calc1!$Q:$Q,Calc1!$AL:$AL,'Opname per periode'!G$4&"-"&'Opname per periode'!$A7&"-"&Ouderschapsverlof!$AB$42) -> 0
A8: 4 | B8: April | C8: =SUMIFS(Calc1!$F:$F,Calc1!$AK:$AK,'Opname per periode'!C$4&"-"&'Opname per periode'!$A8&"-"&Ouderschapsverlof!$AB$29)+SUMIFS(Calc1!$Q:$Q,Calc1!$AL:$AL,'Opname per periode'!C$4&"-"&'Opname per periode'!$A8&"-"&Ouderschapsverlof!$AB$42) -> 0 | D8: =SUMIFS(Calc1!$F:$F,Calc1!$AK:$AK,'Opname per periode'!D$4&"-"&'Opname per periode'!$A8&"-"&Ouderschapsverlof!$AB$29)+SUMIFS(Calc1!$Q:$Q,Calc1!$AL:$AL,'Opname per periode'!D$4&"-"&'Opname per periode'!$A8&"-"&Ouderschapsverlof!$AB$42) -> 0 | E8: =SUMIFS(Calc1!$F:$F,Calc1!$AK:$AK,'Opname per periode'!E$4&"-"&'Opname per periode'!$A8&"-"&Ouderschapsverlof!$AB$29)+SUMIFS(Calc1!$Q:$Q,Calc1!$AL:$AL,'Opname per periode'!E$4&"-"&'Opname per periode'!$A8&"-"&Ouderschapsverlof!$AB$42) -> 0 | F8: =SUMIFS(Calc1!$F:$F,Calc1!$AK:$AK,'Opname per periode'!F$4&"-"&'Opname per periode'!$A8&"-"&Ouderschapsverlof!$AB$29)+SUMIFS(Calc1!$Q:$Q,Calc1!$AL:$AL,'Opname per periode'!F$4&"-"&'Opname per periode'!$A8&"-"&Ouderschapsverlof!$AB$42) -> 0 | G8: =SUMIFS(Calc1!$F:$F,Calc1!$AK:$AK,'Opname per periode'!G$4&"-"&'Opname per periode'!$A8&"-"&Ouderschapsverlof!$AB$29)+SUMIFS(Calc1!$Q:$Q,Calc1!$AL:$AL,'Opname per periode'!G$4&"-"&'Opname per periode'!$A8&"-"&Ouderschapsverlof!$AB$42) -> 0
A9: 5 | B9: Mei | C9: =SUMIFS(Calc1!$F:$F,Calc1!$AK:$AK,'Opname per periode'!C$4&"-"&'Opname per periode'!$A9&"-"&Ouderschapsverlof!$AB$29)+SUMIFS(Calc1!$Q:$Q,Calc1!$AL:$AL,'Opname per periode'!C$4&"-"&'Opname per periode'!$A9&"-"&Ouderschapsverlof!$AB$42) -> 0 | D9: =SUMIFS(Calc1!$F:$F,Calc1!$AK:$AK,'Opname per periode'!D$4&"-"&'Opname per periode'!$A9&"-"&Ouderschapsverlof!$AB$29)+SUMIFS(Calc1!$Q:$Q,Calc1!$AL:$AL,'Opname per periode'!D$4&"-"&'Opname per periode'!$A9&"-"&Ouderschapsverlof!$AB$42) -> 0 | E9: =SUMIFS(Calc1!$F:$F,Calc1!$AK:$AK,'Opname per periode'!E$4&"-"&'Opname per periode'!$A9&"-"&Ouderschapsverlof!$AB$29)+SUMIFS(Calc1!$Q:$Q,Calc1!$AL:$AL,'Opname per periode'!E$4&"-"&'Opname per periode'!$A9&"-"&Ouderschapsverlof!$AB$42) -> 0 | F9: =SUMIFS(Calc1!$F:$F,Calc1!$AK:$AK,'Opname per periode'!F$4&"-"&'Opname per periode'!$A9&"-"&Ouderschapsverlof!$AB$29)+SUMIFS(Calc1!$Q:$Q,Calc1!$AL:$AL,'Opname per periode'!F$4&"-"&'Opname per periode'!$A9&"-"&Ouderschapsverlof!$AB$42) -> 0 | G9: =SUMIFS(Calc1!$F:$F,Calc1!$AK:$AK,'Opname per periode'!G$4&"-"&'Opname per periode'!$A9&"-"&Ouderschapsverlof!$AB$29)+SUMIFS(Calc1!$Q:$Q,Calc1!$AL:$AL,'Opname per periode'!G$4&"-"&'Opname per periode'!$A9&"-"&Ouderschapsverlof!$AB$42) -> 0
A10: 6 | B10: Juni | C10: =SUMIFS(Calc1!$F:$F,Calc1!$AK:$AK,'Opname per periode'!C$4&"-"&'Opname per periode'!$A10&"-"&Ouderschapsverlof!$AB$29)+SUMIFS(Calc1!$Q:$Q,Calc1!$AL:$AL,'Opname per periode'!C$4&"-"&'Opname per periode'!$A10&"-"&Ouderschapsverlof!$AB$42) -> 0 | D10: =SUMIFS(Calc1!$F:$F,Calc1!$AK:$AK,'Opname per periode'!D$4&"-"&'Opname per periode'!$A10&"-"&Ouderschapsverlof!$AB$29)+SUMIFS(Calc1!$Q:$Q,Calc1!$AL:$AL,'Opname per periode'!D$4&"-"&'Opname per periode'!$A10&"-"&Ouderschapsverlof!$AB$42) -> 0 | E10: =SUMIFS(Calc1!$F:$F,Calc1!$AK:$AK,'Opname per periode'!E$4&"-"&'Opname per periode'!$A10&"-"&Ouderschapsverlof!$AB$29)+SUMIFS(Calc1!$Q:$Q,Calc1!$AL:$AL,'Opname per periode'!E$4&"-"&'Opname per periode'!$A10&"-"&Ouderschapsverlof!$AB$42) -> 0 | F10: =SUMIFS(Calc1!$F:$F,Calc1!$AK:$AK,'Opname per periode'!F$4&"-"&'Opname per periode'!$A10&"-"&Ouderschapsverlof!$AB$29)+SUMIFS(Calc1!$Q:$Q,Calc1!$AL:$AL,'Opname per periode'!F$4&"-"&'Opname per periode'!$A10&"-"&Ouderschapsverlof!$AB$42) -> 0 | G10: =SUMIFS(Calc1!$F:$F,Calc1!$AK:$AK,'Opname per periode'!G$4&"-"&'Opname per periode'!$A10&"-"&Ouderschapsverlof!$AB$29)+SUMIFS(Calc1!$Q:$Q,Calc1!$AL:$AL,'Opname per periode'!G$4&"-"&'Opname per periode'!$A10&"-"&Ouderschapsverlof!$AB$42) -> 0
A11: 7 | B11: Juli | C11: =SUMIFS(Calc1!$F:$F,Calc1!$AK:$AK,'Opname per periode'!C$4&"-"&'Opname per periode'!$A11&"-"&Ouderschapsverlof!$AB$29)+SUMIFS(Calc1!$Q:$Q,Calc1!$AL:$AL,'Opname per periode'!C$4&"-"&'Opname per periode'!$A11&"-"&Ouderschapsverlof!$AB$42) -> 0 | D11: =SUMIFS(Calc1!$F:$F,Calc1!$AK:$AK,'Opname per periode'!D$4&"-"&'Opname per periode'!$A11&"-"&Ouderschapsverlof!$AB$29)+SUMIFS(Calc1!$Q:$Q,Calc1!$AL:$AL,'Opname per periode'!D$4&"-"&'Opname per periode'!$A11&"-"&Ouderschapsverlof!$AB$42) -> 0 | E11: =SUMIFS(Calc1!$F:$F,Calc1!$AK:$AK,'Opname per periode'!E$4&"-"&'Opname per periode'!$A11&"-"&Ouderschapsverlof!$AB$29)+SUMIFS(Calc1!$Q:$Q,Calc1!$AL:$AL,'Opname per periode'!E$4&"-"&'Opname per periode'!$A11&"-"&Ouderschapsverlof!$AB$42) -> 0 | F11: =SUMIFS(Calc1!$F:$F,Calc1!$AK:$AK,'Opname per periode'!F$4&"-"&'Opname per periode'!$A11&"-"&Ouderschapsverlof!$AB$29)+SUMIFS(Calc1!$Q:$Q,Calc1!$AL:$AL,'Opname per periode'!F$4&"-"&'Opname per periode'!$A11&"-"&Ouderschapsverlof!$AB$42) -> 0 | G11: =SUMIFS(Calc1!$F:$F,Calc1!$AK:$AK,'Opname per periode'!G$4&"-"&'Opname per periode'!$A11&"-"&Ouderschapsverlof!$AB$29)+SUMIFS(Calc1!$Q:$Q,Calc1!$AL:$AL,'Opname per periode'!G$4&"-"&'Opname per periode'!$A11&"-"&Ouderschapsverlof!$AB$42) -> 0
A12: 8 | B12: Augustus | C12: =SUMIFS(Calc1!$F:$F,Calc1!$AK:$AK,'Opname per periode'!C$4&"-"&'Opname per periode'!$A12&"-"&Ouderschapsverlof!$AB$29)+SUMIFS(Calc1!$Q:$Q,Calc1!$AL:$AL,'Opname per periode'!C$4&"-"&'Opname per periode'!$A12&"-"&Ouderschapsverlof!$AB$42) -> 0 | D12: =SUMIFS(Calc1!$F:$F,Calc1!$AK:$AK,'Opname per periode'!D$4&"-"&'Opname per periode'!$A12&"-"&Ouderschapsverlof!$AB$29)+SUMIFS(Calc1!$Q:$Q,Calc1!$AL:$AL,'Opname per periode'!D$4&"-"&'Opname per periode'!$A12&"-"&Ouderschapsverlof!$AB$42) -> 0 | E12: =SUMIFS(Calc1!$F:$F,Calc1!$AK:$AK,'Opname per periode'!E$4&"-"&'Opname per periode'!$A12&"-"&Ouderschapsverlof!$AB$29)+SUMIFS(Calc1!$Q:$Q,Calc1!$AL:$AL,'Opname per periode'!E$4&"-"&'Opname per periode'!$A12&"-"&Ouderschapsverlof!$AB$42) -> 0 | F12: =SUMIFS(Calc1!$F:$F,Calc1!$AK:$AK,'Opname per periode'!F$4&"-"&'Opname per periode'!$A12&"-"&Ouderschapsverlof!$AB$29)+SUMIFS(Calc1!$Q:$Q,Calc1!$AL:$AL,'Opname per periode'!F$4&"-"&'Opname per periode'!$A12&"-"&Ouderschapsverlof!$AB$42) -> 0 | G12: =SUMIFS(Calc1!$F:$F,Calc1!$AK:$AK,'Opname per periode'!G$4&"-"&'Opname per periode'!$A12&"-"&Ouderschapsverlof!$AB$29)+SUMIFS(Calc1!$Q:$Q,Calc1!$AL:$AL,'Opname per periode'!G$4&"-"&'Opname per periode'!$A12&"-"&Ouderschapsverlof!$AB$42) -> 0
A13: 9 | B13: September | C13: =SUMIFS(Calc1!$F:$F,Calc1!$AK:$AK,'Opname per periode'!C$4&"-"&'Opname per periode'!$A13&"-"&Ouderschapsverlof!$AB$29)+SUMIFS(Calc1!$Q:$Q,Calc1!$AL:$AL,'Opname per periode'!C$4&"-"&'Opname per periode'!$A13&"-"&Ouderschapsverlof!$AB$42) -> 0 | D13: =SUMIFS(Calc1!$F:$F,Calc1!$AK:$AK,'Opname per periode'!D$4&"-"&'Opname per periode'!$A13&"-"&Ouderschapsverlof!$AB$29)+SUMIFS(Calc1!$Q:$Q,Calc1!$AL:$AL,'Opname per periode'!D$4&"-"&'Opname per periode'!$A13&"-"&Ouderschapsverlof!$AB$42) -> 0 | E13: =SUMIFS(Calc1!$F:$F,Calc1!$AK:$AK,'Opname per periode'!E$4&"-"&'Opname per periode'!$A13&"-"&Ouderschapsverlof!$AB$29)+SUMIFS(Calc1!$Q:$Q,Calc1!$AL:$AL,'Opname per periode'!E$4&"-"&'Opname per periode'!$A13&"-"&Ouderschapsverlof!$AB$42) -> 0 | F13: =SUMIFS(Calc1!$F:$F,Calc1!$AK:$AK,'Opname per periode'!F$4&"-"&'Opname per periode'!$A13&"-"&Ouderschapsverlof!$AB$29)+SUMIFS(Calc1!$Q:$Q,Calc1!$AL:$AL,'Opname per periode'!F$4&"-"&'Opname per periode'!$A13&"-"&Ouderschapsverlof!$AB$42) -> 0 | G13: =SUMIFS(Calc1!$F:$F,Calc1!$AK:$AK,'Opname per periode'!G$4&"-"&'Opname per periode'!$A13&"-"&Ouderschapsverlof!$AB$29)+SUMIFS(Calc1!$Q:$Q,Calc1!$AL:$AL,'Opname per periode'!G$4&"-"&'Opname per periode'!$A13&"-"&Ouderschapsverlof!$AB$42) -> 0
A14: 10 | B14: Oktober | C14: =SUMIFS(Calc1!$F:$F,Calc1!$AK:$AK,'Opname per periode'!C$4&"-"&'Opname per periode'!$A14&"-"&Ouderschapsverlof!$AB$29)+SUMIFS(Calc1!$Q:$Q,Calc1!$AL:$AL,'Opname per periode'!C$4&"-"&'Opname per periode'!$A14&"-"&Ouderschapsverlof!$AB$42) -> 0 | D14: =SUMIFS(Calc1!$F:$F,Calc1!$AK:$AK,'Opname per periode'!D$4&"-"&'Opname per periode'!$A14&"-"&Ouderschapsverlof!$AB$29)+SUMIFS(Calc1!$Q:$Q,Calc1!$AL:$AL,'Opname per periode'!D$4&"-"&'Opname per periode'!$A14&"-"&Ouderschapsverlof!$AB$42) -> 0 | E14: =SUMIFS(Calc1!$F:$F,Calc1!$AK:$AK,'Opname per periode'!E$4&"-"&'Opname per periode'!$A14&"-"&Ouderschapsverlof!$AB$29)+SUMIFS(Calc1!$Q:$Q,Calc1!$AL:$AL,'Opname per periode'!E$4&"-"&'Opname per periode'!$A14&"-"&Ouderschapsverlof!$AB$42) -> 0 | F14: =SUMIFS(Calc1!$F:$F,Calc1!$AK:$AK,'Opname per periode'!F$4&"-"&'Opname per periode'!$A14&"-"&Ouderschapsverlof!$AB$29)+SUMIFS(Calc1!$Q:$Q,Calc1!$AL:$AL,'Opname per periode'!F$4&"-"&'Opname per periode'!$A14&"-"&Ouderschapsverlof!$AB$42) -> 0 | G14: =SUMIFS(Calc1!$F:$F,Calc1!$AK:$AK,'Opname per periode'!G$4&"-"&'Opname per periode'!$A14&"-"&Ouderschapsverlof!$AB$29)+SUMIFS(Calc1!$Q:$Q,Calc1!$AL:$AL,'Opname per periode'!G$4&"-"&'Opname per periode'!$A14&"-"&Ouderschapsverlof!$AB$42) -> 0
A15: 11 | B15: November | C15: =SUMIFS(Calc1!$F:$F,Calc1!$AK:$AK,'Opname per periode'!C$4&"-"&'Opname per periode'!$A15&"-"&Ouderschapsverlof!$AB$29)+SUMIFS(Calc1!$Q:$Q,Calc1!$AL:$AL,'Opname per periode'!C$4&"-"&'Opname per periode'!$A15&"-"&Ouderschapsverlof!$AB$42) -> 0 | D15: =SUMIFS(Calc1!$F:$F,Calc1!$AK:$AK,'Opname per periode'!D$4&"-"&'Opname per periode'!$A15&"-"&Ouderschapsverlof!$AB$29)+SUMIFS(Calc1!$Q:$Q,Calc1!$AL:$AL,'Opname per periode'!D$4&"-"&'Opname per periode'!$A15&"-"&Ouderschapsverlof!$AB$42) -> 0 | E15: =SUMIFS(Calc1!$F:$F,Calc1!$AK:$AK,'Opname per periode'!E$4&"-"&'Opname per periode'!$A15&"-"&Ouderschapsverlof!$AB$29)+SUMIFS(Calc1!$Q:$Q,Calc1!$AL:$AL,'Opname per periode'!E$4&"-"&'Opname per periode'!$A15&"-"&Ouderschapsverlof!$AB$42) -> 0 | F15: =SUMIFS(Calc1!$F:$F,Calc1!$AK:$AK,'Opname per periode'!F$4&"-"&'Opname per periode'!$A15&"-"&Ouderschapsverlof!$AB$29)+SUMIFS(Calc1!$Q:$Q,Calc1!$AL:$AL,'Opname per periode'!F$4&"-"&'Opname per periode'!$A15&"-"&Ouderschapsverlof!$AB$42) -> 0 | G15: =SUMIFS(Calc1!$F:$F,Calc1!$AK:$AK,'Opname per periode'!G$4&"-"&'Opname per periode'!$A15&"-"&Ouderschapsverlof!$AB$29)+SUMIFS(Calc1!$Q:$Q,Calc1!$AL:$AL,'Opname per periode'!G$4&"-"&'Opname per periode'!$A15&"-"&Ouderschapsverlof!$AB$42) -> 0
A16: 12 | B16: December | C16: =SUMIFS(Calc1!$F:$F,Calc1!$AK:$AK,'Opname per periode'!C$4&"-"&'Opname per periode'!$A16&"-"&Ouderschapsverlof!$AB$29)+SUMIFS(Calc1!$Q:$Q,Calc1!$AL:$AL,'Opname per periode'!C$4&"-"&'Opname per periode'!$A16&"-"&Ouderschapsverlof!$AB$42) -> 0 | D16: =SUMIFS(Calc1!$F:$F,Calc1!$AK:$AK,'Opname per periode'!D$4&"-"&'Opname per periode'!$A16&"-"&Ouderschapsverlof!$AB$29)+SUMIFS(Calc1!$Q:$Q,Calc1!$AL:$AL,'Opname per periode'!D$4&"-"&'Opname per periode'!$A16&"-"&Ouderschapsverlof!$AB$42) -> 0 | E16: =SUMIFS(Calc1!$F:$F,Calc1!$AK:$AK,'Opname per periode'!E$4&"-"&'Opname per periode'!$A16&"-"&Ouderschapsverlof!$AB$29)+SUMIFS(Calc1!$Q:$Q,Calc1!$AL:$AL,'Opname per periode'!E$4&"-"&'Opname per periode'!$A16&"-"&Ouderschapsverlof!$AB$42) -> 0 | F16: =SUMIFS(Calc1!$F:$F,Calc1!$AK:$AK,'Opname per periode'!F$4&"-"&'Opname per periode'!$A16&"-"&Ouderschapsverlof!$AB$29)+SUMIFS(Calc1!$Q:$Q,Calc1!$AL:$AL,'Opname per periode'!F$4&"-"&'Opname per periode'!$A16&"-"&Ouderschapsverlof!$AB$42) -> 0 | G16: =SUMIFS(Calc1!$F:$F,Calc1!$AK:$AK,'Opname per periode'!G$4&"-"&'Opname per periode'!$A16&"-"&Ouderschapsverlof!$AB$29)+SUMIFS(Calc1!$Q:$Q,Calc1!$AL:$AL,'Opname per periode'!G$4&"-"&'Opname per periode'!$A16&"-"&Ouderschapsverlof!$AB$42) -> 0
B18: Totaal | C18: =SUM(C5:C16) -> 0 | D18: =SUM(D5:D16) -> 0 | E18: =SUM(E5:E16) -> 0 | F18: =SUM(F5:F16) -> 0 | G18: =SUM(G5:G16) -> 0
B20: Betaald ouderschapsverlof 55% opname in uren
B22: Jaar Maand | C22: 2025 | D22: =C22+1 -> 2026 | E22: =D22+1 -> 2027 | F22: =E22+1 -> 2028 | G22: =F22+1 -> 2029
A23: 1 | B23: Januari | C23: =SUMIFS(Calc1!$Y:$Y,Calc1!$AM:$AM,'Opname per periode'!C$22&"-"&$A23&"-"&Ouderschapsverlof!$AB$29)+SUMIFS(Calc1!$AG:$AG,Calc1!$AN:$AN,'Opname per periode'!C$22&"-"&'Opname per periode'!$A23&"-"&Ouderschapsverlof!$AB$29) -> 0 | D23: =SUMIFS(Calc1!$Y:$Y,Calc1!$AM:$AM,'Opname per periode'!D$22&"-"&$A23&"-"&Ouderschapsverlof!$AB$29)+SUMIFS(Calc1!$AG:$AG,Calc1!$AN:$AN,'Opname per periode'!D$22&"-"&'Opname per periode'!$A23&"-"&Ouderschapsverlof!$AB$29) -> 0 | E23: =SUMIFS(Calc1!$Y:$Y,Calc1!$AM:$AM,'Opname per periode'!E$22&"-"&$A23&"-"&Ouderschapsverlof!$AB$29)+SUMIFS(Calc1!$AG:$AG,Calc1!$AN:$AN,'Opname per periode'!E$22&"-"&'Opname per periode'!$A23&"-"&Ouderschapsverlof!$AB$29) -> 0 | F23: =SUMIFS(Calc1!$Y:$Y,Calc1!$AM:$AM,'Opname per periode'!F$22&"-"&$A23&"-"&Ouderschapsverlof!$AB$29)+SUMIFS(Calc1!$AG:$AG,Calc1!$AN:$AN,'Opname per periode'!F$22&"-"&'Opname per periode'!$A23&"-"&Ouderschapsverlof!$AB$29) -> 0 | G23: =SUMIFS(Calc1!$Y:$Y,Calc1!$AM:$AM,'Opname per periode'!G$22&"-"&$A23&"-"&Ouderschapsverlof!$AB$29)+SUMIFS(Calc1!$AG:$AG,Calc1!$AN:$AN,'Opname per periode'!G$22&"-"&'Opname per periode'!$A23&"-"&Ouderschapsverlof!$AB$29) -> 0
