Workbook

Sheet Toelichting
B1: Ouderschapsverlof 1e jaar
B3: Wettelijk betaald ouderschapsverlof
B4: Sinds 2 augustus 2022 heeft iedere werknemer recht op wettelijk betaald ouderschapsverlof. Dit verlof is gelijk aan 9 maal de betrekkingsomvang per week. In het Primair Onderwijs is in de cao bepaald dat een fulltime dienstverband, 40 uur per week groot is. In het Voortgezet Onderwijs is geen omvang per week vastgesteld bij een volledige betrekking. Het verlof moet binnen 1 jaar na de geboorte van het kind worden opgenomen. Voor kinderen die door adoptie en/of als pleegkind worden opgenomen geldt een afwijkende termijn waarbinnen het verlof moet worden opgenomen. Gedurende het verlof heeft u geen aanspraak op salaris, maar op een uitkering van het UWV. Deze uitkering wordt via uw werkgever aan u betaald via uw salaris.
B6: Aanvullend betaald ouderschapsverlof CAO PO en VO
B7: In de cao Primair en Voortgezet Onderwijs is bepaald dat de uitkering tot een 75% wordt aangevuld door de werkgever. Tevens is in deze cao's een aanvullende regeling voor betaald ouderschapsverlof zijn opgenomen. Totaal heeft men recht op 415 uur betaald ouderschapsverlof bij een volledig dienstverband. Het wettelijk betaald ouderschapsverlof waar men recht op heeft wordt in mindering gebracht op deze 415 uur. Deze sheet voorziet in betaalde ouderschapsverlof zoals dat in de cao PO en VO is opgenomen voor zover dit ook wordt opgenomen binnen 1 jaar na de geboorte van het kind. Ook verlof dat wordt opgenomen nadat het kind 1 jaar is geworden kan deze sheet gebruikt worden gemaakt voor de berekening hiervan.
B9: Onbetaald ouderschapsverlof
B10: Naast het betaalde ouderschapsverlof kan een medewerker ook aanspraak maken op onbetaald ouderschapsverlof. In de cao PO is bepaald dat dit (inclusief betaald ouderschapsverlof) totaal 1040 uur per kind is bij een volledige betrekking. In het Voortgezet Onderwijs is dit 830 uur. Deze sheet is hier niet geschikt voor, door Confina is ervoor gekozen dit in een aparte sheet te berekenen.
B12: Gebruik spreadsheet
B13: Om de sheet te kunnen gebruiken volgt hieronder een kleine instructie
B15: Tabblad ouderschapsverlof
B16: In dit tabblad dienen de volgende velden ingevuld te worden om de berekening goed te laten verlopen
B39: Bestuur | E39: Hier graag schoolbestuur invullen
B40: Naam medewerker | E40: Uw achternaam en initialen graag invullen
B41: Personeelsnummer | E41: Uw personeelsnummer - staat op uw salarisstrook - graag invullen
B42: Geboortedatum kind | E42: U kunt deze datum in vullen als dd-mm-jjjj - de cel maakt er automatisch dd-mm-jjjj van
B43: Relatie tot kind | K43: Graag een keuze maken dmv driehoekje
B45: Meerling? | K45: Graag een keuze maken dmv driehoekje
B47: Wtf bij aanvang verlof | E47: Graag uw wtf invullen bij aanvang verlof bijv 0,8
B48: Wtf na opname verlof | E48: Graag uw wtf invullen na einde verlof bijv 0,6 - indien van toepassing - anders zelfde wtf invullen wat is ingevuld bij wtf bij aanvang verlof
B49: Regio | K49: Graag een keuze maken dmv driehoekje
B51: Reeds eerder opgenomen | E51: Indien u eerder betaald verlof heeft genoten graag het aantal opgenomen uren hier invullen
B52: uren | E52: Indien geen eerdere opname heeft gedaan kunt u dit veld leeg laten
B54: Extra vrije dagen | E54: Hier kunt u de datums invullen van de dagen die vanuit school bepaald zijn en samen vallen met uw ouderschapsverlof - graag de datum per vrije dag invullen met een max van 9 dagen
E55: Ook de eventuele afwijkende voorjaarsvakantie kunt u hier invullen - dit is van belang voor de berekening van de duur van het ouderschapsverlof
B57: Kalender | E57: Hierin kunt u de datums bepalen die nodig zijn voor het tabblad ouderschapsverlof zoals begin- en einddatum en de vakanties raadplegen
E58: De kalender heeft verder geen functie en is ook nergens aangekoppeld
B60: Wettelijk betaald ouderschapsverlof 75%
B70: Ouderschapsverlof in werkuren | F70: Hier vult u het aantal uren per dag en welke dag(en) u het wettelijke betaald ouderschapsverlof gaat opnemen
B71: Datum ingang verlof | F71: Hier vult u de datum in van de 1e dag dat u betaald ouderschapsverlof opneemt
B72: Einddatum verlof | F72: Hier vult u de einddatum in van het wettelijk betaald ouderschapsverlof - deze datum mag niet later zijn dan uw kind 1 jaar is geworden
B74: Indien u eerst volle weken ouderschapsverlof opneemt en daarna bijv 1 dag of minder uren in de week dan kunt u dit op de 2e regel toepassen
B82: U dient bij de 1e regel dan de einddatum van het hogere opgenomen verlof in te vullen bijv de datum voordat een vakantie begint
B84: Ouderschapsverlof in werkuren | F84: Hier vult u het aantal uren per dag en welke dag(en) u het wettelijke betaald ouderschapsverlof gaat opnemen - indien van toepassing
B85: Datum wijziging verlof | F85: Hier vult u de datum in van de 1e dag indien u opname per week wijzigt
B86: Einddatum wijziging verlof | F86: Hier vult u de einddatum in van het gewijzigde opname verlof per week in - deze datum mag niet later zijn dan uw kind 1 jaar is geworden
B88: Aanvullende uitleg
B89: Het kan zijn dat u besluit om in de 1e weken van uw verlof een hogere aantal uren op te nemen van het wettelijk betaald ouderschapsverlof en dat u bijv na een vakantie minder uren per week opneemt
B90: Het formulier is daar op ingericht om deze mogelijkheid in te vullen doordat er per regeling 2 regels zijn aangemaakt zoals hierboven beschreven
B91: Indien u geen wisselende opnames hebt in het wettelijk betaald ouderschapsverlof volstaat het invullen van de 1e regel en kunt u de 2e regel leeg laten
B93: Betaald ouderschapsverlof 55%
...

Sheet Ouderschapsverlof
Z1: val geb datum kind | AC1: =IF(G33>0,G33-70,99999) -> 99999
H3: BEREKENING BETAALD OUDERSCHAPSVERLOF VO 2025-2027 V1.0
C6: Bestuur | F6: : | K6: Extra vrije dagen | M6: (niet schoolvakanties) | W6: geboorte datum | Y6: =+G12 -> 0 | Z6: aanvang betaald verlof 75% | AC6: =IF(Y6=0,99999,IF(G14=Ouderschapsverlof!U83,Ouderschapsverlof!Y6+70,Y6)) -> 99999
C8: Naam medewerker | F8: : | K8: Datum | L8: Datum | M8: Datum | S8: =IF(G18>1,1,G18) -> 0 | T8: =IF(G20>1,1,G20) -> 0 | W8: 1 jaar oud | Y8: =IF($Y$6=0,99999,DATE(YEAR($Y$6)+1,MONTH($Y$6),DAY($Y$6)-1)) -> 99999 | Z8: aanvang betaald verlof 55% | AC8: =Y8+1 -> 100000
C10: Personeelsnummer | F10: : | S10: onbet | T10: bet | W10: 4 jaar oud | Y10: =IF($Y$6=0,99999,DATE(YEAR($Y$6)+4,MONTH($Y$6),DAY($Y$6)-1)) -> 99999
C12: Geboortedatum kind | F12: : | S12: =IF(OR(G16="nee",G16=""),ROUND(S8*415,0),IF(G16="tweeling",ROUND(S8*830,0)+V12,ROUND(S8*1245,0)+V12)) -> 0 | T12: =IF(OR(G16="nee",G16=""),ROUND(IF(T8>0,T8*415,S8*415),0),IF(G16="tweeling",ROUND(IF(T8>0,T8*830,S8*830),0),IF(G16="drieling",ROUND(IF(T8>0,T8*1245,S8*1245),0)))) -> 0 | U12: uren | V12: =IF(OR(G16="nee",G16=""),ROUND(S8*415,0),IF(G16="tweeling",ROUND(S8*830,0),IF(G16="drieling",ROUND(S8*1245,0)))) -> 0
C14: Relatie tot kind | F14: : | V14: =V12-G24 -> 0 | W14: Jaar oud | Y14: =(TODAY()-Y6)/365 -> 125.82192
C16: Meerling? | F16: :
C18: Wtf bij aanvang verlof | F18: : | H18: = | I18: =ROUND(G18*40,2) -> 0 | J18: uren per week
C20: Wtf na opname verlof | F20: : | H20: = | I20: =ROUND(G20*40,2) -> 0 | J20: uren per week
C22: Regio | F22: : | G22: Noord
C24: reeds eerder opgenomen uren | F24: :
C27: =IF(G24>0,"Betaald ouderschapsverlof 75 %, recht op maximaal"&" "&V14&" "&"uren verlof","Betaald ouderschapsverlof 75 %, recht op maximaal"&" "&V12&" "&"uren verlof") -> Betaald ouderschapsverlof 75 %, recht op maximaal 0 uren verlof | AB27: Uren per dag
S28: 1 | T28: 2 | U28: 3 | V28: 4 | W28: 5
C29: Ouderschapsverlof in werkuren | F29: : | G29: Ma | H29: Di | I29: Wo | J29: Do | K29: Vr | L29: Totaal | M29: wtf verlof | S29: Ma | T29: Di | U29: Wo | V29: Do | W29: Vr | X29: Totaal | AB29: =L30/COUNT(G30:K30) -> #DIV/0!
L30: =SUM(G30:K30) -> 0 | M30: =IF($L30="","",(L30/40)) -> 0 | S30: =+G30 -> 0 | T30: =+H30 -> 0 | U30: =+I30 -> 0 | V30: =+J30 -> 0 | W30: =+K30 -> 0 | X30: =SUM(S30:W30) -> 0
I32: Beoogde einddatum obv openstaande uren | M32: : | N32: =IFERROR(IF(N33=" ",T33,X37),"")
C33: Datum ingang verlof | F33: : | I33: Einddatum verlof | M33: : | R33: Datum velden | S33: =G33+S35 -> #VALUE! | T33: =IF(G33+T35>=Y8,Y8,G33+T35)-(IF(G39<8,1,0)) -> #VALUE! | U33: =IF(G37>G35,L30/I20,0) -> 0 | V33: =S33-U33 -> #VALUE!
C35: Recht op uren verlof | F35: : | G35: =IF($Y$14>=1,0,+V12-G24) -> 0 | H35: Eerder opgenomen uren (indien ingevuld) worden hierop in mindering gebracht | R35: dagen | S35: =(AD35*7) -> #VALUE! | T35: =((AD35+(S37))*7) -> #VALUE! | U35: =U37*7 -> #DIV/0! | V35: =IF(G33+U35>=Y8,Y8,G33+U35) -> #DIV/0! | W35: =IF(ROUND($M$30/$G$18*100,2)>100,ROUND(100*calc!$F$734/(calc!$F$734+calc!$G$734),2),ROUND($M$30/$G$18*100*calc!$F$734/(calc!$F$734+calc!$G$734),2))*25% -> #DIV/0! | Z35: Maximaal werkweken vrij | AC35: : | AD35: =IFERROR(G35/L30,"")
C37: Opgenomen uren verlof | F37: : | G37: =+calc!F734 -> 0 | J37: Aantal maanden verlof | M37: : | N37: =+AD37 | R37: verlof | S37: =(+Calc1!G734/L30) -> #DIV/0! | T37: in weken | U37: =_xlfn.FLOOR.MATH(G35/L30) -> #DIV/0! | V37: =U37+S37 -> #DIV/0! | W37: =V37*7 -> #DIV/0! | X37: =IF(G39<0,IF(G33+W37>Y8,Y8,G33+W37)-1,IF(G33+W37>Y8,Y8,G33+W37)) -> #DIV/0! | Z37: Aantal maanden verlof | AC37: : | AD37: =IF(G33="","",IF(YEAR(N$33)=YEAR(G$33),MONTH(N$33)-MONTH(G$33)+1,((YEAR(N$33)-YEAR(G$33))*12)+(MONTH(N$33)-MONTH(G$33)+1)))
C39: Resterende uren verlof | F39: : | G39: =G35-G37 -> 0 | J39: Kortingspercentage wtf verlof | M39: : | N39: =IFERROR((G37/G35)*(75/AD37)," " ) | R39: werkdagen | S39: =AD35*5*24/40 -> #VALUE! | T39: =S39*8 -> #VALUE!
S40: 1 | T40: 2 | U40: 3 | V40: 4 | W40: 5
C41: Ouderschapsverlof in werkuren | F41: : | G41: Ma | H41: Di | I41: Wo | J41: Do | K41: Vr | L41: Totaal | M41: wtf verlof | S41: Ma | T41: Di | U41: Wo | V41: Do | W41: Vr | X41: Totaal | AB41: Uren per dag
L42: =SUM(G42:K42) -> 0 | M42: =IF($L42="","",(L42/40)) -> 0 | S42: =+G42 -> 0 | T42: =+H42 -> 0 | U42: =+I42 -> 0 | V42: =+J42 -> 0 | W42: =+K42 -> 0 | X42: =SUM(S42:W42) -> 0 | AB42: =L42/COUNT(G42:K42) -> #DIV/0!
I44: Beoogde einddatum obv openstaande uren | M44: : | N44: =IFERROR(IF(N45=" ",T45,X49),"")
C45: Datum wijziging verlof | F45: : | I45: Einddatum wijziging verlof | M45: : | R45: Datum velden | S45: =G45+S47 -> #VALUE! | T45: =IF(G45+T47>Y8,Y8,G45+T47)-(IF(G49<8,1,0)) -> #VALUE! | U45: =IF(G49>G47,L42/I20,0) -> 0 | V45: =S45-U45 -> #VALUE!
C47: Recht op uren verlof | F47: : | G47: =IF(N33>=Y8,0,+G39) -> 0 | R47: dagen | S47: =ROUND(AG47*7,0) -> #VALUE! | T47: =ROUND((AG47+(S49))*7,0) -> #VALUE! | U47: =U49*7 -> #DIV/0! | V47: =IF(G45+U47>=Y20,Y20,G45+U47) -> #DIV/0! | W47: =IF(ROUND($M$30/$G$18*100,2)>100,ROUND(100*calc!$F$734/(calc!$F$734+calc!$G$734),2),ROUND($M$30/$G$18*100*calc!$F$734/(calc!$F$734+calc!$G$734),2))*25% -> #DIV/0! | AC47: Maximaal werkweken vrij | AF47: : | AG47: =IFERROR(G47/L42,"")
C49: Opgenomen uren verlof | F49: : | G49: =+calc!Q734 -> 0 | J49: Aantal maanden verlof | M49: : | N49: =+AG49 | R49: verlof | S49: =+Calc1!R734/L42 -> #DIV/0! | T49: in weken | U49: =_xlfn.FLOOR.MATH(G47/L42) -> #DIV/0! | V49: =U49+S49 -> #DIV/0! | W49: =V49*7 -> #DIV/0! | X49: =IF(G51<0,IF(G45+W49>Y8,Y8,G45+W49)-1,IF(G45+W49>Y8,Y8,G45+W49)) -> #DIV/0! | Y49: Opgenomen % | AA49: =IFERROR((G37+G49)/G35,0) -> 0 | AC49: Aantal maanden verlof | AF49: : | AG49: =IF(G45="","",IF(YEAR(N$45)=YEAR(G$45),MONTH(N$45)-MONTH(G$45)+1,((YEAR(N$45)-YEAR(G$45))*12)+(MONTH(N$45)-MONTH(G$45)+1)))
C51: Resterende uren verlof | F51: : | G51: =G47-G49 -> 0 | J51: Kortingspercentage wtf verlof | M51: : | N51: =IFERROR((G49/G47)*(75/AG49)," " ) | R51: werkdagen | S51: =AG47*5*24/40 -> #VALUE! | T51: =S51*8 -> #VALUE! | Y51: Rest % | AA51: =100%-AA49 -> 1
Y52: Uren max 55% | AA52: =ROUND(IF(AA49>0,T12*AA51,T12),0) -> 0
C54: =IF(G24>0,"Betaald ouderschapsverlof 55 %, recht op maximaal"&" "&G62&" "&"uren verlof","Betaald ouderschapsverlof 55 %, recht op maximaal"&" "&G62&" "&"uren verlof") -> Betaald ouderschapsverlof 55 %, recht op maximaal 0 uren verlof | AA54: =AA52-G24 -> 0
S55: 1 | T55: 2 | U55: 3 | V55: 4 | W55: 5
C56: Ouderschapsverlof in werkuren | F56: : | G56: Ma | H56: Di | I56: Wo | J56: Do | K56: Vr | L56: Totaal | M56: wtf verlof | S56: Ma | T56: Di | U56: Wo | V56: Do | W56: Vr | X56: Totaal | AB56: Uren per dag
L57: =SUM(G57:K57) -> 0 | M57: =IF($L57="","",(L57/40)) -> 0 | S57: =+G57 -> 0 | T57: =+H57 -> 0 | U57: =+I57 -> 0 | V57: =+J57 -> 0 | W57: =+K57 -> 0 | X57: =SUM(S57:W57) -> 0 | AB57: =L57/COUNT(G57:K57) -> #DIV/0!
I59: Beoogde einddatum obv openstaande uren | M59: : | N59: =IFERROR(IF(N60=" ",T60,X64),"")
C60: Datum ingang verlof | F60: : | I60: Einddatum of wijziging verlof | M60: : | R60: Datum velden | S60: =G60+S62 -> #VALUE! | T60: =IF(G60+T62>=Y10,Y10,G60+T62)-(IF(G66<8,1,0)) -> #VALUE! | U60: =IF(G64>G62,L57/I20,0) -> 0 | V60: =S60-U60 -> #VALUE!
C62: Recht op uren verlof | F62: : | G62: =IF(G20<G18,IFERROR(+AA52,0)-G24,V12-G24-G37-G49) -> 0 | H62: Eerder opgenomen uren (indien ingevuld) worden hierop in mindering gebracht | R62: dagen | S62: =ROUND(AG62*7,0) -> #VALUE! | T62: =ROUND((AG62+(S64))*7,0) -> #VALUE! | U62: =U64*7 -> #DIV/0! | V62: =IF(G60+U62>=Y10,Y10,G60+U62) -> #DIV/0! | W62: =IF(ROUND($M$57/$G$18*100,2)>100,ROUND(100*calc!$Y$734/(calc!$Y$734+calc!$Z$734),2),ROUND($M$57/$G$18*100*calc!$Y$734/(calc!$Y$734+calc!$Z$734),2))*45% -> #DIV/0! | AC62: Maximaal werkweken vrij | AF62: : | AG62: =IFERROR(G62/L57,"")
C64: Opgenomen uren verlof | F64: : | G64: =+calc!Y734 -> 0 | J64: Aantal maanden verlof | M64: : | N64: =+AG64 | R64: verlof | S64: =+Calc1!Z734/L57 -> #DIV/0! | T64: in weken | U64: =_xlfn.FLOOR.MATH(G62/L57) -> #DIV/0! | V64: =U64+S64 -> #DIV/0! | W64: =V64*7 -> #DIV/0! | X64: =IF(G66<0,IF(G60+W64>Y10,Y10,G60+W64)-1,IF(G60+W64>Y10,Y10,G60+W64)) -> #DIV/0! | AC64: Aantal maanden verlof | AF64: : | AG64: =IF(G60="","",IF(YEAR(N$60)=YEAR(G$60),MONTH(N$60)-MONTH(G$60)+1,((YEAR(N$60)-YEAR(G$60))*12)+(MONTH(N$60)-MONTH(G$60)+1)))
C66: Resterende uren verlof | F66: : | G66: =G62-G64 -> 0 | J66: Kortingspercentage wtf verlof | M66: : | N66: =IFERROR((G64/(415*G18))*(135/AG64)," " ) | R66: werkdagen
S67: 1 | T67: 2 | U67: 3 | V67: 4 | W67: 5
...

Sheet Kalender
B1: Opname ouderschapsverlof
B2: Regio: | E2: =+Ouderschapsverlof!G22 -> Noord
B4: 2025 | L4: =+B4+1 -> 2026 | V4: =+L4+1 -> 2027
B5: ="Vanaf 1 januari"&" "&B4&""&" t/m 31 december"&" "&B4 -> Vanaf 1 januari 2025 t/m 31 december 2025 | L5: ="Vanaf 1 januari"&" "&L4&""&" t/m 31 december"&" "&L4 -> Vanaf 1 januari 2026 t/m 31 december 2026 | V5: ="Vanaf 1 januari"&" "&V4&""&" t/m 31 december"&" "&V4 -> Vanaf 1 januari 2027 t/m 31 december 2027
B8: 1 | C8: 44564 | D8: =C9-3 -> -3 | E8: =IF(AND($E$2="Noord",ISNA(VLOOKUP($B$4&$B8&E$10,Data!$A:$H,6,FALSE)=TRUE)),"",IF(AND($E$2="Midden",ISNA(VLOOKUP($B$4&$B8&E$10,Data!$A:$H,7,FALSE)=TRUE)),"",IF(AND($E$2="Zuid",ISNA(VLOOKUP($B$4&$B8&E$10,Data!$A:$H,8,FALSE)=TRUE)),"",IF(AND($E$2="Noord",VLOOKUP($B$4&$B8&E$10,Data!$A:$H,6,FALSE)="Vakantie"),"x",IF(AND($E$2="Midden",VLOOKUP($B$4&$B8&E$10,Data!$A:$H,7,FALSE)="Vakantie"),"x",IF(AND($E$2="Zuid",VLOOKUP($B$4&$B8&E$10,Data!$A:$H,8,FALSE)="Vakantie"),"x","")))))) -> x | F8: =IF(AND($E$2="Noord",ISNA(VLOOKUP($B$4&$B8&F$10,Data!$A:$H,6,FALSE)=TRUE)),"",IF(AND($E$2="Midden",ISNA(VLOOKUP($B$4&$B8&F$10,Data!$A:$H,7,FALSE)=TRUE)),"",IF(AND($E$2="Zuid",ISNA(VLOOKUP($B$4&$B8&F$10,Data!$A:$H,8,FALSE)=TRUE)),"",IF(AND($E$2="Noord",VLOOKUP($B$4&$B8&F$10,Data!$A:$H,6,FALSE)="Vakantie"),"x",IF(AND($E$2="Midden",VLOOKUP($B$4&$B8&F$10,Data!$A:$H,7,FALSE)="Vakantie"),"x",IF(AND($E$2="Zuid",VLOOKUP($B$4&$B8&F$10,Data!$A:$H,8,FALSE)="Vakantie"),"x","")))))) -> x | G8: =IF(AND($E$2="Noord",ISNA(VLOOKUP($B$4&$B8&G$10,Data!$A:$H,6,FALSE)=TRUE)),"",IF(AND($E$2="Midden",ISNA(VLOOKUP($B$4&$B8&G$10,Data!$A:$H,7,FALSE)=TRUE)),"",IF(AND($E$2="Zuid",ISNA(VLOOKUP($B$4&$B8&G$10,Data!$A:$H,8,FALSE)=TRUE)),"",IF(AND($E$2="Noord",VLOOKUP($B$4&$B8&G$10,Data!$A:$H,6,FALSE)="Vakantie"),"x",IF(AND($E$2="Midden",VLOOKUP($B$4&$B8&G$10,Data!$A:$H,7,FALSE)="Vakantie"),"x",IF(AND($E$2="Zuid",VLOOKUP($B$4&$B8&G$10,Data!$A:$H,8,FALSE)="Vakantie"),"x","")))))) -> x | H8: =IF(AND($E$2="Noord",ISNA(VLOOKUP($B$4&$B8&H$10,Data!$A:$H,6,FALSE)=TRUE)),"",IF(AND($E$2="Midden",ISNA(VLOOKUP($B$4&$B8&H$10,Data!$A:$H,7,FALSE)=TRUE)),"",IF(AND($E$2="Zuid",ISNA(VLOOKUP($B$4&$B8&H$10,Data!$A:$H,8,FALSE)=TRUE)),"",IF(AND($E$2="Noord",VLOOKUP($B$4&$B8&H$10,Data!$A:$H,6,FALSE)="Vakantie"),"x",IF(AND($E$2="Midden",VLOOKUP($B$4&$B8&H$10,Data!$A:$H,7,FALSE)="Vakantie"),"x",IF(AND($E$2="Zuid",VLOOKUP($B$4&$B8&H$10,Data!$A:$H,8,FALSE)="Vakantie"),"x","")))))) -> x | I8: =IF(AND($E$2="Noord",ISNA(VLOOKUP($B$4&$B8&I$10,Data!$A:$H,6,FALSE)=TRUE)),"",IF(AND($E$2="Midden",ISNA(VLOOKUP($B$4&$B8&I$10,Data!$A:$H,7,FALSE)=TRUE)),"",IF(AND($E$2="Zuid",ISNA(VLOOKUP($B$4&$B8&I$10,Data!$A:$H,8,FALSE)=TRUE)),"",IF(AND($E$2="Noord",VLOOKUP($B$4&$B8&I$10,Data!$A:$H,6,FALSE)="Vakantie"),"x",IF(AND($E$2="Midden",VLOOKUP($B$4&$B8&I$10,Data!$A:$H,7,FALSE)="Vakantie"),"x",IF(AND($E$2="Zuid",VLOOKUP($B$4&$B8&I$10,Data!$A:$H,8,FALSE)="Vakantie"),"x","")))))) -> x | J8: =SUM(E8:I8) -> 0 | L8: 1 | M8: =VLOOKUP(L8,Data!$B:$C,2,FALSE) -> 44564 | N8: =M9-3 -> -3 | O8: =IF(AND($E$2="Noord",ISNA(VLOOKUP($B$4&$B8&O$10,Data!$A:$H,6,FALSE)=TRUE)),"",IF(AND($E$2="Midden",ISNA(VLOOKUP($B$4&$B8&O$10,Data!$A:$H,7,FALSE)=TRUE)),"",IF(AND($E$2="Zuid",ISNA(VLOOKUP($B$4&$B8&O$10,Data!$A:$H,8,FALSE)=TRUE)),"",IF(AND($E$2="Noord",VLOOKUP($B$4&$B8&O$10,Data!$A:$H,6,FALSE)="Vakantie"),"x",IF(AND($E$2="Midden",VLOOKUP($B$4&$B8&O$10,Data!$A:$H,7,FALSE)="Vakantie"),"x",IF(AND($E$2="Zuid",VLOOKUP($B$4&$B8&O$10,Data!$A:$H,8,FALSE)="Vakantie"),"x","")))))) -> x | P8: =IF(AND($E$2="Noord",ISNA(VLOOKUP($B$4&$B8&P$10,Data!$A:$H,6,FALSE)=TRUE)),"",IF(AND($E$2="Midden",ISNA(VLOOKUP($B$4&$B8&P$10,Data!$A:$H,7,FALSE)=TRUE)),"",IF(AND($E$2="Zuid",ISNA(VLOOKUP($B$4&$B8&P$10,Data!$A:$H,8,FALSE)=TRUE)),"",IF(AND($E$2="Noord",VLOOKUP($B$4&$B8&P$10,Data!$A:$H,6,FALSE)="Vakantie"),"x",IF(AND($E$2="Midden",VLOOKUP($B$4&$B8&P$10,Data!$A:$H,7,FALSE)="Vakantie"),"x",IF(AND($E$2="Zuid",VLOOKUP($B$4&$B8&P$10,Data!$A:$H,8,FALSE)="Vakantie"),"x","")))))) -> x | Q8: =IF(AND($E$2="Noord",ISNA(VLOOKUP($B$4&$B8&Q$10,Data!$A:$H,6,FALSE)=TRUE)),"",IF(AND($E$2="Midden",ISNA(VLOOKUP($B$4&$B8&Q$10,Data!$A:$H,7,FALSE)=TRUE)),"",IF(AND($E$2="Zuid",ISNA(VLOOKUP($B$4&$B8&Q$10,Data!$A:$H,8,FALSE)=TRUE)),"",IF(AND($E$2="Noord",VLOOKUP($B$4&$B8&Q$10,Data!$A:$H,6,FALSE)="Vakantie"),"x",IF(AND($E$2="Midden",VLOOKUP($B$4&$B8&Q$10,Data!$A:$H,7,FALSE)="Vakantie"),"x",IF(AND($E$2="Zuid",VLOOKUP($B$4&$B8&Q$10,Data!$A:$H,8,FALSE)="Vakantie"),"x","")))))) -> x | R8: =IF(AND($E$2="Noord",ISNA(VLOOKUP($B$4&$B8&R$10,Data!$A:$H,6,FALSE)=TRUE)),"",IF(AND($E$2="Midden",ISNA(VLOOKUP($B$4&$B8&R$10,Data!$A:$H,7,FALSE)=TRUE)),"",IF(AND($E$2="Zuid",ISNA(VLOOKUP($B$4&$B8&R$10,Data!$A:$H,8,FALSE)=TRUE)),"",IF(AND($E$2="Noord",VLOOKUP($B$4&$B8&R$10,Data!$A:$H,6,FALSE)="Vakantie"),"x",IF(AND($E$2="Midden",VLOOKUP($B$4&$B8&R$10,Data!$A:$H,7,FALSE)="Vakantie"),"x",IF(AND($E$2="Zuid",VLOOKUP($B$4&$B8&R$10,Data!$A:$H,8,FALSE)="Vakantie"),"x","")))))) -> x | S8: =IF(AND($E$2="Noord",ISNA(VLOOKUP($B$4&$B8&S$10,Data!$A:$H,6,FALSE)=TRUE)),"",IF(AND($E$2="Midden",ISNA(VLOOKUP($B$4&$B8&S$10,Data!$A:$H,7,FALSE)=TRUE)),"",IF(AND($E$2="Zuid",ISNA(VLOOKUP($B$4&$B8&S$10,Data!$A:$H,8,FALSE)=TRUE)),"",IF(AND($E$2="Noord",VLOOKUP($B$4&$B8&S$10,Data!$A:$H,6,FALSE)="Vakantie"),"x",IF(AND($E$2="Midden",VLOOKUP($B$4&$B8&S$10,Data!$A:$H,7,FALSE)="Vakantie"),"x",IF(AND($E$2="Zuid",VLOOKUP($B$4&$B8&S$10,Data!$A:$H,8,FALSE)="Vakantie"),"x","")))))) -> x | T8: =SUM(O8:S8) -> 0 | V8: 1 | W8: =VLOOKUP(V8,Data!$B:$C,2,FALSE) -> 44564 | X8: =W9-3 -> -3 | Y8: =IF(AND($E$2="Noord",ISNA(VLOOKUP($B$4&$B8&Y$10,Data!$A:$H,6,FALSE)=TRUE)),"",IF(AND($E$2="Midden",ISNA(VLOOKUP($B$4&$B8&Y$10,Data!$A:$H,7,FALSE)=TRUE)),"",IF(AND($E$2="Zuid",ISNA(VLOOKUP($B$4&$B8&Y$10,Data!$A:$H,8,FALSE)=TRUE)),"",IF(AND($E$2="Noord",VLOOKUP($B$4&$B8&Y$10,Data!$A:$H,6,FALSE)="Vakantie"),"x",IF(AND($E$2="Midden",VLOOKUP($B$4&$B8&Y$10,Data!$A:$H,7,FALSE)="Vakantie"),"x",IF(AND($E$2="Zuid",VLOOKUP($B$4&$B8&Y$10,Data!$A:$H,8,FALSE)="Vakantie"),"x","")))))) -> x | Z8: =IF(AND($E$2="Noord",ISNA(VLOOKUP($B$4&$B8&Z$10,Data!$A:$H,6,FALSE)=TRUE)),"",IF(AND($E$2="Midden",ISNA(VLOOKUP($B$4&$B8&Z$10,Data!$A:$H,7,FALSE)=TRUE)),"",IF(AND($E$2="Zuid",ISNA(VLOOKUP($B$4&$B8&Z$10,Data!$A:$H,8,FALSE)=TRUE)),"",IF(AND($E$2="Noord",VLOOKUP($B$4&$B8&Z$10,Data!$A:$H,6,FALSE)="Vakantie"),"x",IF(AND($E$2="Midden",VLOOKUP($B$4&$B8&Z$10,Data!$A:$H,7,FALSE)="Vakantie"),"x",IF(AND($E$2="Zuid",VLOOKUP($B$4&$B8&Z$10,Data!$A:$H,8,FALSE)="Vakantie"),"x","")))))) -> x | AA8: =IF(AND($E$2="Noord",ISNA(VLOOKUP($B$4&$B8&AA$10,Data!$A:$H,6,FALSE)=TRUE)),"",IF(AND($E$2="Midden",ISNA(VLOOKUP($B$4&$B8&AA$10,Data!$A:$H,7,FALSE)=TRUE)),"",IF(AND($E$2="Zuid",ISNA(VLOOKUP($B$4&$B8&AA$10,Data!$A:$H,8,FALSE)=TRUE)),"",IF(AND($E$2="Noord",VLOOKUP($B$4&$B8&AA$10,Data!$A:$H,6,FALSE)="Vakantie"),"x",IF(AND($E$2="Midden",VLOOKUP($B$4&$B8&AA$10,Data!$A:$H,7,FALSE)="Vakantie"),"x",IF(AND($E$2="Zuid",VLOOKUP($B$4&$B8&AA$10,Data!$A:$H,8,FALSE)="Vakantie"),"x","")))))) -> x | AB8: =IF(AND($E$2="Noord",ISNA(VLOOKUP($B$4&$B8&AB$10,Data!$A:$H,6,FALSE)=TRUE)),"",IF(AND($E$2="Midden",ISNA(VLOOKUP($B$4&$B8&AB$10,Data!$A:$H,7,FALSE)=TRUE)),"",IF(AND($E$2="Zuid",ISNA(VLOOKUP($B$4&$B8&AB$10,Data!$A:$H,8,FALSE)=TRUE)),"",IF(AND($E$2="Noord",VLOOKUP($B$4&$B8&AB$10,Data!$A:$H,6,FALSE)="Vakantie"),"x",IF(AND($E$2="Midden",VLOOKUP($B$4&$B8&AB$10,Data!$A:$H,7,FALSE)="Vakantie"),"x",IF(AND($E$2="Zuid",VLOOKUP($B$4&$B8&AB$10,Data!$A:$H,8,FALSE)="Vakantie"),"x","")))))) -> x | AC8: =IF(AND($E$2="Noord",ISNA(VLOOKUP($B$4&$B8&AC$10,Data!$A:$H,6,FALSE)=TRUE)),"",IF(AND($E$2="Midden",ISNA(VLOOKUP($B$4&$B8&AC$10,Data!$A:$H,7,FALSE)=TRUE)),"",IF(AND($E$2="Zuid",ISNA(VLOOKUP($B$4&$B8&AC$10,Data!$A:$H,8,FALSE)=TRUE)),"",IF(AND($E$2="Noord",VLOOKUP($B$4&$B8&AC$10,Data!$A:$H,6,FALSE)="Vakantie"),"x",IF(AND($E$2="Midden",VLOOKUP($B$4&$B8&AC$10,Data!$A:$H,7,FALSE)="Vakantie"),"x",IF(AND($E$2="Zuid",VLOOKUP($B$4&$B8&AC$10,Data!$A:$H,8,FALSE)="Vakantie"),"x","")))))) -> x | AD8: =SUM(Y8:AC8) -> 0
J9: Uren | T9: Uren | AD9: Uren | AJ9: 2022 | AN9: =+AJ9+1 -> 2023 | AR9: =+AJ9+2 -> 2024
B10: Wknr | C10: van | D10: t/m | E10: ma | F10: di | G10: wo | H10: do | I10: vr | J10: OSV | L10: Wknr | M10: van | N10: t/m | O10: ma | P10: di | Q10: wo | R10: do | S10: vr | T10: OSV | V10: Wknr | W10: van | X10: t/m | Y10: ma | Z10: di | AA10: wo | AB10: do | AC10: vr | AD10: OSV | AJ10: Begin | AK10: 1 | AL10: Eind | AN10: Begin | AO10: =+AK63 -> 1 | AP10: Eind | AR10: Begin | AS10: =+AO63 -> 1 | AT10: Eind
B11: 1 | C11: 45656 | D11: =C12-3 -> 45660 | E11: =IF(AND($E$2="Noord",ISNA(VLOOKUP($B$4&$B11&E$10,Data!$A:$H,6,FALSE)=TRUE)),"",IF(AND($E$2="Midden",ISNA(VLOOKUP($B$4&$B11&E$10,Data!$A:$H,7,FALSE)=TRUE)),"",IF(AND($E$2="Zuid",ISNA(VLOOKUP($B$4&$B11&E$10,Data!$A:$H,8,FALSE)=TRUE)),"",IF(AND($E$2="Noord",VLOOKUP($B$4&$B11&E$10,Data!$A:$H,6,FALSE)="Vakantie"),"x",IF(AND($E$2="Midden",VLOOKUP($B$4&$B11&E$10,Data!$A:$H,7,FALSE)="Vakantie"),"x",IF(AND($E$2="Zuid",VLOOKUP($B$4&$B11&E$10,Data!$A:$H,8,FALSE)="Vakantie"),"x","")))))) -> x | F11: =IF(AND($E$2="Noord",ISNA(VLOOKUP($B$4&$B11&F$10,Data!$A:$H,6,FALSE)=TRUE)),"",IF(AND($E$2="Midden",ISNA(VLOOKUP($B$4&$B11&F$10,Data!$A:$H,7,FALSE)=TRUE)),"",IF(AND($E$2="Zuid",ISNA(VLOOKUP($B$4&$B11&F$10,Data!$A:$H,8,FALSE)=TRUE)),"",IF(AND($E$2="Noord",VLOOKUP($B$4&$B11&F$10,Data!$A:$H,6,FALSE)="Vakantie"),"x",IF(AND($E$2="Midden",VLOOKUP($B$4&$B11&F$10,Data!$A:$H,7,FALSE)="Vakantie"),"x",IF(AND($E$2="Zuid",VLOOKUP($B$4&$B11&F$10,Data!$A:$H,8,FALSE)="Vakantie"),"x","")))))) -> x | G11: =IF(AND($E$2="Noord",ISNA(VLOOKUP($B$4&$B11&G$10,Data!$A:$H,6,FALSE)=TRUE)),"",IF(AND($E$2="Midden",ISNA(VLOOKUP($B$4&$B11&G$10,Data!$A:$H,7,FALSE)=TRUE)),"",IF(AND($E$2="Zuid",ISNA(VLOOKUP($B$4&$B11&G$10,Data!$A:$H,8,FALSE)=TRUE)),"",IF(AND($E$2="Noord",VLOOKUP($B$4&$B11&G$10,Data!$A:$H,6,FALSE)="Vakantie"),"x",IF(AND($E$2="Midden",VLOOKUP($B$4&$B11&G$10,Data!$A:$H,7,FALSE)="Vakantie"),"x",IF(AND($E$2="Zuid",VLOOKUP($B$4&$B11&G$10,Data!$A:$H,8,FALSE)="Vakantie"),"x","")))))) -> x | H11: =IF(AND($E$2="Noord",ISNA(VLOOKUP($B$4&$B11&H$10,Data!$A:$H,6,FALSE)=TRUE)),"",IF(AND($E$2="Midden",ISNA(VLOOKUP($B$4&$B11&H$10,Data!$A:$H,7,FALSE)=TRUE)),"",IF(AND($E$2="Zuid",ISNA(VLOOKUP($B$4&$B11&H$10,Data!$A:$H,8,FALSE)=TRUE)),"",IF(AND($E$2="Noord",VLOOKUP($B$4&$B11&H$10,Data!$A:$H,6,FALSE)="Vakantie"),"x",IF(AND($E$2="Midden",VLOOKUP($B$4&$B11&H$10,Data!$A:$H,7,FALSE)="Vakantie"),"x",IF(AND($E$2="Zuid",VLOOKUP($B$4&$B11&H$10,Data!$A:$H,8,FALSE)="Vakantie"),"x","")))))) -> x | I11: =IF(AND($E$2="Noord",ISNA(VLOOKUP($B$4&$B11&I$10,Data!$A:$H,6,FALSE)=TRUE)),"",IF(AND($E$2="Midden",ISNA(VLOOKUP($B$4&$B11&I$10,Data!$A:$H,7,FALSE)=TRUE)),"",IF(AND($E$2="Zuid",ISNA(VLOOKUP($B$4&$B11&I$10,Data!$A:$H,8,FALSE)=TRUE)),"",IF(AND($E$2="Noord",VLOOKUP($B$4&$B11&I$10,Data!$A:$H,6,FALSE)="Vakantie"),"x",IF(AND($E$2="Midden",VLOOKUP($B$4&$B11&I$10,Data!$A:$H,7,FALSE)="Vakantie"),"x",IF(AND($E$2="Zuid",VLOOKUP($B$4&$B11&I$10,Data!$A:$H,8,FALSE)="Vakantie"),"x","")))))) -> x | J11: =SUM(E11:I11) -> 0 | L11: 1 | M11: =+C62+7 -> 46020 | N11: =+M12-3 -> 46024 | O11: =IF($E$2="Keuze"," ",IF(AND($E$2="Noord",ISNA(VLOOKUP($L$4&$L11&O$10,Data!$A:$H,6,FALSE)=TRUE)),"",IF(AND($E$2="Midden",ISNA(VLOOKUP($L$4&$L11&O$10,Data!$A:$H,7,FALSE)=TRUE)),"",IF(AND($E$2="Zuid",ISNA(VLOOKUP($L$4&$L11&O$10,Data!$A:$H,8,FALSE)=TRUE)),"",IF(AND($E$2="Noord",VLOOKUP($L$4&$L11&O$10,Data!$A:$H,6,FALSE)="Vakantie"),"x",IF(AND($E$2="Midden",VLOOKUP($L$4&$L11&O$10,Data!$A:$H,7,FALSE)="Vakantie"),"x",IF(AND($E$2="Zuid",VLOOKUP($L$4&$L11&O$10,Data!$A:$H,8,FALSE)="Vakantie"),"x",""))))))) -> x | P11: =IF(AND($E$2="Noord",ISNA(VLOOKUP($L$4&$L11&P$10,Data!$A:$H,6,FALSE)=TRUE)),"",IF(AND($E$2="Midden",ISNA(VLOOKUP($L$4&$L11&P$10,Data!$A:$H,7,FALSE)=TRUE)),"",IF(AND($E$2="Zuid",ISNA(VLOOKUP($L$4&$L11&P$10,Data!$A:$H,8,FALSE)=TRUE)),"",IF(AND($E$2="Noord",VLOOKUP($L$4&$L11&P$10,Data!$A:$H,6,FALSE)="Vakantie"),"x",IF(AND($E$2="Midden",VLOOKUP($L$4&$L11&P$10,Data!$A:$H,7,FALSE)="Vakantie"),"x",IF(AND($E$2="Zuid",VLOOKUP($L$4&$L11&P$10,Data!$A:$H,8,FALSE)="Vakantie"),"x","")))))) -> x | Q11: =IF(AND($E$2="Noord",ISNA(VLOOKUP($L$4&$L11&Q$10,Data!$A:$H,6,FALSE)=TRUE)),"",IF(AND($E$2="Midden",ISNA(VLOOKUP($L$4&$L11&Q$10,Data!$A:$H,7,FALSE)=TRUE)),"",IF(AND($E$2="Zuid",ISNA(VLOOKUP($L$4&$L11&Q$10,Data!$A:$H,8,FALSE)=TRUE)),"",IF(AND($E$2="Noord",VLOOKUP($L$4&$L11&Q$10,Data!$A:$H,6,FALSE)="Vakantie"),"x",IF(AND($E$2="Midden",VLOOKUP($L$4&$L11&Q$10,Data!$A:$H,7,FALSE)="Vakantie"),"x",IF(AND($E$2="Zuid",VLOOKUP($L$4&$L11&Q$10,Data!$A:$H,8,FALSE)="Vakantie"),"x","")))))) -> x | R11: =IF(AND($E$2="Noord",ISNA(VLOOKUP($L$4&$L11&R$10,Data!$A:$H,6,FALSE)=TRUE)),"",IF(AND($E$2="Midden",ISNA(VLOOKUP($L$4&$L11&R$10,Data!$A:$H,7,FALSE)=TRUE)),"",IF(AND($E$2="Zuid",ISNA(VLOOKUP($L$4&$L11&R$10,Data!$A:$H,8,FALSE)=TRUE)),"",IF(AND($E$2="Noord",VLOOKUP($L$4&$L11&R$10,Data!$A:$H,6,FALSE)="Vakantie"),"x",IF(AND($E$2="Midden",VLOOKUP($L$4&$L11&R$10,Data!$A:$H,7,FALSE)="Vakantie"),"x",IF(AND($E$2="Zuid",VLOOKUP($L$4&$L11&R$10,Data!$A:$H,8,FALSE)="Vakantie"),"x","")))))) -> x | S11: =IF(AND($E$2="Noord",ISNA(VLOOKUP($L$4&$L11&S$10,Data!$A:$H,6,FALSE)=TRUE)),"",IF(AND($E$2="Midden",ISNA(VLOOKUP($L$4&$L11&S$10,Data!$A:$H,7,FALSE)=TRUE)),"",IF(AND($E$2="Zuid",ISNA(VLOOKUP($L$4&$L11&S$10,Data!$A:$H,8,FALSE)=TRUE)),"",IF(AND($E$2="Noord",VLOOKUP($L$4&$L11&S$10,Data!$A:$H,6,FALSE)="Vakantie"),"x",IF(AND($E$2="Midden",VLOOKUP($L$4&$L11&S$10,Data!$A:$H,7,FALSE)="Vakantie"),"x",IF(AND($E$2="Zuid",VLOOKUP($L$4&$L11&S$10,Data!$A:$H,8,FALSE)="Vakantie"),"x","")))))) -> x | T11: =SUM(O11:S11) -> 0 | V11: 1 | W11: 46391 | X11: =W12-3 -> 46395 | Y11: =IF(AND($E$2="Noord",ISNA(VLOOKUP($V$4&$V11&Y$10,Data!$A:$H,6,FALSE)=TRUE)),"",IF(AND($E$2="Midden",ISNA(VLOOKUP($V$4&$V11&Y$10,Data!$A:$H,7,FALSE)=TRUE)),"",IF(AND($E$2="Zuid",ISNA(VLOOKUP($V$4&$V11&Y$10,Data!$A:$H,8,FALSE)=TRUE)),"",IF(AND($E$2="Noord",VLOOKUP($V$4&$V11&Y$10,Data!$A:$H,6,FALSE)="Vakantie"),"x",IF(AND($E$2="Midden",VLOOKUP($V$4&$V11&Y$10,Data!$A:$H,7,FALSE)="Vakantie"),"x",IF(AND($E$2="Zuid",VLOOKUP($V$4&$V11&Y$10,Data!$A:$H,8,FALSE)="Vakantie"),"x","")))))) | Z11: =IF(AND($E$2="Noord",ISNA(VLOOKUP($V$4&$V11&Z$10,Data!$A:$H,6,FALSE)=TRUE)),"",IF(AND($E$2="Midden",ISNA(VLOOKUP($V$4&$V11&Z$10,Data!$A:$H,7,FALSE)=TRUE)),"",IF(AND($E$2="Zuid",ISNA(VLOOKUP($V$4&$V11&Z$10,Data!$A:$H,8,FALSE)=TRUE)),"",IF(AND($E$2="Noord",VLOOKUP($V$4&$V11&Z$10,Data!$A:$H,6,FALSE)="Vakantie"),"x",IF(AND($E$2="Midden",VLOOKUP($V$4&$V11&Z$10,Data!$A:$H,7,FALSE)="Vakantie"),"x",IF(AND($E$2="Zuid",VLOOKUP($V$4&$V11&Z$10,Data!$A:$H,8,FALSE)="Vakantie"),"x","")))))) | AA11: =IF(AND($E$2="Noord",ISNA(VLOOKUP($V$4&$V11&AA$10,Data!$A:$H,6,FALSE)=TRUE)),"",IF(AND($E$2="Midden",ISNA(VLOOKUP($V$4&$V11&AA$10,Data!$A:$H,7,FALSE)=TRUE)),"",IF(AND($E$2="Zuid",ISNA(VLOOKUP($V$4&$V11&AA$10,Data!$A:$H,8,FALSE)=TRUE)),"",IF(AND($E$2="Noord",VLOOKUP($V$4&$V11&AA$10,Data!$A:$H,6,FALSE)="Vakantie"),"x",IF(AND($E$2="Midden",VLOOKUP($V$4&$V11&AA$10,Data!$A:$H,7,FALSE)="Vakantie"),"x",IF(AND($E$2="Zuid",VLOOKUP($V$4&$V11&AA$10,Data!$A:$H,8,FALSE)="Vakantie"),"x","")))))) | AB11: =IF(AND($E$2="Noord",ISNA(VLOOKUP($V$4&$V11&AB$10,Data!$A:$H,6,FALSE)=TRUE)),"",IF(AND($E$2="Midden",ISNA(VLOOKUP($V$4&$V11&AB$10,Data!$A:$H,7,FALSE)=TRUE)),"",IF(AND($E$2="Zuid",ISNA(VLOOKUP($V$4&$V11&AB$10,Data!$A:$H,8,FALSE)=TRUE)),"",IF(AND($E$2="Noord",VLOOKUP($V$4&$V11&AB$10,Data!$A:$H,6,FALSE)="Vakantie"),"x",IF(AND($E$2="Midden",VLOOKUP($V$4&$V11&AB$10,Data!$A:$H,7,FALSE)="Vakantie"),"x",IF(AND($E$2="Zuid",VLOOKUP($V$4&$V11&AB$10,Data!$A:$H,8,FALSE)="Vakantie"),"x","")))))) | AC11: =IF(AND($E$2="Noord",ISNA(VLOOKUP($V$4&$V11&AC$10,Data!$A:$H,6,FALSE)=TRUE)),"",IF(AND($E$2="Midden",ISNA(VLOOKUP($V$4&$V11&AC$10,Data!$A:$H,7,FALSE)=TRUE)),"",IF(AND($E$2="Zuid",ISNA(VLOOKUP($V$4&$V11&AC$10,Data!$A:$H,8,FALSE)=TRUE)),"",IF(AND($E$2="Noord",VLOOKUP($V$4&$V11&AC$10,Data!$A:$H,6,FALSE)="Vakantie"),"x",IF(AND($E$2="Midden",VLOOKUP($V$4&$V11&AC$10,Data!$A:$H,7,FALSE)="Vakantie"),"x",IF(AND($E$2="Zuid",VLOOKUP($V$4&$V11&AC$10,Data!$A:$H,8,FALSE)="Vakantie"),"x","")))))) | AD11: =SUM(Y11:AC11) -> 0 | AI11: =IF(SUM($E11:$I11)=0,1,2) -> 1 | AJ11: =IF((COUNTIF($AI11:$AI11,2))>1,"",IF(OR(AI11="",AI11=2),"",IF(AI11=1,"",IF(AND($AI11=2,E11<>""),$C11,IF(AND($AI11=2,F11<>""),$C11+1,IF(AND($AI11=2,G11<>""),$C11+2,IF(AND($AI11=2,H11<>""),$C11+3,IF(AND($IP11=2,I11<>""),$C11+4,"")))))))) | AK11: =IF(SUM(E12:$I$62)+$T$68+$AD$68=0,1,2) -> 1 | AL11: =IF(AK10="","",IF(AK10=1,"",IF(AK11<>1,"",IF(AND(AK11=1,I11<>""),C11+4,IF(AND(AK11=1,H11<>""),C11+3,IF(AND(AK11=1,G11<>""),C11+2,IF(AND(AK11=1,F11<>""),C11+1,IF(AND(AK11=1,E11<>""),C11,"")))))))) | AM11: =IF(SUM($O11:$S11)=0,1,2) -> 1 | AN11: =IF((COUNTIF($AI$11:$AI$64,2)+COUNTIF($AM11:$AM12,2))>1,"",IF(OR(AM10="",AM10=2),"",IF(AM11=1,"",IF(AND(AM11=2,O11<>""),M11,IF(AND(AM11=2,P11<>""),M11+1,IF(AND(AM11=2,Q11<>""),M11+2,IF(AND(AM11=2,R11<>""),M11+3,IF(AND(AM11=2,S11<>""),M11+4,"")))))))) | AO11: =IF(SUM(O12:$S$62)+$AD$68=0,1,2) -> 1 | AP11: =IF(AO10="","",IF(AO10=1,"",IF(AO11<>1,"",IF(AND(AO11=1,S11<>""),M11+4,IF(AND(AO11=1,R11<>""),M11+3,IF(AND(AO11=1,Q11<>""),M11+2,IF(AND(AO11=1,P11<>""),M11+1,IF(AND(AO11=1,O11<>""),M11,"")))))))) | AQ11: =IF(SUM($O12:$S$62)=0,1,2) -> 1 | AR11: =IF((COUNTIF($AI$11:$AI$64,2)+COUNTIF($AM$11:$AM$64,2)+COUNTIF(AQ11:$AQ$12,2))>1,"",IF(OR(AQ10="",AQ10=2),"",IF(AQ11=1,"",IF(AND(AQ11=2,Y11<>""),W11,IF(AND(AQ11=2,Z11<>""),W11+1,IF(AND(AQ11=2,AA11<>""),W11+2,IF(AND(AQ11=2,AB11<>""),W11+3,IF(AND(AQ11=2,AC11<>""),W11+4,"")))))))) | AS11: =IF(SUM(Y12:$AC$62)=0,1,2) -> 1 | AT11: =IF(AS10="","",IF(AS10=1,"",IF(AS11<>1,"",IF(AND(AS11=1,AC11<>""),W11+4,IF(AND(AS11=1,AB11<>""),W11+3,IF(AND(AS11=1,AA11<>""),W11+2,IF(AND(AS11=1,Z11<>""),W11+1,IF(AND(AS11=1,Y11<>""),W11,""))))))))
B12: 2 | C12: =C11+7 -> 45663 | D12: =C13-3 -> 45667 | E12: =IF(AND($E$2="Noord",ISNA(VLOOKUP($B$4&$B12&E$10,Data!$A:$H,6,FALSE)=TRUE)),"",IF(AND($E$2="Midden",ISNA(VLOOKUP($B$4&$B12&E$10,Data!$A:$H,7,FALSE)=TRUE)),"",IF(AND($E$2="Zuid",ISNA(VLOOKUP($B$4&$B12&E$10,Data!$A:$H,8,FALSE)=TRUE)),"",IF(AND($E$2="Noord",VLOOKUP($B$4&$B12&E$10,Data!$A:$H,6,FALSE)="Vakantie"),"x",IF(AND($E$2="Midden",VLOOKUP($B$4&$B12&E$10,Data!$A:$H,7,FALSE)="Vakantie"),"x",IF(AND($E$2="Zuid",VLOOKUP($B$4&$B12&E$10,Data!$A:$H,8,FALSE)="Vakantie"),"x","")))))) | F12: =IF(AND($E$2="Noord",ISNA(VLOOKUP($B$4&$B12&F$10,Data!$A:$H,6,FALSE)=TRUE)),"",IF(AND($E$2="Midden",ISNA(VLOOKUP($B$4&$B12&F$10,Data!$A:$H,7,FALSE)=TRUE)),"",IF(AND($E$2="Zuid",ISNA(VLOOKUP($B$4&$B12&F$10,Data!$A:$H,8,FALSE)=TRUE)),"",IF(AND($E$2="Noord",VLOOKUP($B$4&$B12&F$10,Data!$A:$H,6,FALSE)="Vakantie"),"x",IF(AND($E$2="Midden",VLOOKUP($B$4&$B12&F$10,Data!$A:$H,7,FALSE)="Vakantie"),"x",IF(AND($E$2="Zuid",VLOOKUP($B$4&$B12&F$10,Data!$A:$H,8,FALSE)="Vakantie"),"x","")))))) | G12: =IF(AND($E$2="Noord",ISNA(VLOOKUP($B$4&$B12&G$10,Data!$A:$H,6,FALSE)=TRUE)),"",IF(AND($E$2="Midden",ISNA(VLOOKUP($B$4&$B12&G$10,Data!$A:$H,7,FALSE)=TRUE)),"",IF(AND($E$2="Zuid",ISNA(VLOOKUP($B$4&$B12&G$10,Data!$A:$H,8,FALSE)=TRUE)),"",IF(AND($E$2="Noord",VLOOKUP($B$4&$B12&G$10,Data!$A:$H,6,FALSE)="Vakantie"),"x",IF(AND($E$2="Midden",VLOOKUP($B$4&$B12&G$10,Data!$A:$H,7,FALSE)="Vakantie"),"x",IF(AND($E$2="Zuid",VLOOKUP($B$4&$B12&G$10,Data!$A:$H,8,FALSE)="Vakantie"),"x","")))))) | H12: =IF(AND($E$2="Noord",ISNA(VLOOKUP($B$4&$B12&H$10,Data!$A:$H,6,FALSE)=TRUE)),"",IF(AND($E$2="Midden",ISNA(VLOOKUP($B$4&$B12&H$10,Data!$A:$H,7,FALSE)=TRUE)),"",IF(AND($E$2="Zuid",ISNA(VLOOKUP($B$4&$B12&H$10,Data!$A:$H,8,FALSE)=TRUE)),"",IF(AND($E$2="Noord",VLOOKUP($B$4&$B12&H$10,Data!$A:$H,6,FALSE)="Vakantie"),"x",IF(AND($E$2="Midden",VLOOKUP($B$4&$B12&H$10,Data!$A:$H,7,FALSE)="Vakantie"),"x",IF(AND($E$2="Zuid",VLOOKUP($B$4&$B12&H$10,Data!$A:$H,8,FALSE)="Vakantie"),"x","")))))) | I12: =IF(AND($E$2="Noord",ISNA(VLOOKUP($B$4&$B12&I$10,Data!$A:$H,6,FALSE)=TRUE)),"",IF(AND($E$2="Midden",ISNA(VLOOKUP($B$4&$B12&I$10,Data!$A:$H,7,FALSE)=TRUE)),"",IF(AND($E$2="Zuid",ISNA(VLOOKUP($B$4&$B12&I$10,Data!$A:$H,8,FALSE)=TRUE)),"",IF(AND($E$2="Noord",VLOOKUP($B$4&$B12&I$10,Data!$A:$H,6,FALSE)="Vakantie"),"x",IF(AND($E$2="Midden",VLOOKUP($B$4&$B12&I$10,Data!$A:$H,7,FALSE)="Vakantie"),"x",IF(AND($E$2="Zuid",VLOOKUP($B$4&$B12&I$10,Data!$A:$H,8,FALSE)="Vakantie"),"x","")))))) | J12: =SUM(E12:I12) -> 0 | L12: 2 | M12: =M11+7 -> 46027 | N12: =+M13-3 -> 46031 | O12: =IF(AND($E$2="Noord",ISNA(VLOOKUP($L$4&$L12&O$10,Data!$A:$H,6,FALSE)=TRUE)),"",IF(AND($E$2="Midden",ISNA(VLOOKUP($L$4&$L12&O$10,Data!$A:$H,7,FALSE)=TRUE)),"",IF(AND($E$2="Zuid",ISNA(VLOOKUP($L$4&$L12&O$10,Data!$A:$H,8,FALSE)=TRUE)),"",IF(AND($E$2="Noord",VLOOKUP($L$4&$L12&O$10,Data!$A:$H,6,FALSE)="Vakantie"),"x",IF(AND($E$2="Midden",VLOOKUP($L$4&$L12&O$10,Data!$A:$H,7,FALSE)="Vakantie"),"x",IF(AND($E$2="Zuid",VLOOKUP($L$4&$L12&O$10,Data!$A:$H,8,FALSE)="Vakantie"),"x","")))))) | P12: =IF(AND($E$2="Noord",ISNA(VLOOKUP($L$4&$L12&P$10,Data!$A:$H,6,FALSE)=TRUE)),"",IF(AND($E$2="Midden",ISNA(VLOOKUP($L$4&$L12&P$10,Data!$A:$H,7,FALSE)=TRUE)),"",IF(AND($E$2="Zuid",ISNA(VLOOKUP($L$4&$L12&P$10,Data!$A:$H,8,FALSE)=TRUE)),"",IF(AND($E$2="Noord",VLOOKUP($L$4&$L12&P$10,Data!$A:$H,6,FALSE)="Vakantie"),"x",IF(AND($E$2="Midden",VLOOKUP($L$4&$L12&P$10,Data!$A:$H,7,FALSE)="Vakantie"),"x",IF(AND($E$2="Zuid",VLOOKUP($L$4&$L12&P$10,Data!$A:$H,8,FALSE)="Vakantie"),"x","")))))) | Q12: =IF(AND($E$2="Noord",ISNA(VLOOKUP($L$4&$L12&Q$10,Data!$A:$H,6,FALSE)=TRUE)),"",IF(AND($E$2="Midden",ISNA(VLOOKUP($L$4&$L12&Q$10,Data!$A:$H,7,FALSE)=TRUE)),"",IF(AND($E$2="Zuid",ISNA(VLOOKUP($L$4&$L12&Q$10,Data!$A:$H,8,FALSE)=TRUE)),"",IF(AND($E$2="Noord",VLOOKUP($L$4&$L12&Q$10,Data!$A:$H,6,FALSE)="Vakantie"),"x",IF(AND($E$2="Midden",VLOOKUP($L$4&$L12&Q$10,Data!$A:$H,7,FALSE)="Vakantie"),"x",IF(AND($E$2="Zuid",VLOOKUP($L$4&$L12&Q$10,Data!$A:$H,8,FALSE)="Vakantie"),"x","")))))) | R12: =IF(AND($E$2="Noord",ISNA(VLOOKUP($L$4&$L12&R$10,Data!$A:$H,6,FALSE)=TRUE)),"",IF(AND($E$2="Midden",ISNA(VLOOKUP($L$4&$L12&R$10,Data!$A:$H,7,FALSE)=TRUE)),"",IF(AND($E$2="Zuid",ISNA(VLOOKUP($L$4&$L12&R$10,Data!$A:$H,8,FALSE)=TRUE)),"",IF(AND($E$2="Noord",VLOOKUP($L$4&$L12&R$10,Data!$A:$H,6,FALSE)="Vakantie"),"x",IF(AND($E$2="Midden",VLOOKUP($L$4&$L12&R$10,Data!$A:$H,7,FALSE)="Vakantie"),"x",IF(AND($E$2="Zuid",VLOOKUP($L$4&$L12&R$10,Data!$A:$H,8,FALSE)="Vakantie"),"x","")))))) | S12: =IF(AND($E$2="Noord",ISNA(VLOOKUP($L$4&$L12&S$10,Data!$A:$H,6,FALSE)=TRUE)),"",IF(AND($E$2="Midden",ISNA(VLOOKUP($L$4&$L12&S$10,Data!$A:$H,7,FALSE)=TRUE)),"",IF(AND($E$2="Zuid",ISNA(VLOOKUP($L$4&$L12&S$10,Data!$A:$H,8,FALSE)=TRUE)),"",IF(AND($E$2="Noord",VLOOKUP($L$4&$L12&S$10,Data!$A:$H,6,FALSE)="Vakantie"),"x",IF(AND($E$2="Midden",VLOOKUP($L$4&$L12&S$10,Data!$A:$H,7,FALSE)="Vakantie"),"x",IF(AND($E$2="Zuid",VLOOKUP($L$4&$L12&S$10,Data!$A:$H,8,FALSE)="Vakantie"),"x","")))))) | T12: =SUM(O12:S12) -> 0 | V12: 2 | W12: =+W11+7 -> 46398 | X12: =W13-3 -> 46402 | Y12: =IF(AND($E$2="Noord",ISNA(VLOOKUP($V$4&$V12&Y$10,Data!$A:$H,6,FALSE)=TRUE)),"",IF(AND($E$2="Midden",ISNA(VLOOKUP($V$4&$V12&Y$10,Data!$A:$H,7,FALSE)=TRUE)),"",IF(AND($E$2="Zuid",ISNA(VLOOKUP($V$4&$V12&Y$10,Data!$A:$H,8,FALSE)=TRUE)),"",IF(AND($E$2="Noord",VLOOKUP($V$4&$V12&Y$10,Data!$A:$H,6,FALSE)="Vakantie"),"x",IF(AND($E$2="Midden",VLOOKUP($V$4&$V12&Y$10,Data!$A:$H,7,FALSE)="Vakantie"),"x",IF(AND($E$2="Zuid",VLOOKUP($V$4&$V12&Y$10,Data!$A:$H,8,FALSE)="Vakantie"),"x","")))))) | Z12: =IF(AND($E$2="Noord",ISNA(VLOOKUP($V$4&$V12&Z$10,Data!$A:$H,6,FALSE)=TRUE)),"",IF(AND($E$2="Midden",ISNA(VLOOKUP($V$4&$V12&Z$10,Data!$A:$H,7,FALSE)=TRUE)),"",IF(AND($E$2="Zuid",ISNA(VLOOKUP($V$4&$V12&Z$10,Data!$A:$H,8,FALSE)=TRUE)),"",IF(AND($E$2="Noord",VLOOKUP($V$4&$V12&Z$10,Data!$A:$H,6,FALSE)="Vakantie"),"x",IF(AND($E$2="Midden",VLOOKUP($V$4&$V12&Z$10,Data!$A:$H,7,FALSE)="Vakantie"),"x",IF(AND($E$2="Zuid",VLOOKUP($V$4&$V12&Z$10,Data!$A:$H,8,FALSE)="Vakantie"),"x","")))))) | AA12: =IF(AND($E$2="Noord",ISNA(VLOOKUP($V$4&$V12&AA$10,Data!$A:$H,6,FALSE)=TRUE)),"",IF(AND($E$2="Midden",ISNA(VLOOKUP($V$4&$V12&AA$10,Data!$A:$H,7,FALSE)=TRUE)),"",IF(AND($E$2="Zuid",ISNA(VLOOKUP($V$4&$V12&AA$10,Data!$A:$H,8,FALSE)=TRUE)),"",IF(AND($E$2="Noord",VLOOKUP($V$4&$V12&AA$10,Data!$A:$H,6,FALSE)="Vakantie"),"x",IF(AND($E$2="Midden",VLOOKUP($V$4&$V12&AA$10,Data!$A:$H,7,FALSE)="Vakantie"),"x",IF(AND($E$2="Zuid",VLOOKUP($V$4&$V12&AA$10,Data!$A:$H,8,FALSE)="Vakantie"),"x","")))))) | AB12: =IF(AND($E$2="Noord",ISNA(VLOOKUP($V$4&$V12&AB$10,Data!$A:$H,6,FALSE)=TRUE)),"",IF(AND($E$2="Midden",ISNA(VLOOKUP($V$4&$V12&AB$10,Data!$A:$H,7,FALSE)=TRUE)),"",IF(AND($E$2="Zuid",ISNA(VLOOKUP($V$4&$V12&AB$10,Data!$A:$H,8,FALSE)=TRUE)),"",IF(AND($E$2="Noord",VLOOKUP($V$4&$V12&AB$10,Data!$A:$H,6,FALSE)="Vakantie"),"x",IF(AND($E$2="Midden",VLOOKUP($V$4&$V12&AB$10,Data!$A:$H,7,FALSE)="Vakantie"),"x",IF(AND($E$2="Zuid",VLOOKUP($V$4&$V12&AB$10,Data!$A:$H,8,FALSE)="Vakantie"),"x","")))))) | AC12: =IF(AND($E$2="Noord",ISNA(VLOOKUP($V$4&$V12&AC$10,Data!$A:$H,6,FALSE)=TRUE)),"",IF(AND($E$2="Midden",ISNA(VLOOKUP($V$4&$V12&AC$10,Data!$A:$H,7,FALSE)=TRUE)),"",IF(AND($E$2="Zuid",ISNA(VLOOKUP($V$4&$V12&AC$10,Data!$A:$H,8,FALSE)=TRUE)),"",IF(AND($E$2="Noord",VLOOKUP($V$4&$V12&AC$10,Data!$A:$H,6,FALSE)="Vakantie"),"x",IF(AND($E$2="Midden",VLOOKUP($V$4&$V12&AC$10,Data!$A:$H,7,FALSE)="Vakantie"),"x",IF(AND($E$2="Zuid",VLOOKUP($V$4&$V12&AC$10,Data!$A:$H,8,FALSE)="Vakantie"),"x","")))))) | AD12: =SUM(Y12:AC12) -> 0 | AI12: =IF(SUM($E12:$I12)=0,1,2) -> 1 | AJ12: =IF((COUNTIF($AI$11:$AI12,2))>1,"",IF(OR(AI11="",AI11=2),"",IF(AI12=1,"",IF(AND($AI12=2,E12<>""),$C12,IF(AND($AI12=2,F12<>""),$C12+1,IF(AND($AI12=2,G12<>""),$C12+2,IF(AND($AI12=2,H12<>""),$C12+3,IF(AND($AI12=2,I12<>""),$C12+4,"")))))))) | AK12: =IF(SUM(E13:$I$62)+$T$68+$AD$68=0,1,2) -> 1 | AL12: =IF(AK11="","",IF(AK11=1,"",IF(AK12<>1,"",IF(AND(AK12=1,I12<>""),C12+4,IF(AND(AK12=1,H12<>""),C12+3,IF(AND(AK12=1,G12<>""),C12+2,IF(AND(AK12=1,F12<>""),C12+1,IF(AND(AK12=1,E12<>""),C12,"")))))))) | AM12: =IF(SUM($O12:$S12)=0,1,2) -> 1 | AN12: =IF((COUNTIF($AI$11:$AI$64,2)+COUNTIF($AM11:$AM12,2))>1,"",IF(OR(AM11="",AM11=2),"",IF(AM12=1,"",IF(AND(AM12=2,O12<>""),M12,IF(AND(AM12=2,P12<>""),M12+1,IF(AND(AM12=2,Q12<>""),M12+2,IF(AND(AM12=2,R12<>""),M12+3,IF(AND(AM12=2,S12<>""),M12+4,"")))))))) | AO12: =IF(SUM(O13:$S$62)+$AD$68=0,1,2) -> 1 | AP12: =IF(AO11="","",IF(AO11=1,"",IF(AO12<>1,"",IF(AND(AO12=1,S12<>""),M12+4,IF(AND(AO12=1,R12<>""),M12+3,IF(AND(AO12=1,Q12<>""),M12+2,IF(AND(AO12=1,P12<>""),M12+1,IF(AND(AO12=1,O12<>""),M12,"")))))))) | AQ12: =IF(SUM($O13:$S$62)=0,1,2) -> 1 | AR12: =IF((COUNTIF($AI$11:$AI$64,2)+COUNTIF($AM$11:$AM$64,2)+COUNTIF(AQ12:$AQ$12,2))>1,"",IF(OR(AQ11="",AQ11=2),"",IF(AQ12=1,"",IF(AND(AQ12=2,Y12<>""),W12,IF(AND(AQ12=2,Z12<>""),W12+1,IF(AND(AQ12=2,AA12<>""),W12+2,IF(AND(AQ12=2,AB12<>""),W12+3,IF(AND(AQ12=2,AC12<>""),W12+4,"")))))))) | AS12: =IF(SUM(Y13:$AC$62)=0,1,2) -> 1 | AT12: =IF(AS11="","",IF(AS11=1,"",IF(AS12<>1,"",IF(AND(AS12=1,AC12<>""),W12+4,IF(AND(AS12=1,AB12<>""),W12+3,IF(AND(AS12=1,AA12<>""),W12+2,IF(AND(AS12=1,Z12<>""),W12+1,IF(AND(AS12=1,Y12<>""),W12,""))))))))
B13: 3 | C13: =C12+7 -> 45670 | D13: =C14-3 -> 45674 | E13: =IF(AND($E$2="Noord",ISNA(VLOOKUP($B$4&$B13&E$10,Data!$A:$H,6,FALSE)=TRUE)),"",IF(AND($E$2="Midden",ISNA(VLOOKUP($B$4&$B13&E$10,Data!$A:$H,7,FALSE)=TRUE)),"",IF(AND($E$2="Zuid",ISNA(VLOOKUP($B$4&$B13&E$10,Data!$A:$H,8,FALSE)=TRUE)),"",IF(AND($E$2="Noord",VLOOKUP($B$4&$B13&E$10,Data!$A:$H,6,FALSE)="Vakantie"),"x",IF(AND($E$2="Midden",VLOOKUP($B$4&$B13&E$10,Data!$A:$H,7,FALSE)="Vakantie"),"x",IF(AND($E$2="Zuid",VLOOKUP($B$4&$B13&E$10,Data!$A:$H,8,FALSE)="Vakantie"),"x","")))))) | F13: =IF(AND($E$2="Noord",ISNA(VLOOKUP($B$4&$B13&F$10,Data!$A:$H,6,FALSE)=TRUE)),"",IF(AND($E$2="Midden",ISNA(VLOOKUP($B$4&$B13&F$10,Data!$A:$H,7,FALSE)=TRUE)),"",IF(AND($E$2="Zuid",ISNA(VLOOKUP($B$4&$B13&F$10,Data!$A:$H,8,FALSE)=TRUE)),"",IF(AND($E$2="Noord",VLOOKUP($B$4&$B13&F$10,Data!$A:$H,6,FALSE)="Vakantie"),"x",IF(AND($E$2="Midden",VLOOKUP($B$4&$B13&F$10,Data!$A:$H,7,FALSE)="Vakantie"),"x",IF(AND($E$2="Zuid",VLOOKUP($B$4&$B13&F$10,Data!$A:$H,8,FALSE)="Vakantie"),"x","")))))) | G13: =IF(AND($E$2="Noord",ISNA(VLOOKUP($B$4&$B13&G$10,Data!$A:$H,6,FALSE)=TRUE)),"",IF(AND($E$2="Midden",ISNA(VLOOKUP($B$4&$B13&G$10,Data!$A:$H,7,FALSE)=TRUE)),"",IF(AND($E$2="Zuid",ISNA(VLOOKUP($B$4&$B13&G$10,Data!$A:$H,8,FALSE)=TRUE)),"",IF(AND($E$2="Noord",VLOOKUP($B$4&$B13&G$10,Data!$A:$H,6,FALSE)="Vakantie"),"x",IF(AND($E$2="Midden",VLOOKUP($B$4&$B13&G$10,Data!$A:$H,7,FALSE)="Vakantie"),"x",IF(AND($E$2="Zuid",VLOOKUP($B$4&$B13&G$10,Data!$A:$H,8,FALSE)="Vakantie"),"x","")))))) | H13: =IF(AND($E$2="Noord",ISNA(VLOOKUP($B$4&$B13&H$10,Data!$A:$H,6,FALSE)=TRUE)),"",IF(AND($E$2="Midden",ISNA(VLOOKUP($B$4&$B13&H$10,Data!$A:$H,7,FALSE)=TRUE)),"",IF(AND($E$2="Zuid",ISNA(VLOOKUP($B$4&$B13&H$10,Data!$A:$H,8,FALSE)=TRUE)),"",IF(AND($E$2="Noord",VLOOKUP($B$4&$B13&H$10,Data!$A:$H,6,FALSE)="Vakantie"),"x",IF(AND($E$2="Midden",VLOOKUP($B$4&$B13&H$10,Data!$A:$H,7,FALSE)="Vakantie"),"x",IF(AND($E$2="Zuid",VLOOKUP($B$4&$B13&H$10,Data!$A:$H,8,FALSE)="Vakantie"),"x","")))))) | I13: =IF(AND($E$2="Noord",ISNA(VLOOKUP($B$4&$B13&I$10,Data!$A:$H,6,FALSE)=TRUE)),"",IF(AND($E$2="Midden",ISNA(VLOOKUP($B$4&$B13&I$10,Data!$A:$H,7,FALSE)=TRUE)),"",IF(AND($E$2="Zuid",ISNA(VLOOKUP($B$4&$B13&I$10,Data!$A:$H,8,FALSE)=TRUE)),"",IF(AND($E$2="Noord",VLOOKUP($B$4&$B13&I$10,Data!$A:$H,6,FALSE)="Vakantie"),"x",IF(AND($E$2="Midden",VLOOKUP($B$4&$B13&I$10,Data!$A:$H,7,FALSE)="Vakantie"),"x",IF(AND($E$2="Zuid",VLOOKUP($B$4&$B13&I$10,Data!$A:$H,8,FALSE)="Vakantie"),"x","")))))) | J13: =SUM(E13:I13) -> 0 | L13: 3 | M13: =M12+7 -> 46034 | N13: =+M14-3 -> 46038 | O13: =IF(AND($E$2="Noord",ISNA(VLOOKUP($L$4&$L13&O$10,Data!$A:$H,6,FALSE)=TRUE)),"",IF(AND($E$2="Midden",ISNA(VLOOKUP($L$4&$L13&O$10,Data!$A:$H,7,FALSE)=TRUE)),"",IF(AND($E$2="Zuid",ISNA(VLOOKUP($L$4&$L13&O$10,Data!$A:$H,8,FALSE)=TRUE)),"",IF(AND($E$2="Noord",VLOOKUP($L$4&$L13&O$10,Data!$A:$H,6,FALSE)="Vakantie"),"x",IF(AND($E$2="Midden",VLOOKUP($L$4&$L13&O$10,Data!$A:$H,7,FALSE)="Vakantie"),"x",IF(AND($E$2="Zuid",VLOOKUP($L$4&$L13&O$10,Data!$A:$H,8,FALSE)="Vakantie"),"x","")))))) | P13: =IF(AND($E$2="Noord",ISNA(VLOOKUP($L$4&$L13&P$10,Data!$A:$H,6,FALSE)=TRUE)),"",IF(AND($E$2="Midden",ISNA(VLOOKUP($L$4&$L13&P$10,Data!$A:$H,7,FALSE)=TRUE)),"",IF(AND($E$2="Zuid",ISNA(VLOOKUP($L$4&$L13&P$10,Data!$A:$H,8,FALSE)=TRUE)),"",IF(AND($E$2="Noord",VLOOKUP($L$4&$L13&P$10,Data!$A:$H,6,FALSE)="Vakantie"),"x",IF(AND($E$2="Midden",VLOOKUP($L$4&$L13&P$10,Data!$A:$H,7,FALSE)="Vakantie"),"x",IF(AND($E$2="Zuid",VLOOKUP($L$4&$L13&P$10,Data!$A:$H,8,FALSE)="Vakantie"),"x","")))))) | Q13: =IF(AND($E$2="Noord",ISNA(VLOOKUP($L$4&$L13&Q$10,Data!$A:$H,6,FALSE)=TRUE)),"",IF(AND($E$2="Midden",ISNA(VLOOKUP($L$4&$L13&Q$10,Data!$A:$H,7,FALSE)=TRUE)),"",IF(AND($E$2="Zuid",ISNA(VLOOKUP($L$4&$L13&Q$10,Data!$A:$H,8,FALSE)=TRUE)),"",IF(AND($E$2="Noord",VLOOKUP($L$4&$L13&Q$10,Data!$A:$H,6,FALSE)="Vakantie"),"x",IF(AND($E$2="Midden",VLOOKUP($L$4&$L13&Q$10,Data!$A:$H,7,FALSE)="Vakantie"),"x",IF(AND($E$2="Zuid",VLOOKUP($L$4&$L13&Q$10,Data!$A:$H,8,FALSE)="Vakantie"),"x","")))))) | R13: =IF(AND($E$2="Noord",ISNA(VLOOKUP($L$4&$L13&R$10,Data!$A:$H,6,FALSE)=TRUE)),"",IF(AND($E$2="Midden",ISNA(VLOOKUP($L$4&$L13&R$10,Data!$A:$H,7,FALSE)=TRUE)),"",IF(AND($E$2="Zuid",ISNA(VLOOKUP($L$4&$L13&R$10,Data!$A:$H,8,FALSE)=TRUE)),"",IF(AND($E$2="Noord",VLOOKUP($L$4&$L13&R$10,Data!$A:$H,6,FALSE)="Vakantie"),"x",IF(AND($E$2="Midden",VLOOKUP($L$4&$L13&R$10,Data!$A:$H,7,FALSE)="Vakantie"),"x",IF(AND($E$2="Zuid",VLOOKUP($L$4&$L13&R$10,Data!$A:$H,8,FALSE)="Vakantie"),"x","")))))) | S13: =IF(AND($E$2="Noord",ISNA(VLOOKUP($L$4&$L13&S$10,Data!$A:$H,6,FALSE)=TRUE)),"",IF(AND($E$2="Midden",ISNA(VLOOKUP($L$4&$L13&S$10,Data!$A:$H,7,FALSE)=TRUE)),"",IF(AND($E$2="Zuid",ISNA(VLOOKUP($L$4&$L13&S$10,Data!$A:$H,8,FALSE)=TRUE)),"",IF(AND($E$2="Noord",VLOOKUP($L$4&$L13&S$10,Data!$A:$H,6,FALSE)="Vakantie"),"x",IF(AND($E$2="Midden",VLOOKUP($L$4&$L13&S$10,Data!$A:$H,7,FALSE)="Vakantie"),"x",IF(AND($E$2="Zuid",VLOOKUP($L$4&$L13&S$10,Data!$A:$H,8,FALSE)="Vakantie"),"x","")))))) | T13: =SUM(O13:S13) -> 0 | V13: 3 | W13: =+W12+7 -> 46405 | X13: =W14-3 -> 46409 | Y13: =IF(AND($E$2="Noord",ISNA(VLOOKUP($V$4&$V13&Y$10,Data!$A:$H,6,FALSE)=TRUE)),"",IF(AND($E$2="Midden",ISNA(VLOOKUP($V$4&$V13&Y$10,Data!$A:$H,7,FALSE)=TRUE)),"",IF(AND($E$2="Zuid",ISNA(VLOOKUP($V$4&$V13&Y$10,Data!$A:$H,8,FALSE)=TRUE)),"",IF(AND($E$2="Noord",VLOOKUP($V$4&$V13&Y$10,Data!$A:$H,6,FALSE)="Vakantie"),"x",IF(AND($E$2="Midden",VLOOKUP($V$4&$V13&Y$10,Data!$A:$H,7,FALSE)="Vakantie"),"x",IF(AND($E$2="Zuid",VLOOKUP($V$4&$V13&Y$10,Data!$A:$H,8,FALSE)="Vakantie"),"x","")))))) | Z13: =IF(AND($E$2="Noord",ISNA(VLOOKUP($V$4&$V13&Z$10,Data!$A:$H,6,FALSE)=TRUE)),"",IF(AND($E$2="Midden",ISNA(VLOOKUP($V$4&$V13&Z$10,Data!$A:$H,7,FALSE)=TRUE)),"",IF(AND($E$2="Zuid",ISNA(VLOOKUP($V$4&$V13&Z$10,Data!$A:$H,8,FALSE)=TRUE)),"",IF(AND($E$2="Noord",VLOOKUP($V$4&$V13&Z$10,Data!$A:$H,6,FALSE)="Vakantie"),"x",IF(AND($E$2="Midden",VLOOKUP($V$4&$V13&Z$10,Data!$A:$H,7,FALSE)="Vakantie"),"x",IF(AND($E$2="Zuid",VLOOKUP($V$4&$V13&Z$10,Data!$A:$H,8,FALSE)="Vakantie"),"x","")))))) | AA13: =IF(AND($E$2="Noord",ISNA(VLOOKUP($V$4&$V13&AA$10,Data!$A:$H,6,FALSE)=TRUE)),"",IF(AND($E$2="Midden",ISNA(VLOOKUP($V$4&$V13&AA$10,Data!$A:$H,7,FALSE)=TRUE)),"",IF(AND($E$2="Zuid",ISNA(VLOOKUP($V$4&$V13&AA$10,Data!$A:$H,8,FALSE)=TRUE)),"",IF(AND($E$2="Noord",VLOOKUP($V$4&$V13&AA$10,Data!$A:$H,6,FALSE)="Vakantie"),"x",IF(AND($E$2="Midden",VLOOKUP($V$4&$V13&AA$10,Data!$A:$H,7,FALSE)="Vakantie"),"x",IF(AND($E$2="Zuid",VLOOKUP($V$4&$V13&AA$10,Data!$A:$H,8,FALSE)="Vakantie"),"x","")))))) | AB13: =IF(AND($E$2="Noord",ISNA(VLOOKUP($V$4&$V13&AB$10,Data!$A:$H,6,FALSE)=TRUE)),"",IF(AND($E$2="Midden",ISNA(VLOOKUP($V$4&$V13&AB$10,Data!$A:$H,7,FALSE)=TRUE)),"",IF(AND($E$2="Zuid",ISNA(VLOOKUP($V$4&$V13&AB$10,Data!$A:$H,8,FALSE)=TRUE)),"",IF(AND($E$2="Noord",VLOOKUP($V$4&$V13&AB$10,Data!$A:$H,6,FALSE)="Vakantie"),"x",IF(AND($E$2="Midden",VLOOKUP($V$4&$V13&AB$10,Data!$A:$H,7,FALSE)="Vakantie"),"x",IF(AND($E$2="Zuid",VLOOKUP($V$4&$V13&AB$10,Data!$A:$H,8,FALSE)="Vakantie"),"x","")))))) | AC13: =IF(AND($E$2="Noord",ISNA(VLOOKUP($V$4&$V13&AC$10,Data!$A:$H,6,FALSE)=TRUE)),"",IF(AND($E$2="Midden",ISNA(VLOOKUP($V$4&$V13&AC$10,Data!$A:$H,7,FALSE)=TRUE)),"",IF(AND($E$2="Zuid",ISNA(VLOOKUP($V$4&$V13&AC$10,Data!$A:$H,8,FALSE)=TRUE)),"",IF(AND($E$2="Noord",VLOOKUP($V$4&$V13&AC$10,Data!$A:$H,6,FALSE)="Vakantie"),"x",IF(AND($E$2="Midden",VLOOKUP($V$4&$V13&AC$10,Data!$A:$H,7,FALSE)="Vakantie"),"x",IF(AND($E$2="Zuid",VLOOKUP($V$4&$V13&AC$10,Data!$A:$H,8,FALSE)="Vakantie"),"x","")))))) | AD13: =SUM(Y13:AC13) -> 0 | AI13: =IF(SUM($E13:$I13)=0,1,2) -> 1 | AJ13: =IF((COUNTIF($AI$11:$AI13,2))>1,"",IF(OR(AI12="",AI12=2),"",IF(AI13=1,"",IF(AND($AI13=2,E13<>""),$C13,IF(AND($AI13=2,F13<>""),$C13+1,IF(AND($AI13=2,G13<>""),$C13+2,IF(AND($AI13=2,H13<>""),$C13+3,IF(AND($AI13=2,I13<>""),$C13+4,"")))))))) | AK13: =IF(SUM(E14:$I$62)+$T$68+$AD$68=0,1,2) -> 1 | AL13: =IF(AK12="","",IF(AK12=1,"",IF(AK13<>1,"",IF(AND(AK13=1,I13<>""),C13+4,IF(AND(AK13=1,H13<>""),C13+3,IF(AND(AK13=1,G13<>""),C13+2,IF(AND(AK13=1,F13<>""),C13+1,IF(AND(AK13=1,E13<>""),C13,"")))))))) | AM13: =IF(SUM($O13:$S13)=0,1,2) -> 1 | AN13: =IF((COUNTIF($AI$11:$AI$64,2)+COUNTIF($AM12:$AM13,2))>1,"",IF(OR(AM12="",AM12=2),"",IF(AM13=1,"",IF(AND(AM13=2,O13<>""),M13,IF(AND(AM13=2,P13<>""),M13+1,IF(AND(AM13=2,Q13<>""),M13+2,IF(AND(AM13=2,R13<>""),M13+3,IF(AND(AM13=2,S13<>""),M13+4,"")))))))) | AO13: =IF(SUM(O14:$S$62)+$AD$68=0,1,2) -> 1 | AP13: =IF(AO12="","",IF(AO12=1,"",IF(AO13<>1,"",IF(AND(AO13=1,S13<>""),M13+4,IF(AND(AO13=1,R13<>""),M13+3,IF(AND(AO13=1,Q13<>""),M13+2,IF(AND(AO13=1,P13<>""),M13+1,IF(AND(AO13=1,O13<>""),M13,"")))))))) | AQ13: =IF(SUM($O14:$S$62)=0,1,2) -> 1 | AR13: =IF((COUNTIF($AI$11:$AI$64,2)+COUNTIF($AM$11:$AM$64,2)+COUNTIF(AQ$12:$AQ13,2))>1,"",IF(OR(AQ12="",AQ12=2),"",IF(AQ13=1,"",IF(AND(AQ13=2,Y13<>""),W13,IF(AND(AQ13=2,Z13<>""),W13+1,IF(AND(AQ13=2,AA13<>""),W13+2,IF(AND(AQ13=2,AB13<>""),W13+3,IF(AND(AQ13=2,AC13<>""),W13+4,"")))))))) | AS13: =IF(SUM(Y14:$AC$62)=0,1,2) -> 1 | AT13: =IF(AS12="","",IF(AS12=1,"",IF(AS13<>1,"",IF(AND(AS13=1,AC13<>""),W13+4,IF(AND(AS13=1,AB13<>""),W13+3,IF(AND(AS13=1,AA13<>""),W13+2,IF(AND(AS13=1,Z13<>""),W13+1,IF(AND(AS13=1,Y13<>""),W13,""))))))))
B14: 4 | C14: =C13+7 -> 45677 | D14: =C15-3 -> 45681 | E14: =IF(AND($E$2="Noord",ISNA(VLOOKUP($B$4&$B14&E$10,Data!$A:$H,6,FALSE)=TRUE)),"",IF(AND($E$2="Midden",ISNA(VLOOKUP($B$4&$B14&E$10,Data!$A:$H,7,FALSE)=TRUE)),"",IF(AND($E$2="Zuid",ISNA(VLOOKUP($B$4&$B14&E$10,Data!$A:$H,8,FALSE)=TRUE)),"",IF(AND($E$2="Noord",VLOOKUP($B$4&$B14&E$10,Data!$A:$H,6,FALSE)="Vakantie"),"x",IF(AND($E$2="Midden",VLOOKUP($B$4&$B14&E$10,Data!$A:$H,7,FALSE)="Vakantie"),"x",IF(AND($E$2="Zuid",VLOOKUP($B$4&$B14&E$10,Data!$A:$H,8,FALSE)="Vakantie"),"x","")))))) | F14: =IF(AND($E$2="Noord",ISNA(VLOOKUP($B$4&$B14&F$10,Data!$A:$H,6,FALSE)=TRUE)),"",IF(AND($E$2="Midden",ISNA(VLOOKUP($B$4&$B14&F$10,Data!$A:$H,7,FALSE)=TRUE)),"",IF(AND($E$2="Zuid",ISNA(VLOOKUP($B$4&$B14&F$10,Data!$A:$H,8,FALSE)=TRUE)),"",IF(AND($E$2="Noord",VLOOKUP($B$4&$B14&F$10,Data!$A:$H,6,FALSE)="Vakantie"),"x",IF(AND($E$2="Midden",VLOOKUP($B$4&$B14&F$10,Data!$A:$H,7,FALSE)="Vakantie"),"x",IF(AND($E$2="Zuid",VLOOKUP($B$4&$B14&F$10,Data!$A:$H,8,FALSE)="Vakantie"),"x","")))))) | G14: =IF(AND($E$2="Noord",ISNA(VLOOKUP($B$4&$B14&G$10,Data!$A:$H,6,FALSE)=TRUE)),"",IF(AND($E$2="Midden",ISNA(VLOOKUP($B$4&$B14&G$10,Data!$A:$H,7,FALSE)=TRUE)),"",IF(AND($E$2="Zuid",ISNA(VLOOKUP($B$4&$B14&G$10,Data!$A:$H,8,FALSE)=TRUE)),"",IF(AND($E$2="Noord",VLOOKUP($B$4&$B14&G$10,Data!$A:$H,6,FALSE)="Vakantie"),"x",IF(AND($E$2="Midden",VLOOKUP($B$4&$B14&G$10,Data!$A:$H,7,FALSE)="Vakantie"),"x",IF(AND($E$2="Zuid",VLOOKUP($B$4&$B14&G$10,Data!$A:$H,8,FALSE)="Vakantie"),"x","")))))) | H14: =IF(AND($E$2="Noord",ISNA(VLOOKUP($B$4&$B14&H$10,Data!$A:$H,6,FALSE)=TRUE)),"",IF(AND($E$2="Midden",ISNA(VLOOKUP($B$4&$B14&H$10,Data!$A:$H,7,FALSE)=TRUE)),"",IF(AND($E$2="Zuid",ISNA(VLOOKUP($B$4&$B14&H$10,Data!$A:$H,8,FALSE)=TRUE)),"",IF(AND($E$2="Noord",VLOOKUP($B$4&$B14&H$10,Data!$A:$H,6,FALSE)="Vakantie"),"x",IF(AND($E$2="Midden",VLOOKUP($B$4&$B14&H$10,Data!$A:$H,7,FALSE)="Vakantie"),"x",IF(AND($E$2="Zuid",VLOOKUP($B$4&$B14&H$10,Data!$A:$H,8,FALSE)="Vakantie"),"x","")))))) | I14: =IF(AND($E$2="Noord",ISNA(VLOOKUP($B$4&$B14&I$10,Data!$A:$H,6,FALSE)=TRUE)),"",IF(AND($E$2="Midden",ISNA(VLOOKUP($B$4&$B14&I$10,Data!$A:$H,7,FALSE)=TRUE)),"",IF(AND($E$2="Zuid",ISNA(VLOOKUP($B$4&$B14&I$10,Data!$A:$H,8,FALSE)=TRUE)),"",IF(AND($E$2="Noord",VLOOKUP($B$4&$B14&I$10,Data!$A:$H,6,FALSE)="Vakantie"),"x",IF(AND($E$2="Midden",VLOOKUP($B$4&$B14&I$10,Data!$A:$H,7,FALSE)="Vakantie"),"x",IF(AND($E$2="Zuid",VLOOKUP($B$4&$B14&I$10,Data!$A:$H,8,FALSE)="Vakantie"),"x","")))))) | J14: =SUM(E14:I14) -> 0 | L14: 4 | M14: =M13+7 -> 46041 | N14: =+M15-3 -> 46045 | O14: =IF(AND($E$2="Noord",ISNA(VLOOKUP($L$4&$L14&O$10,Data!$A:$H,6,FALSE)=TRUE)),"",IF(AND($E$2="Midden",ISNA(VLOOKUP($L$4&$L14&O$10,Data!$A:$H,7,FALSE)=TRUE)),"",IF(AND($E$2="Zuid",ISNA(VLOOKUP($L$4&$L14&O$10,Data!$A:$H,8,FALSE)=TRUE)),"",IF(AND($E$2="Noord",VLOOKUP($L$4&$L14&O$10,Data!$A:$H,6,FALSE)="Vakantie"),"x",IF(AND($E$2="Midden",VLOOKUP($L$4&$L14&O$10,Data!$A:$H,7,FALSE)="Vakantie"),"x",IF(AND($E$2="Zuid",VLOOKUP($L$4&$L14&O$10,Data!$A:$H,8,FALSE)="Vakantie"),"x","")))))) | P14: =IF(AND($E$2="Noord",ISNA(VLOOKUP($L$4&$L14&P$10,Data!$A:$H,6,FALSE)=TRUE)),"",IF(AND($E$2="Midden",ISNA(VLOOKUP($L$4&$L14&P$10,Data!$A:$H,7,FALSE)=TRUE)),"",IF(AND($E$2="Zuid",ISNA(VLOOKUP($L$4&$L14&P$10,Data!$A:$H,8,FALSE)=TRUE)),"",IF(AND($E$2="Noord",VLOOKUP($L$4&$L14&P$10,Data!$A:$H,6,FALSE)="Vakantie"),"x",IF(AND($E$2="Midden",VLOOKUP($L$4&$L14&P$10,Data!$A:$H,7,FALSE)="Vakantie"),"x",IF(AND($E$2="Zuid",VLOOKUP($L$4&$L14&P$10,Data!$A:$H,8,FALSE)="Vakantie"),"x","")))))) | Q14: =IF(AND($E$2="Noord",ISNA(VLOOKUP($L$4&$L14&Q$10,Data!$A:$H,6,FALSE)=TRUE)),"",IF(AND($E$2="Midden",ISNA(VLOOKUP($L$4&$L14&Q$10,Data!$A:$H,7,FALSE)=TRUE)),"",IF(AND($E$2="Zuid",ISNA(VLOOKUP($L$4&$L14&Q$10,Data!$A:$H,8,FALSE)=TRUE)),"",IF(AND($E$2="Noord",VLOOKUP($L$4&$L14&Q$10,Data!$A:$H,6,FALSE)="Vakantie"),"x",IF(AND($E$2="Midden",VLOOKUP($L$4&$L14&Q$10,Data!$A:$H,7,FALSE)="Vakantie"),"x",IF(AND($E$2="Zuid",VLOOKUP($L$4&$L14&Q$10,Data!$A:$H,8,FALSE)="Vakantie"),"x","")))))) | R14: =IF(AND($E$2="Noord",ISNA(VLOOKUP($L$4&$L14&R$10,Data!$A:$H,6,FALSE)=TRUE)),"",IF(AND($E$2="Midden",ISNA(VLOOKUP($L$4&$L14&R$10,Data!$A:$H,7,FALSE)=TRUE)),"",IF(AND($E$2="Zuid",ISNA(VLOOKUP($L$4&$L14&R$10,Data!$A:$H,8,FALSE)=TRUE)),"",IF(AND($E$2="Noord",VLOOKUP($L$4&$L14&R$10,Data!$A:$H,6,FALSE)="Vakantie"),"x",IF(AND($E$2="Midden",VLOOKUP($L$4&$L14&R$10,Data!$A:$H,7,FALSE)="Vakantie"),"x",IF(AND($E$2="Zuid",VLOOKUP($L$4&$L14&R$10,Data!$A:$H,8,FALSE)="Vakantie"),"x","")))))) | S14: =IF(AND($E$2="Noord",ISNA(VLOOKUP($L$4&$L14&S$10,Data!$A:$H,6,FALSE)=TRUE)),"",IF(AND($E$2="Midden",ISNA(VLOOKUP($L$4&$L14&S$10,Data!$A:$H,7,FALSE)=TRUE)),"",IF(AND($E$2="Zuid",ISNA(VLOOKUP($L$4&$L14&S$10,Data!$A:$H,8,FALSE)=TRUE)),"",IF(AND($E$2="Noord",VLOOKUP($L$4&$L14&S$10,Data!$A:$H,6,FALSE)="Vakantie"),"x",IF(AND($E$2="Midden",VLOOKUP($L$4&$L14&S$10,Data!$A:$H,7,FALSE)="Vakantie"),"x",IF(AND($E$2="Zuid",VLOOKUP($L$4&$L14&S$10,Data!$A:$H,8,FALSE)="Vakantie"),"x","")))))) | T14: =SUM(O14:S14) -> 0 | V14: 4 | W14: =+W13+7 -> 46412 | X14: =W15-3 -> 46416 | Y14: =IF(AND($E$2="Noord",ISNA(VLOOKUP($V$4&$V14&Y$10,Data!$A:$H,6,FALSE)=TRUE)),"",IF(AND($E$2="Midden",ISNA(VLOOKUP($V$4&$V14&Y$10,Data!$A:$H,7,FALSE)=TRUE)),"",IF(AND($E$2="Zuid",ISNA(VLOOKUP($V$4&$V14&Y$10,Data!$A:$H,8,FALSE)=TRUE)),"",IF(AND($E$2="Noord",VLOOKUP($V$4&$V14&Y$10,Data!$A:$H,6,FALSE)="Vakantie"),"x",IF(AND($E$2="Midden",VLOOKUP($V$4&$V14&Y$10,Data!$A:$H,7,FALSE)="Vakantie"),"x",IF(AND($E$2="Zuid",VLOOKUP($V$4&$V14&Y$10,Data!$A:$H,8,FALSE)="Vakantie"),"x","")))))) | Z14: =IF(AND($E$2="Noord",ISNA(VLOOKUP($V$4&$V14&Z$10,Data!$A:$H,6,FALSE)=TRUE)),"",IF(AND($E$2="Midden",ISNA(VLOOKUP($V$4&$V14&Z$10,Data!$A:$H,7,FALSE)=TRUE)),"",IF(AND($E$2="Zuid",ISNA(VLOOKUP($V$4&$V14&Z$10,Data!$A:$H,8,FALSE)=TRUE)),"",IF(AND($E$2="Noord",VLOOKUP($V$4&$V14&Z$10,Data!$A:$H,6,FALSE)="Vakantie"),"x",IF(AND($E$2="Midden",VLOOKUP($V$4&$V14&Z$10,Data!$A:$H,7,FALSE)="Vakantie"),"x",IF(AND($E$2="Zuid",VLOOKUP($V$4&$V14&Z$10,Data!$A:$H,8,FALSE)="Vakantie"),"x","")))))) | AA14: =IF(AND($E$2="Noord",ISNA(VLOOKUP($V$4&$V14&AA$10,Data!$A:$H,6,FALSE)=TRUE)),"",IF(AND($E$2="Midden",ISNA(VLOOKUP($V$4&$V14&AA$10,Data!$A:$H,7,FALSE)=TRUE)),"",IF(AND($E$2="Zuid",ISNA(VLOOKUP($V$4&$V14&AA$10,Data!$A:$H,8,FALSE)=TRUE)),"",IF(AND($E$2="Noord",VLOOKUP($V$4&$V14&AA$10,Data!$A:$H,6,FALSE)="Vakantie"),"x",IF(AND($E$2="Midden",VLOOKUP($V$4&$V14&AA$10,Data!$A:$H,7,FALSE)="Vakantie"),"x",IF(AND($E$2="Zuid",VLOOKUP($V$4&$V14&AA$10,Data!$A:$H,8,FALSE)="Vakantie"),"x","")))))) | AB14: =IF(AND($E$2="Noord",ISNA(VLOOKUP($V$4&$V14&AB$10,Data!$A:$H,6,FALSE)=TRUE)),"",IF(AND($E$2="Midden",ISNA(VLOOKUP($V$4&$V14&AB$10,Data!$A:$H,7,FALSE)=TRUE)),"",IF(AND($E$2="Zuid",ISNA(VLOOKUP($V$4&$V14&AB$10,Data!$A:$H,8,FALSE)=TRUE)),"",IF(AND($E$2="Noord",VLOOKUP($V$4&$V14&AB$10,Data!$A:$H,6,FALSE)="Vakantie"),"x",IF(AND($E$2="Midden",VLOOKUP($V$4&$V14&AB$10,Data!$A:$H,7,FALSE)="Vakantie"),"x",IF(AND($E$2="Zuid",VLOOKUP($V$4&$V14&AB$10,Data!$A:$H,8,FALSE)="Vakantie"),"x","")))))) | AC14: =IF(AND($E$2="Noord",ISNA(VLOOKUP($V$4&$V14&AC$10,Data!$A:$H,6,FALSE)=TRUE)),"",IF(AND($E$2="Midden",ISNA(VLOOKUP($V$4&$V14&AC$10,Data!$A:$H,7,FALSE)=TRUE)),"",IF(AND($E$2="Zuid",ISNA(VLOOKUP($V$4&$V14&AC$10,Data!$A:$H,8,FALSE)=TRUE)),"",IF(AND($E$2="Noord",VLOOKUP($V$4&$V14&AC$10,Data!$A:$H,6,FALSE)="Vakantie"),"x",IF(AND($E$2="Midden",VLOOKUP($V$4&$V14&AC$10,Data!$A:$H,7,FALSE)="Vakantie"),"x",IF(AND($E$2="Zuid",VLOOKUP($V$4&$V14&AC$10,Data!$A:$H,8,FALSE)="Vakantie"),"x","")))))) | AD14: =SUM(Y14:AC14) -> 0 | AI14: =IF(SUM($E14:$I14)=0,1,2) -> 1 | AJ14: =IF((COUNTIF($AI$11:$AI14,2))>1,"",IF(OR(AI13="",AI13=2),"",IF(AI14=1,"",IF(AND($AI14=2,E14<>""),$C14,IF(AND($AI14=2,F14<>""),$C14+1,IF(AND($AI14=2,G14<>""),$C14+2,IF(AND($AI14=2,H14<>""),$C14+3,IF(AND($AI14=2,I14<>""),$C14+4,"")))))))) | AK14: =IF(SUM(E15:$I$62)+$T$68+$AD$68=0,1,2) -> 1 | AL14: =IF(AK13="","",IF(AK13=1,"",IF(AK14<>1,"",IF(AND(AK14=1,I14<>""),C14+4,IF(AND(AK14=1,H14<>""),C14+3,IF(AND(AK14=1,G14<>""),C14+2,IF(AND(AK14=1,F14<>""),C14+1,IF(AND(AK14=1,E14<>""),C14,"")))))))) | AM14: =IF(SUM($O14:$S14)=0,1,2) -> 1 | AN14: =IF((COUNTIF($AI$11:$AI$64,2)+COUNTIF($AM13:$AM14,2))>1,"",IF(OR(AM13="",AM13=2),"",IF(AM14=1,"",IF(AND(AM14=2,O14<>""),M14,IF(AND(AM14=2,P14<>""),M14+1,IF(AND(AM14=2,Q14<>""),M14+2,IF(AND(AM14=2,R14<>""),M14+3,IF(AND(AM14=2,S14<>""),M14+4,"")))))))) | AO14: =IF(SUM(O15:$S$62)+$AD$68=0,1,2) -> 1 | AP14: =IF(AO13="","",IF(AO13=1,"",IF(AO14<>1,"",IF(AND(AO14=1,S14<>""),M14+4,IF(AND(AO14=1,R14<>""),M14+3,IF(AND(AO14=1,Q14<>""),M14+2,IF(AND(AO14=1,P14<>""),M14+1,IF(AND(AO14=1,O14<>""),M14,"")))))))) | AQ14: =IF(SUM($O15:$S$62)=0,1,2) -> 1 | AR14: =IF((COUNTIF($AI$11:$AI$64,2)+COUNTIF($AM$11:$AM$64,2)+COUNTIF(AQ$12:$AQ14,2))>1,"",IF(OR(AQ13="",AQ13=2),"",IF(AQ14=1,"",IF(AND(AQ14=2,Y14<>""),W14,IF(AND(AQ14=2,Z14<>""),W14+1,IF(AND(AQ14=2,AA14<>""),W14+2,IF(AND(AQ14=2,AB14<>""),W14+3,IF(AND(AQ14=2,AC14<>""),W14+4,"")))))))) | AS14: =IF(SUM(Y15:$AC$62)=0,1,2) -> 1 | AT14: =IF(AS13="","",IF(AS13=1,"",IF(AS14<>1,"",IF(AND(AS14=1,AC14<>""),W14+4,IF(AND(AS14=1,AB14<>""),W14+3,IF(AND(AS14=1,AA14<>""),W14+2,IF(AND(AS14=1,Z14<>""),W14+1,IF(AND(AS14=1,Y14<>""),W14,""))))))))
