Workbook

Sheet Formulier
C3: BEREKENING ZWANGERSCHAPSVERLOF PO 2025-2027 1.0 | R3: Noord | S3: Ja | T3: 1
R4: Midden | S4: Nee | T4: 2
R5: Zuid
B6: Bestuur | D6: :
B8: Naam | D8: :
B10: Registratienummer | D10: :
B12: Adres | D12: :
B14: Poscode + woonplaats | D14: :
B18: Op basis van de vermoedelijke bevallingsdatum kunt u vervolgens zien tussen welke twee data het zwangerschapsverlof in kan gaan en beëindigd wordt
B20: Vermoedelijke bevallingsdatum | D20: :
B22: Eerste verlofdag ligt op of tussen: | G22: =IF(G20="","",+G20-41) | H22: en | I22: =IF(G20="","",+G20-27)
B24: =CONCATENATE("Als er sprake is van ziekte voorafgaand aan het zwangerschapsverlof, dan moet het zwangerschapsverlof 6 weken voorafgaand aan de vermoedelijke bevallingsdatium ingaan en wordt ",IF(G22="","",DAY(G22)),"-",IF(G22="","",MONTH(G22)),"-",IF(G22="","",YEAR(G22)),".") -> Als er sprake is van ziekte voorafgaand aan het zwangerschapsverlof, dan moet het zwangerschapsverlof 6 weken voorafgaand aan de vermoedelijke bevallingsdatium ingaan en wordt --.
B26: Gekozen ingangsdatum | J26: =IF(G26="","",IF(G26>I22,"Eerste velofdag is te laat! Vul opnieuw in",IF(G26<G22,"Eerste verlofdag is te vroeg! Vul opnieuw in","")))
B28: Feitelijke bevallingsdatum *
B30: Verlenging verlof?
B31: Vul de volgende velden in om te kijken of het verlof verlengd moet worden i.v.m. een latere bevallingsdatum en/of het verlof (voor een deel) samen valt met de zomervakantie.
B33: Welke regio-indeling wordt op uw school gehanteerd? | G33: Noord
B34: Hoeveel weken mei vakantie?
B35: Verlenging ivm latere bevallingsdatum? | G35: =IF(G28="","",IF(G28>G20,"ja",""))
B36: Dagen verlenging ivm latere bevallingsdatum | G36: =IF(G28="","",IF(O36<0,"",O36)) | O36: =IF(G28<G20,0,IF(G20="","",IF(R41="nee",0,IF(R41="??",0,G28-G20))))
B37: Verlenging ivm recht op vakantieverlof? | G37: =IF(G33="","",IF(SUM(Data!N:N)>0,"ja",""))
B38: Dagen verlenging ivm vakantieverlof | G38: =IF(G37="","",SUM(Data!O:O)) | O38: =IF(G26="","",+G26+111)
B39: Laatste deel van het bevallingsverlof gespreid opnemen? ** | G39: Nee
B42: Zwangerschapsverlof | E42: eerste verlofdag | G42: laatste verlofdag
B44: Op te nemen verlof | E44: =IF(G39="nee",IF(J26<>"","invoer onjuist!",IF(G26="","",G26)),"") | G44: =IF(E8="","",IF(G26="","datum eerste verlofdag is niet gevuld",IF(G26="","",IF(G33="","regio is niet gevuld",IF(G39="Ja","",IF(AND(O38+O36<=Q36,O38+O36>=Q33),O38+O36,O38+O36+S42)))))) | O44: Laatste verlofdag na op te nemen vakantieverlof
B45: Op te nemen vakantieverlof | E45: =IF(Q51=0,G44,IF(OR(G44="",G33=""),"",G44+1)) | G45: =IF(Q51=0,E45,IF(O45="","",+O45)) | O45: =IF(E45="","",E45+SUM(Data!N:N)-1) | P45: Vakantie tijden vakantieverlof?
B47: Zwangerschapsverlof *** | E47: eerste verlofdag | G47: laatste verlofdag
B49: Op te nemen verlof | E49: =IF(G39="nee","",IF(J26<>"","invoer onjuist!",IF(G26="","",G26)))
B50: Op te nemen vakantieverlof
P51: =+G37 | Q51: =SUM(Data!N:N)/7 -> 0 | R51: wk
B53: Ondertekening medewerker: | F53: Ondertekening namens het bevoegd gezag:
B55: Datum: | F55: Datum:
B57: Handtekening: | F57: Handtekening:
B61: * Bij de aanvraag hoeft hier niets ingevuld te worden.
B62: Zodra de werkelijke bevallingsdatum bekend is dient u dit aan ons door te geven. Eventueel kunt u dit formulier opslaan en de werkelijke
B63: bevallingsdatum, zodra bekend, zelf invullen. De einddatum wordt dan automatisch berrekend.
B64: ** Sinds 1 januari 2015 kunt u de laatste periode van uw bevallingsverlof in delen opnemen. Het gaat om het verlof dat overblijft na 6 weken
B65: na de datum van uw bevalling. Dit deel van het verlof kunt u gespreid opnemen over een periode van maximaal 30 weken.
B66: U doet dit in overleg met uw werkgever.
B67: *** Deze datums alleen invoeren indien je gebruik maakt van het gespreid opnemen.

Sheet Vakanties
B1: Zomervakantie (van zaterdagen t/m zondag)
A3: Regio | B3: Noord | E3: Midden | H3: Zuid
B4: Van | C4: Tot en met | E4: Van | F4: Tot en met | H4: Van | I4: Tot en met
A5: =(YEAR(B5)-1)&"-"&YEAR(B5) -> 2008-2009 | B5: 39998 | C5: 40041 | E5: 40005 | F5: 40048 | H5: 40019 | I5: 40062
A6: =(YEAR(B6)-1)&"-"&YEAR(B6) -> 2009-2010 | B6: 40369 | C6: 40412 | E6: 40362 | F6: 40405 | H6: 40383 | I6: 40426
A7: =(YEAR(B7)-1)&"-"&YEAR(B7) -> 2010-2011 | B7: 40747 | C7: 40790 | E7: 40726 | F7: 40769 | H7: 40733 | I7: 40776
A8: =(YEAR(B8)-1)&"-"&YEAR(B8) -> 2011-2012 | B8: 41111 | C8: 41154 | E8: 41097 | F8: 41140 | H8: 41090 | I8: 41133
A9: =(YEAR(B9)-1)&"-"&YEAR(B9) -> 2012-2013 | B9: 41461 | C9: 41504 | E9: 41475 | F9: 41518 | H9: 41454 | I9: 41497
A10: =(YEAR(B10)-1)&"-"&YEAR(B10) -> 2013-2014 | B10: 41825 | C10: 41868 | E10: 41839 | F10: 41882 | H10: 41832 | I10: 41875
A11: 2014-2015 | B11: 42189 | C11: 42232 | E11: 42196 | F11: 42239 | H11: 42203 | I11: 42246
A12: 2015-2016 | B12: 42567 | C12: 42610 | E12: 42560 | F12: 42603 | H12: 42574 | I12: 42617
A13: 2016-2017

Sheet vakantieverlof
A1: Wknr | B1: Wknr | C1: Datum | D1: dag | E1: Jaar | F1: Vakantie Noord | G1: Vakantie Midden | H1: Vakantie Zuid | I1: Wknr | J1: Zwangerschapsverlof | K1: Vakantie Noord | L1: Vakantie Midden | M1: Vakantie Zuid | N1: =Formulier!G33 -> Noord | O1: dagen | P1: Vakantie tijdens vakantie-verlof? | S1: =SUM(R:R) -> 0 | U1: 2014 | X1: 2015 | AA1: 2016 | AD1: 2017 | AF1: 2018 | AJ1: PO
A2: =E2&B2&D2 -> 201453ma | B2: 53 | C2: 42002 | D2: ma | E2: =YEAR(C2) -> 2014 | F2: =IF(AND($C2>=$U$3,$C2<=$V$3),"Vakantie",IF(AND($C2>=$U$4,$C2<=$V$4),"Vakantie",IF(AND($C2>=$U$5,$C2<=$V$5),"Vakantie",IF(AND($C2>=$U$6,$C2<=$V$6),"Vakantie",IF(AND($C2>=$U$7,$C2<=$V$7),"Vakantie",IF(OR($C2=#REF!,$C2=#REF!,$C2=#REF!,$C2=#REF!,$C2=#REF!,$C2=#REF!),"Vakantie","")))))) -> Vakantie | G2: =IF(AND($C2>=$U$8,$C2<=$V$8),"Vakantie",IF(AND($C2>=$U$9,$C2<=$V$9),"Vakantie",IF(AND($C2>=$U$10,$C2<=$V$10),"Vakantie",IF(AND($C2>=$U$11,$C2<=$V$11),"Vakantie",IF(AND($C2>=$U$12,$C2<=$V$12),"Vakantie",IF(OR($C2=#REF!,$C2=#REF!,$C2=#REF!,$C2=#REF!,$C2=#REF!,$C2=#REF!),"Vakantie","")))))) -> Vakantie | H2: =IF(AND($C2>=$U$13,$C2<=$V$13),"Vakantie",IF(AND($C2>=$U$14,$C2<=$V$14),"Vakantie",IF(AND($C2>=$U$15,$C2<=$V$15),"Vakantie",IF(AND($C2>=$U$16,$C2<=$V$16),"Vakantie",IF(AND($C2>=$U$17,$C2<=$V$17),"Vakantie",IF(OR($C2=#REF!,$C2=#REF!,$C2=#REF!,$C2=#REF!,$C2=#REF!,$C2=#REF!),"Vakantie","")))))) -> Vakantie | I2: 53 | J2: =IF(AND(Formulier!$E$44<=C2,Formulier!$O$38>=C2),"Verlof",0) -> 0 | K2: =IF(J2=0,0,IF(F2="",0,1)) -> 0 | L2: =IF(J2=0,0,IF(G2="",0,1)) -> 0 | M2: =IF(J2=0,0,IF(H2="",0,1)) -> 0 | N2: =IF($N$1="Noord",K2,IF($N$1="Midden",L2,M2)) -> 0 | O2: =IF(OR(D2="za",D2="zo"),0,N2) -> 0 | S2: Regio | U2: Van | V2: Tot en met | X2: Van | Y2: Tot en met | AA2: Van | AB2: Tot en met | AD2: Van | AE2: Tot en met | AF2: Van | AG2: Tot en met | AJ2: zaterdag tot en met zondag
A3: =E3&B3&D3 -> 201453di | B3: 53 | C3: =+C2+1 -> 42003 | D3: di | E3: =YEAR(C3) -> 2014 | F3: =IF(AND($C3>=$U$3,$C3<=$V$3),"Vakantie",IF(AND($C3>=$U$4,$C3<=$V$4),"Vakantie",IF(AND($C3>=$U$5,$C3<=$V$5),"Vakantie",IF(AND($C3>=$U$6,$C3<=$V$6),"Vakantie",IF(AND($C3>=$U$7,$C3<=$V$7),"Vakantie",IF(OR($C3=#REF!,$C3=#REF!,$C3=#REF!,$C3=#REF!,$C3=#REF!,$C3=#REF!),"Vakantie","")))))) -> Vakantie | G3: =IF(AND($C3>=$U$8,$C3<=$V$8),"Vakantie",IF(AND($C3>=$U$9,$C3<=$V$9),"Vakantie",IF(AND($C3>=$U$10,$C3<=$V$10),"Vakantie",IF(AND($C3>=$U$11,$C3<=$V$11),"Vakantie",IF(AND($C3>=$U$12,$C3<=$V$12),"Vakantie",IF(OR($C3=#REF!,$C3=#REF!,$C3=#REF!,$C3=#REF!,$C3=#REF!,$C3=#REF!),"Vakantie","")))))) -> Vakantie | H3: =IF(AND($C3>=$U$13,$C3<=$V$13),"Vakantie",IF(AND($C3>=$U$14,$C3<=$V$14),"Vakantie",IF(AND($C3>=$U$15,$C3<=$V$15),"Vakantie",IF(AND($C3>=$U$16,$C3<=$V$16),"Vakantie",IF(AND($C3>=$U$17,$C3<=$V$17),"Vakantie",IF(OR($C3=#REF!,$C3=#REF!,$C3=#REF!,$C3=#REF!,$C3=#REF!,$C3=#REF!),"Vakantie","")))))) -> Vakantie | I3: 53 | J3: =IF(AND(Formulier!$E$44<=C3,Formulier!$O$38>=C3),"Verlof",0) -> 0 | K3: =IF(J3=0,0,IF(F3="",0,1)) -> 0 | L3: =IF(J3=0,0,IF(G3="",0,1)) -> 0 | M3: =IF(J3=0,0,IF(H3="",0,1)) -> 0 | N3: =IF($N$1="Noord",K3,IF($N$1="Midden",L3,M3)) -> 0 | O3: =IF(OR(D3="za",D3="zo"),0,N3) -> 0 | S3: Noord | T3: Zomervakantie | U3: 41825 | V3: 41868 | X3: 42191 | Y3: 42232 | AA3: 42569 | AB3: 42610 | AD3: 42940 | AE3: 42981 | AF3: 43304 | AG3: 43345
A4: =E4&B4&D4 -> 201453wo | B4: 53 | C4: =+C3+1 -> 42004 | D4: wo | E4: =YEAR(C4) -> 2014 | F4: =IF(AND($C4>=$U$3,$C4<=$V$3),"Vakantie",IF(AND($C4>=$U$4,$C4<=$V$4),"Vakantie",IF(AND($C4>=$U$5,$C4<=$V$5),"Vakantie",IF(AND($C4>=$U$6,$C4<=$V$6),"Vakantie",IF(AND($C4>=$U$7,$C4<=$V$7),"Vakantie",IF(OR($C4=#REF!,$C4=#REF!,$C4=#REF!,$C4=#REF!,$C4=#REF!,$C4=#REF!),"Vakantie","")))))) -> Vakantie | G4: =IF(AND($C4>=$U$8,$C4<=$V$8),"Vakantie",IF(AND($C4>=$U$9,$C4<=$V$9),"Vakantie",IF(AND($C4>=$U$10,$C4<=$V$10),"Vakantie",IF(AND($C4>=$U$11,$C4<=$V$11),"Vakantie",IF(AND($C4>=$U$12,$C4<=$V$12),"Vakantie",IF(OR($C4=#REF!,$C4=#REF!,$C4=#REF!,$C4=#REF!,$C4=#REF!,$C4=#REF!),"Vakantie","")))))) -> Vakantie | H4: =IF(AND($C4>=$U$13,$C4<=$V$13),"Vakantie",IF(AND($C4>=$U$14,$C4<=$V$14),"Vakantie",IF(AND($C4>=$U$15,$C4<=$V$15),"Vakantie",IF(AND($C4>=$U$16,$C4<=$V$16),"Vakantie",IF(AND($C4>=$U$17,$C4<=$V$17),"Vakantie",IF(OR($C4=#REF!,$C4=#REF!,$C4=#REF!,$C4=#REF!,$C4=#REF!,$C4=#REF!),"Vakantie","")))))) -> Vakantie | I4: 53 | J4: =IF(AND(Formulier!$E$44<=C4,Formulier!$O$38>=C4),"Verlof",0) -> 0 | K4: =IF(J4=0,0,IF(F4="",0,1)) -> 0 | L4: =IF(J4=0,0,IF(G4="",0,1)) -> 0 | M4: =IF(J4=0,0,IF(H4="",0,1)) -> 0 | N4: =IF($N$1="Noord",K4,IF($N$1="Midden",L4,M4)) -> 0 | O4: =IF(OR(D4="za",D4="zo"),0,N4) -> 0 | T4: Voorjaarsvakantie | U4: 41692 | V4: 41700
A5: =E5&B5&D5 -> 201453do | B5: 53 | C5: 42005 | D5: do | E5: 2014 | F5: =IF(AND($C5>=$U$3,$C5<=$V$3),"Vakantie",IF(AND($C5>=$U$4,$C5<=$V$4),"Vakantie",IF(AND($C5>=$U$5,$C5<=$V$5),"Vakantie",IF(AND($C5>=$U$6,$C5<=$V$6),"Vakantie",IF(AND($C5>=$U$7,$C5<=$V$7),"Vakantie",IF(OR($C5=#REF!,$C5=#REF!,$C5=#REF!,$C5=#REF!,$C5=#REF!,$C5=#REF!),"Vakantie","")))))) -> Vakantie | G5: =IF(AND($C5>=$U$8,$C5<=$V$8),"Vakantie",IF(AND($C5>=$U$9,$C5<=$V$9),"Vakantie",IF(AND($C5>=$U$10,$C5<=$V$10),"Vakantie",IF(AND($C5>=$U$11,$C5<=$V$11),"Vakantie",IF(AND($C5>=$U$12,$C5<=$V$12),"Vakantie",IF(OR($C5=#REF!,$C5=#REF!,$C5=#REF!,$C5=#REF!,$C5=#REF!,$C5=#REF!),"Vakantie","")))))) -> Vakantie | H5: =IF(AND($C5>=$U$13,$C5<=$V$13),"Vakantie",IF(AND($C5>=$U$14,$C5<=$V$14),"Vakantie",IF(AND($C5>=$U$15,$C5<=$V$15),"Vakantie",IF(AND($C5>=$U$16,$C5<=$V$16),"Vakantie",IF(AND($C5>=$U$17,$C5<=$V$17),"Vakantie",IF(OR($C5=#REF!,$C5=#REF!,$C5=#REF!,$C5=#REF!,$C5=#REF!,$C5=#REF!),"Vakantie","")))))) -> Vakantie | I5: 1 | J5: =IF(AND(Formulier!$E$44<=C5,Formulier!$O$38>=C5),"Verlof",0) -> 0 | K5: =IF(J5=0,0,IF(F5="",0,1)) -> 0 | L5: =IF(J5=0,0,IF(G5="",0,1)) -> 0 | M5: =IF(J5=0,0,IF(H5="",0,1)) -> 0 | N5: =IF($N$1="Noord",K5,IF($N$1="Midden",L5,M5)) -> 0 | O5: =IF(OR(D5="za",D5="zo"),0,N5) -> 0 | T5: Meivakantie | U5: 41755 | V5: 41764
A6: =E6&B6&D6 -> 201453vr | B6: 53 | C6: 42006 | D6: vr | E6: 2014 | F6: =IF(AND($C6>=$U$3,$C6<=$V$3),"Vakantie",IF(AND($C6>=$U$4,$C6<=$V$4),"Vakantie",IF(AND($C6>=$U$5,$C6<=$V$5),"Vakantie",IF(AND($C6>=$U$6,$C6<=$V$6),"Vakantie",IF(AND($C6>=$U$7,$C6<=$V$7),"Vakantie",IF(OR($C6=#REF!,$C6=#REF!,$C6=#REF!,$C6=#REF!,$C6=#REF!,$C6=#REF!),"Vakantie","")))))) -> Vakantie | G6: =IF(AND($C6>=$U$8,$C6<=$V$8),"Vakantie",IF(AND($C6>=$U$9,$C6<=$V$9),"Vakantie",IF(AND($C6>=$U$10,$C6<=$V$10),"Vakantie",IF(AND($C6>=$U$11,$C6<=$V$11),"Vakantie",IF(AND($C6>=$U$12,$C6<=$V$12),"Vakantie",IF(OR($C6=#REF!,$C6=#REF!,$C6=#REF!,$C6=#REF!,$C6=#REF!,$C6=#REF!),"Vakantie","")))))) -> Vakantie | H6: =IF(AND($C6>=$U$13,$C6<=$V$13),"Vakantie",IF(AND($C6>=$U$14,$C6<=$V$14),"Vakantie",IF(AND($C6>=$U$15,$C6<=$V$15),"Vakantie",IF(AND($C6>=$U$16,$C6<=$V$16),"Vakantie",IF(AND($C6>=$U$17,$C6<=$V$17),"Vakantie",IF(OR($C6=#REF!,$C6=#REF!,$C6=#REF!,$C6=#REF!,$C6=#REF!,$C6=#REF!),"Vakantie","")))))) -> Vakantie | I6: 1 | J6: =IF(AND(Formulier!$E$44<=C6,Formulier!$O$38>=C6),"Verlof",0) -> 0 | K6: =IF(J6=0,0,IF(F6="",0,1)) -> 0 | L6: =IF(J6=0,0,IF(G6="",0,1)) -> 0 | M6: =IF(J6=0,0,IF(H6="",0,1)) -> 0 | N6: =IF($N$1="Noord",K6,IF($N$1="Midden",L6,M6)) -> 0 | O6: =IF(OR(D6="za",D6="zo"),0,N6) -> 0 | T6: Herfstvakantie | U6: 41923 | V6: 41931
A7: =E7&B7&D7 -> 20151ma | B7: 1 | C7: 42002 | D7: ma | E7: 2015 | F7: Vakantie | G7: Vakantie | H7: Vakantie | I7: 53 | J7: =IF(AND(Formulier!$E$44<=C7,Formulier!$O$38>=C7),"Verlof",0) -> 0 | K7: =IF(J7=0,0,IF(F7="",0,1)) -> 0 | L7: =IF(J7=0,0,IF(G7="",0,1)) -> 0 | M7: =IF(J7=0,0,IF(H7="",0,1)) -> 0 | N7: =IF($N$1="Noord",K7,IF($N$1="Midden",L7,M7)) -> 0 | O7: =IF(OR(D7="za",D7="zo"),0,N7) -> 0 | T7: Kerstvakantie | U7: 41993 | V7: 42008
A8: =E8&B8&D8 -> 20151di | B8: 1 | C8: 42003 | D8: di | E8: 2015 | F8: Vakantie | G8: Vakantie | H8: Vakantie | I8: 53 | J8: =IF(AND(Formulier!$E$44<=C8,Formulier!$O$38>=C8),"Verlof",0) -> 0 | K8: =IF(J8=0,0,IF(F8="",0,1)) -> 0 | L8: =IF(J8=0,0,IF(G8="",0,1)) -> 0 | M8: =IF(J8=0,0,IF(H8="",0,1)) -> 0 | N8: =IF($N$1="Noord",K8,IF($N$1="Midden",L8,M8)) -> 0 | O8: =IF(OR(D8="za",D8="zo"),0,N8) -> 0 | S8: Midden | T8: Zomervakantie | U8: 41839 | V8: 41882 | X8: 42198 | Y8: 42239 | AA8: 42562 | AB8: 42603 | AD8: 42926 | AE8: 42967 | AF8: 43297 | AG8: 43338
A9: =E9&B9&D9 -> 20151wo | B9: 1 | C9: 42004 | D9: wo | E9: 2015 | F9: Vakantie | G9: Vakantie | H9: Vakantie | I9: 53 | J9: =IF(AND(Formulier!$E$44<=C9,Formulier!$O$38>=C9),"Verlof",0) -> 0 | K9: =IF(J9=0,0,IF(F9="",0,1)) -> 0 | L9: =IF(J9=0,0,IF(G9="",0,1)) -> 0 | M9: =IF(J9=0,0,IF(H9="",0,1)) -> 0 | N9: =IF($N$1="Noord",K9,IF($N$1="Midden",L9,M9)) -> 0 | O9: =IF(OR(D9="za",D9="zo"),0,N9) -> 0 | T9: Voorjaarsvakantie | U9: 41685 | V9: 41693
A10: =E10&B10&D10 -> 20151do | B10: 1 | C10: =+C4+1 -> 42005 | D10: do | E10: =YEAR(C10) -> 2015 | F10: =IF(AND($C10>=$U$3,$C10<=$V$3),"Vakantie",IF(AND($C10>=$U$4,$C10<=$V$4),"Vakantie",IF(AND($C10>=$U$5,$C10<=$V$5),"Vakantie",IF(AND($C10>=$U$6,$C10<=$V$6),"Vakantie",IF(AND($C10>=$U$7,$C10<=$V$7),"Vakantie",IF(OR($C10=#REF!,$C10=#REF!,$C10=#REF!,$C10=#REF!,$C10=#REF!,$C10=#REF!),"Vakantie","")))))) -> Vakantie | G10: =IF(AND($C10>=$U$8,$C10<=$V$8),"Vakantie",IF(AND($C10>=$U$9,$C10<=$V$9),"Vakantie",IF(AND($C10>=$U$10,$C10<=$V$10),"Vakantie",IF(AND($C10>=$U$11,$C10<=$V$11),"Vakantie",IF(AND($C10>=$U$12,$C10<=$V$12),"Vakantie",IF(OR($C10=#REF!,$C10=#REF!,$C10=#REF!,$C10=#REF!,$C10=#REF!,$C10=#REF!),"Vakantie","")))))) -> Vakantie | H10: =IF(AND($C10>=$U$13,$C10<=$V$13),"Vakantie",IF(AND($C10>=$U$14,$C10<=$V$14),"Vakantie",IF(AND($C10>=$U$15,$C10<=$V$15),"Vakantie",IF(AND($C10>=$U$16,$C10<=$V$16),"Vakantie",IF(AND($C10>=$U$17,$C10<=$V$17),"Vakantie",IF(OR($C10=#REF!,$C10=#REF!,$C10=#REF!,$C10=#REF!,$C10=#REF!,$C10=#REF!),"Vakantie","")))))) -> Vakantie | I10: 1 | J10: =IF(AND(Formulier!$E$44<=C10,Formulier!$O$38>=C10),"Verlof",0) -> 0 | K10: =IF(J10=0,0,IF(F10="",0,1)) -> 0 | L10: =IF(J10=0,0,IF(G10="",0,1)) -> 0 | M10: =IF(J10=0,0,IF(H10="",0,1)) -> 0 | N10: =IF($N$1="Noord",K10,IF($N$1="Midden",L10,M10)) -> 0 | O10: =IF(OR(D10="za",D10="zo"),0,N10) -> 0 | T10: Meivakantie | U10: 41755 | V10: 41764
A11: =E11&B11&D11 -> 20151vr | B11: 1 | C11: =+C10+1 -> 42006 | D11: vr | E11: =YEAR(C11) -> 2015 | F11: =IF(AND($C11>=$U$3,$C11<=$V$3),"Vakantie",IF(AND($C11>=$U$4,$C11<=$V$4),"Vakantie",IF(AND($C11>=$U$5,$C11<=$V$5),"Vakantie",IF(AND($C11>=$U$6,$C11<=$V$6),"Vakantie",IF(AND($C11>=$U$7,$C11<=$V$7),"Vakantie",IF(OR($C11=#REF!,$C11=#REF!,$C11=#REF!,$C11=#REF!,$C11=#REF!,$C11=#REF!),"Vakantie","")))))) -> Vakantie | G11: =IF(AND($C11>=$U$8,$C11<=$V$8),"Vakantie",IF(AND($C11>=$U$9,$C11<=$V$9),"Vakantie",IF(AND($C11>=$U$10,$C11<=$V$10),"Vakantie",IF(AND($C11>=$U$11,$C11<=$V$11),"Vakantie",IF(AND($C11>=$U$12,$C11<=$V$12),"Vakantie",IF(OR($C11=#REF!,$C11=#REF!,$C11=#REF!,$C11=#REF!,$C11=#REF!,$C11=#REF!),"Vakantie","")))))) -> Vakantie | H11: =IF(AND($C11>=$U$13,$C11<=$V$13),"Vakantie",IF(AND($C11>=$U$14,$C11<=$V$14),"Vakantie",IF(AND($C11>=$U$15,$C11<=$V$15),"Vakantie",IF(AND($C11>=$U$16,$C11<=$V$16),"Vakantie",IF(AND($C11>=$U$17,$C11<=$V$17),"Vakantie",IF(OR($C11=#REF!,$C11=#REF!,$C11=#REF!,$C11=#REF!,$C11=#REF!,$C11=#REF!),"Vakantie","")))))) -> Vakantie | I11: 1 | J11: =IF(AND(Formulier!$E$44<=C11,Formulier!$O$38>=C11),"Verlof",0) -> 0 | K11: =IF(J11=0,0,IF(F11="",0,1)) -> 0 | L11: =IF(J11=0,0,IF(G11="",0,1)) -> 0 | M11: =IF(J11=0,0,IF(H11="",0,1)) -> 0 | N11: =IF($N$1="Noord",K11,IF($N$1="Midden",L11,M11)) -> 0 | O11: =IF(OR(D11="za",D11="zo"),0,N11) -> 0 | T11: Herfstvakantie | U11: 41930 | V11: 41938
A12: =E12&B12&D12 -> 20151za | B12: 1 | C12: =+C11+1 -> 42007 | D12: za | E12: =YEAR(C12) -> 2015 | F12: =IF(AND($C12>=$U$3,$C12<=$V$3),"Vakantie",IF(AND($C12>=$U$4,$C12<=$V$4),"Vakantie",IF(AND($C12>=$U$5,$C12<=$V$5),"Vakantie",IF(AND($C12>=$U$6,$C12<=$V$6),"Vakantie",IF(AND($C12>=$U$7,$C12<=$V$7),"Vakantie",IF(OR($C12=#REF!,$C12=#REF!,$C12=#REF!,$C12=#REF!,$C12=#REF!,$C12=#REF!),"Vakantie","")))))) -> Vakantie | G12: =IF(AND($C12>=$U$8,$C12<=$V$8),"Vakantie",IF(AND($C12>=$U$9,$C12<=$V$9),"Vakantie",IF(AND($C12>=$U$10,$C12<=$V$10),"Vakantie",IF(AND($C12>=$U$11,$C12<=$V$11),"Vakantie",IF(AND($C12>=$U$12,$C12<=$V$12),"Vakantie",IF(OR($C12=#REF!,$C12=#REF!,$C12=#REF!,$C12=#REF!,$C12=#REF!,$C12=#REF!),"Vakantie","")))))) -> Vakantie | H12: =IF(AND($C12>=$U$13,$C12<=$V$13),"Vakantie",IF(AND($C12>=$U$14,$C12<=$V$14),"Vakantie",IF(AND($C12>=$U$15,$C12<=$V$15),"Vakantie",IF(AND($C12>=$U$16,$C12<=$V$16),"Vakantie",IF(AND($C12>=$U$17,$C12<=$V$17),"Vakantie",IF(OR($C12=#REF!,$C12=#REF!,$C12=#REF!,$C12=#REF!,$C12=#REF!,$C12=#REF!),"Vakantie","")))))) -> Vakantie | I12: 1 | J12: =IF(AND(Formulier!$E$44<=C12,Formulier!$O$38>=C12),"Verlof",0) -> 0 | K12: =IF(J12=0,0,IF(F12="",0,1)) -> 0 | L12: =IF(J12=0,0,IF(G12="",0,1)) -> 0 | M12: =IF(J12=0,0,IF(H12="",0,1)) -> 0 | N12: =IF($N$1="Noord",K12,IF($N$1="Midden",L12,M12)) -> 0 | O12: =IF(OR(D12="za",D12="zo"),0,N12) -> 0 | T12: Kerstvakantie | U12: 41993 | V12: 42008
A13: =E13&B13&D13 -> 20151zo | B13: 1 | C13: =+C12+1 -> 42008 | D13: zo | E13: =YEAR(C13) -> 2015 | F13: =IF(AND($C13>=$U$3,$C13<=$V$3),"Vakantie",IF(AND($C13>=$U$4,$C13<=$V$4),"Vakantie",IF(AND($C13>=$U$5,$C13<=$V$5),"Vakantie",IF(AND($C13>=$U$6,$C13<=$V$6),"Vakantie",IF(AND($C13>=$U$7,$C13<=$V$7),"Vakantie",IF(OR($C13=#REF!,$C13=#REF!,$C13=#REF!,$C13=#REF!,$C13=#REF!,$C13=#REF!),"Vakantie","")))))) -> Vakantie | G13: =IF(AND($C13>=$U$8,$C13<=$V$8),"Vakantie",IF(AND($C13>=$U$9,$C13<=$V$9),"Vakantie",IF(AND($C13>=$U$10,$C13<=$V$10),"Vakantie",IF(AND($C13>=$U$11,$C13<=$V$11),"Vakantie",IF(AND($C13>=$U$12,$C13<=$V$12),"Vakantie",IF(OR($C13=#REF!,$C13=#REF!,$C13=#REF!,$C13=#REF!,$C13=#REF!,$C13=#REF!),"Vakantie","")))))) -> Vakantie | H13: =IF(AND($C13>=$U$13,$C13<=$V$13),"Vakantie",IF(AND($C13>=$U$14,$C13<=$V$14),"Vakantie",IF(AND($C13>=$U$15,$C13<=$V$15),"Vakantie",IF(AND($C13>=$U$16,$C13<=$V$16),"Vakantie",IF(AND($C13>=$U$17,$C13<=$V$17),"Vakantie",IF(OR($C13=#REF!,$C13=#REF!,$C13=#REF!,$C13=#REF!,$C13=#REF!,$C13=#REF!),"Vakantie","")))))) -> Vakantie | I13: 1 | J13: =IF(AND(Formulier!$E$44<=C13,Formulier!$O$38>=C13),"Verlof",0) -> 0 | K13: =IF(J13=0,0,IF(F13="",0,1)) -> 0 | L13: =IF(J13=0,0,IF(G13="",0,1)) -> 0 | M13: =IF(J13=0,0,IF(H13="",0,1)) -> 0 | N13: =IF($N$1="Noord",K13,IF($N$1="Midden",L13,M13)) -> 0 | O13: =IF(OR(D13="za",D13="zo"),0,N13) -> 0 | S13: Zuid | T13: Zomervakantie | U13: 41832 | V13: 41875 | X13: 42205 | Y13: 42246 | AA13: 42576 | AB13: 42617 | AD13: 42933 | AE13: 42974 | AF13: 43290 | AG13: 43331
A14: =E14&B14&D14 -> 20152ma | B14: 2 | C14: =+C13+1 -> 42009 | D14: =+D2 -> ma | E14: =YEAR(C14) -> 2015 | F14: =IF(AND($C14>=$X$3,$C14<=$Y$3),"Vakantie",IF(AND($C14>=$X$4,$C14<=$Y$4),"Vakantie",IF(AND($C14>=$X$5,$C14<=$Y$5),"Vakantie",IF(AND($C14>=$X$6,$C14<=$Y$6),"Vakantie",IF(AND($C14>=$X$7,$C14<=$Y$7),"Vakantie",IF(OR($C14=$X$20,$C14=$X$21,$C14=$X$22,$C14=$X$23,$C14=$X$24,$C14=$X$25),"Vakantie","")))))) | G14: =IF(AND($C14>=$X$8,$C14<=$Y$8),"Vakantie",IF(AND($C14>=$X$9,$C14<=$Y$9),"Vakantie",IF(AND($C14>=$X$10,$C14<=$Y$10),"Vakantie",IF(AND($C14>=$X$11,$C14<=$Y$11),"Vakantie",IF(AND($C14>=$X$12,$C14<=$Y$12),"Vakantie",IF(OR($C14=$X$20,$C14=$X$21,$C14=$X$22,$C14=$X$23,$C14=$X$24,$C14=$X$25),"Vakantie","")))))) | H14: =IF(AND($C14>=$X$13,$C14<=$Y$13),"Vakantie",IF(AND($C14>=$X$14,$C14<=$Y$14),"Vakantie",IF(AND($C14>=$X$15,$C14<=$Y$15),"Vakantie",IF(AND($C14>=$X$16,$C14<=$Y$16),"Vakantie",IF(AND($C14>=$X$17,$C14<=$Y$17),"Vakantie",IF(OR($C14=$X$20,$C14=$X$21,$C14=$X$22,$C14=$X$23,$C14=$X$24,$C14=$X$25),"Vakantie","")))))) | I14: 2 | J14: =IF(AND(Formulier!$E$44<=C14,Formulier!$O$38>=C14),"Verlof",0) -> 0 | K14: =IF(J14=0,0,IF(F14="",0,1)) -> 0 | L14: =IF(J14=0,0,IF(G14="",0,1)) -> 0 | M14: =IF(J14=0,0,IF(H14="",0,1)) -> 0 | N14: =IF($N$1="Noord",K14,IF($N$1="Midden",L14,M14)) -> 0 | O14: =IF(OR(D14="za",D14="zo"),0,N14) -> 0 | T14: Voorjaarsvakantie | U14: 41685 | V14: 41693
A15: =E15&B15&D15 -> 20152di | B15: 2 | C15: =+C14+1 -> 42010 | D15: =+D3 -> di | E15: =YEAR(C15) -> 2015 | F15: =IF(AND($C15>=$X$3,$C15<=$Y$3),"Vakantie",IF(AND($C15>=$X$4,$C15<=$Y$4),"Vakantie",IF(AND($C15>=$X$5,$C15<=$Y$5),"Vakantie",IF(AND($C15>=$X$6,$C15<=$Y$6),"Vakantie",IF(AND($C15>=$X$7,$C15<=$Y$7),"Vakantie",IF(OR($C15=$X$20,$C15=$X$21,$C15=$X$22,$C15=$X$23,$C15=$X$24,$C15=$X$25),"Vakantie","")))))) | G15: =IF(AND($C15>=$X$8,$C15<=$Y$8),"Vakantie",IF(AND($C15>=$X$9,$C15<=$Y$9),"Vakantie",IF(AND($C15>=$X$10,$C15<=$Y$10),"Vakantie",IF(AND($C15>=$X$11,$C15<=$Y$11),"Vakantie",IF(AND($C15>=$X$12,$C15<=$Y$12),"Vakantie",IF(OR($C15=$X$20,$C15=$X$21,$C15=$X$22,$C15=$X$23,$C15=$X$24,$C15=$X$25),"Vakantie","")))))) | H15: =IF(AND($C15>=$X$13,$C15<=$Y$13),"Vakantie",IF(AND($C15>=$X$14,$C15<=$Y$14),"Vakantie",IF(AND($C15>=$X$15,$C15<=$Y$15),"Vakantie",IF(AND($C15>=$X$16,$C15<=$Y$16),"Vakantie",IF(AND($C15>=$X$17,$C15<=$Y$17),"Vakantie",IF(OR($C15=$X$20,$C15=$X$21,$C15=$X$22,$C15=$X$23,$C15=$X$24,$C15=$X$25),"Vakantie","")))))) | I15: 2 | J15: =IF(AND(Formulier!$E$44<=C15,Formulier!$O$38>=C15),"Verlof",0) -> 0 | K15: =IF(J15=0,0,IF(F15="",0,1)) -> 0 | L15: =IF(J15=0,0,IF(G15="",0,1)) -> 0 | M15: =IF(J15=0,0,IF(H15="",0,1)) -> 0 | N15: =IF($N$1="Noord",K15,IF($N$1="Midden",L15,M15)) -> 0 | O15: =IF(OR(D15="za",D15="zo"),0,N15) -> 0 | T15: Meivakantie | U15: 41755 | V15: 41764
A16: =E16&B16&D16 -> 20152wo | B16: 2 | C16: =+C15+1 -> 42011 | D16: =+D4 -> wo | E16: =YEAR(C16) -> 2015 | F16: =IF(AND($C16>=$X$3,$C16<=$Y$3),"Vakantie",IF(AND($C16>=$X$4,$C16<=$Y$4),"Vakantie",IF(AND($C16>=$X$5,$C16<=$Y$5),"Vakantie",IF(AND($C16>=$X$6,$C16<=$Y$6),"Vakantie",IF(AND($C16>=$X$7,$C16<=$Y$7),"Vakantie",IF(OR($C16=$X$20,$C16=$X$21,$C16=$X$22,$C16=$X$23,$C16=$X$24,$C16=$X$25),"Vakantie","")))))) | G16: =IF(AND($C16>=$X$8,$C16<=$Y$8),"Vakantie",IF(AND($C16>=$X$9,$C16<=$Y$9),"Vakantie",IF(AND($C16>=$X$10,$C16<=$Y$10),"Vakantie",IF(AND($C16>=$X$11,$C16<=$Y$11),"Vakantie",IF(AND($C16>=$X$12,$C16<=$Y$12),"Vakantie",IF(OR($C16=$X$20,$C16=$X$21,$C16=$X$22,$C16=$X$23,$C16=$X$24,$C16=$X$25),"Vakantie","")))))) | H16: =IF(AND($C16>=$X$13,$C16<=$Y$13),"Vakantie",IF(AND($C16>=$X$14,$C16<=$Y$14),"Vakantie",IF(AND($C16>=$X$15,$C16<=$Y$15),"Vakantie",IF(AND($C16>=$X$16,$C16<=$Y$16),"Vakantie",IF(AND($C16>=$X$17,$C16<=$Y$17),"Vakantie",IF(OR($C16=$X$20,$C16=$X$21,$C16=$X$22,$C16=$X$23,$C16=$X$24,$C16=$X$25),"Vakantie","")))))) | I16: 2 | J16: =IF(AND(Formulier!$E$44<=C16,Formulier!$O$38>=C16),"Verlof",0) -> 0 | K16: =IF(J16=0,0,IF(F16="",0,1)) -> 0 | L16: =IF(J16=0,0,IF(G16="",0,1)) -> 0 | M16: =IF(J16=0,0,IF(H16="",0,1)) -> 0 | N16: =IF($N$1="Noord",K16,IF($N$1="Midden",L16,M16)) -> 0 | O16: =IF(OR(D16="za",D16="zo"),0,N16) -> 0 | T16: Herfstvakantie | U16: 41930 | V16: 41938
A17: =E17&B17&D17 -> 20152do | B17: =+B10+1 -> 2 | C17: =+C16+1 -> 42012 | D17: =+D10 -> do | E17: =YEAR(C17) -> 2015 | F17: =IF(AND($C17>=$X$3,$C17<=$Y$3),"Vakantie",IF(AND($C17>=$X$4,$C17<=$Y$4),"Vakantie",IF(AND($C17>=$X$5,$C17<=$Y$5),"Vakantie",IF(AND($C17>=$X$6,$C17<=$Y$6),"Vakantie",IF(AND($C17>=$X$7,$C17<=$Y$7),"Vakantie",IF(OR($C17=$X$20,$C17=$X$21,$C17=$X$22,$C17=$X$23,$C17=$X$24,$C17=$X$25),"Vakantie","")))))) | G17: =IF(AND($C17>=$X$8,$C17<=$Y$8),"Vakantie",IF(AND($C17>=$X$9,$C17<=$Y$9),"Vakantie",IF(AND($C17>=$X$10,$C17<=$Y$10),"Vakantie",IF(AND($C17>=$X$11,$C17<=$Y$11),"Vakantie",IF(AND($C17>=$X$12,$C17<=$Y$12),"Vakantie",IF(OR($C17=$X$20,$C17=$X$21,$C17=$X$22,$C17=$X$23,$C17=$X$24,$C17=$X$25),"Vakantie","")))))) | H17: =IF(AND($C17>=$X$13,$C17<=$Y$13),"Vakantie",IF(AND($C17>=$X$14,$C17<=$Y$14),"Vakantie",IF(AND($C17>=$X$15,$C17<=$Y$15),"Vakantie",IF(AND($C17>=$X$16,$C17<=$Y$16),"Vakantie",IF(AND($C17>=$X$17,$C17<=$Y$17),"Vakantie",IF(OR($C17=$X$20,$C17=$X$21,$C17=$X$22,$C17=$X$23,$C17=$X$24,$C17=$X$25),"Vakantie","")))))) | I17: =+I10+1 -> 2 | J17: =IF(AND(Formulier!$E$44<=C17,Formulier!$O$38>=C17),"Verlof",0) -> 0 | K17: =IF(J17=0,0,IF(F17="",0,1)) -> 0 | L17: =IF(J17=0,0,IF(G17="",0,1)) -> 0 | M17: =IF(J17=0,0,IF(H17="",0,1)) -> 0 | N17: =IF($N$1="Noord",K17,IF($N$1="Midden",L17,M17)) -> 0 | O17: =IF(OR(D17="za",D17="zo"),0,N17) -> 0 | T17: Kerstvakantie | U17: 41993 | V17: 42008
A18: =E18&B18&D18 -> 20152vr | B18: =+B11+1 -> 2 | C18: =+C17+1 -> 42013 | D18: =+D11 -> vr | E18: =YEAR(C18) -> 2015 | F18: =IF(AND($C18>=$X$3,$C18<=$Y$3),"Vakantie",IF(AND($C18>=$X$4,$C18<=$Y$4),"Vakantie",IF(AND($C18>=$X$5,$C18<=$Y$5),"Vakantie",IF(AND($C18>=$X$6,$C18<=$Y$6),"Vakantie",IF(AND($C18>=$X$7,$C18<=$Y$7),"Vakantie",IF(OR($C18=$X$20,$C18=$X$21,$C18=$X$22,$C18=$X$23,$C18=$X$24,$C18=$X$25),"Vakantie","")))))) | G18: =IF(AND($C18>=$X$8,$C18<=$Y$8),"Vakantie",IF(AND($C18>=$X$9,$C18<=$Y$9),"Vakantie",IF(AND($C18>=$X$10,$C18<=$Y$10),"Vakantie",IF(AND($C18>=$X$11,$C18<=$Y$11),"Vakantie",IF(AND($C18>=$X$12,$C18<=$Y$12),"Vakantie",IF(OR($C18=$X$20,$C18=$X$21,$C18=$X$22,$C18=$X$23,$C18=$X$24,$C18=$X$25),"Vakantie","")))))) | H18: =IF(AND($C18>=$X$13,$C18<=$Y$13),"Vakantie",IF(AND($C18>=$X$14,$C18<=$Y$14),"Vakantie",IF(AND($C18>=$X$15,$C18<=$Y$15),"Vakantie",IF(AND($C18>=$X$16,$C18<=$Y$16),"Vakantie",IF(AND($C18>=$X$17,$C18<=$Y$17),"Vakantie",IF(OR($C18=$X$20,$C18=$X$21,$C18=$X$22,$C18=$X$23,$C18=$X$24,$C18=$X$25),"Vakantie","")))))) | I18: =+I11+1 -> 2 | J18: =IF(AND(Formulier!$E$44<=C18,Formulier!$O$38>=C18),"Verlof",0) -> 0 | K18: =IF(J18=0,0,IF(F18="",0,1)) -> 0 | L18: =IF(J18=0,0,IF(G18="",0,1)) -> 0 | M18: =IF(J18=0,0,IF(H18="",0,1)) -> 0 | N18: =IF($N$1="Noord",K18,IF($N$1="Midden",L18,M18)) -> 0 | O18: =IF(OR(D18="za",D18="zo"),0,N18) -> 0
A19: =E19&B19&D19 -> 20152za | B19: =+B12+1 -> 2 | C19: =+C18+1 -> 42014 | D19: =+D12 -> za | E19: =YEAR(C19) -> 2015 | F19: =IF(AND($C19>=$X$3,$C19<=$Y$3),"Vakantie",IF(AND($C19>=$X$4,$C19<=$Y$4),"Vakantie",IF(AND($C19>=$X$5,$C19<=$Y$5),"Vakantie",IF(AND($C19>=$X$6,$C19<=$Y$6),"Vakantie",IF(AND($C19>=$X$7,$C19<=$Y$7),"Vakantie",IF(OR($C19=$X$20,$C19=$X$21,$C19=$X$22,$C19=$X$23,$C19=$X$24,$C19=$X$25),"Vakantie","")))))) | G19: =IF(AND($C19>=$X$8,$C19<=$Y$8),"Vakantie",IF(AND($C19>=$X$9,$C19<=$Y$9),"Vakantie",IF(AND($C19>=$X$10,$C19<=$Y$10),"Vakantie",IF(AND($C19>=$X$11,$C19<=$Y$11),"Vakantie",IF(AND($C19>=$X$12,$C19<=$Y$12),"Vakantie",IF(OR($C19=$X$20,$C19=$X$21,$C19=$X$22,$C19=$X$23,$C19=$X$24,$C19=$X$25),"Vakantie","")))))) | H19: =IF(AND($C19>=$X$13,$C19<=$Y$13),"Vakantie",IF(AND($C19>=$X$14,$C19<=$Y$14),"Vakantie",IF(AND($C19>=$X$15,$C19<=$Y$15),"Vakantie",IF(AND($C19>=$X$16,$C19<=$Y$16),"Vakantie",IF(AND($C19>=$X$17,$C19<=$Y$17),"Vakantie",IF(OR($C19=$X$20,$C19=$X$21,$C19=$X$22,$C19=$X$23,$C19=$X$24,$C19=$X$25),"Vakantie","")))))) | I19: =+I12+1 -> 2 | J19: =IF(AND(Formulier!$E$44<=C19,Formulier!$O$38>=C19),"Verlof",0) -> 0 | K19: =IF(J19=0,0,IF(F19="",0,1)) -> 0 | L19: =IF(J19=0,0,IF(G19="",0,1)) -> 0 | M19: =IF(J19=0,0,IF(H19="",0,1)) -> 0 | N19: =IF($N$1="Noord",K19,IF($N$1="Midden",L19,M19)) -> 0 | O19: =IF(OR(D19="za",D19="zo"),0,N19) -> 0
A20: =E20&B20&D20 -> 20152zo | B20: =+B13+1 -> 2 | C20: =+C19+1 -> 42015 | D20: =+D13 -> zo | E20: =YEAR(C20) -> 2015 | F20: =IF(AND($C20>=$X$3,$C20<=$Y$3),"Vakantie",IF(AND($C20>=$X$4,$C20<=$Y$4),"Vakantie",IF(AND($C20>=$X$5,$C20<=$Y$5),"Vakantie",IF(AND($C20>=$X$6,$C20<=$Y$6),"Vakantie",IF(AND($C20>=$X$7,$C20<=$Y$7),"Vakantie",IF(OR($C20=$X$20,$C20=$X$21,$C20=$X$22,$C20=$X$23,$C20=$X$24,$C20=$X$25),"Vakantie","")))))) | G20: =IF(AND($C20>=$X$8,$C20<=$Y$8),"Vakantie",IF(AND($C20>=$X$9,$C20<=$Y$9),"Vakantie",IF(AND($C20>=$X$10,$C20<=$Y$10),"Vakantie",IF(AND($C20>=$X$11,$C20<=$Y$11),"Vakantie",IF(AND($C20>=$X$12,$C20<=$Y$12),"Vakantie",IF(OR($C20=$X$20,$C20=$X$21,$C20=$X$22,$C20=$X$23,$C20=$X$24,$C20=$X$25),"Vakantie","")))))) | H20: =IF(AND($C20>=$X$13,$C20<=$Y$13),"Vakantie",IF(AND($C20>=$X$14,$C20<=$Y$14),"Vakantie",IF(AND($C20>=$X$15,$C20<=$Y$15),"Vakantie",IF(AND($C20>=$X$16,$C20<=$Y$16),"Vakantie",IF(AND($C20>=$X$17,$C20<=$Y$17),"Vakantie",IF(OR($C20=$X$20,$C20=$X$21,$C20=$X$22,$C20=$X$23,$C20=$X$24,$C20=$X$25),"Vakantie","")))))) | I20: =+I13+1 -> 2 | J20: =IF(AND(Formulier!$E$44<=C20,Formulier!$O$38>=C20),"Verlof",0) -> 0 | K20: =IF(J20=0,0,IF(F20="",0,1)) -> 0 | L20: =IF(J20=0,0,IF(G20="",0,1)) -> 0 | M20: =IF(J20=0,0,IF(H20="",0,1)) -> 0 | N20: =IF($N$1="Noord",K20,IF($N$1="Midden",L20,M20)) -> 0 | O20: =IF(OR(D20="za",D20="zo"),0,N20) -> 0 | S20: Mei vakantie
A21: =E21&B21&D21 -> 20153ma | B21: =+B14+1 -> 3 | C21: =+C20+1 -> 42016 | D21: =+D14 -> ma | E21: =YEAR(C21) -> 2015 | F21: =IF(AND($C21>=$X$3,$C21<=$Y$3),"Vakantie",IF(AND($C21>=$X$4,$C21<=$Y$4),"Vakantie",IF(AND($C21>=$X$5,$C21<=$Y$5),"Vakantie",IF(AND($C21>=$X$6,$C21<=$Y$6),"Vakantie",IF(AND($C21>=$X$7,$C21<=$Y$7),"Vakantie",IF(OR($C21=$X$20,$C21=$X$21,$C21=$X$22,$C21=$X$23,$C21=$X$24,$C21=$X$25),"Vakantie","")))))) | G21: =IF(AND($C21>=$X$8,$C21<=$Y$8),"Vakantie",IF(AND($C21>=$X$9,$C21<=$Y$9),"Vakantie",IF(AND($C21>=$X$10,$C21<=$Y$10),"Vakantie",IF(AND($C21>=$X$11,$C21<=$Y$11),"Vakantie",IF(AND($C21>=$X$12,$C21<=$Y$12),"Vakantie",IF(OR($C21=$X$20,$C21=$X$21,$C21=$X$22,$C21=$X$23,$C21=$X$24,$C21=$X$25),"Vakantie","")))))) | H21: =IF(AND($C21>=$X$13,$C21<=$Y$13),"Vakantie",IF(AND($C21>=$X$14,$C21<=$Y$14),"Vakantie",IF(AND($C21>=$X$15,$C21<=$Y$15),"Vakantie",IF(AND($C21>=$X$16,$C21<=$Y$16),"Vakantie",IF(AND($C21>=$X$17,$C21<=$Y$17),"Vakantie",IF(OR($C21=$X$20,$C21=$X$21,$C21=$X$22,$C21=$X$23,$C21=$X$24,$C21=$X$25),"Vakantie","")))))) | I21: =+I14+1 -> 3 | J21: =IF(AND(Formulier!$E$44<=C21,Formulier!$O$38>=C21),"Verlof",0) -> 0 | K21: =IF(J21=0,0,IF(F21="",0,1)) -> 0 | L21: =IF(J21=0,0,IF(G21="",0,1)) -> 0 | M21: =IF(J21=0,0,IF(H21="",0,1)) -> 0 | N21: =IF($N$1="Noord",K21,IF($N$1="Midden",L21,M21)) -> 0 | O21: =IF(OR(D21="za",D21="zo"),0,N21) -> 0 | S21: 1 week
A22: =E22&B22&D22 -> 20153di | B22: =+B15+1 -> 3 | C22: =+C21+1 -> 42017 | D22: =+D15 -> di | E22: =YEAR(C22) -> 2015 | F22: =IF(AND($C22>=$X$3,$C22<=$Y$3),"Vakantie",IF(AND($C22>=$X$4,$C22<=$Y$4),"Vakantie",IF(AND($C22>=$X$5,$C22<=$Y$5),"Vakantie",IF(AND($C22>=$X$6,$C22<=$Y$6),"Vakantie",IF(AND($C22>=$X$7,$C22<=$Y$7),"Vakantie",IF(OR($C22=$X$20,$C22=$X$21,$C22=$X$22,$C22=$X$23,$C22=$X$24,$C22=$X$25),"Vakantie","")))))) | G22: =IF(AND($C22>=$X$8,$C22<=$Y$8),"Vakantie",IF(AND($C22>=$X$9,$C22<=$Y$9),"Vakantie",IF(AND($C22>=$X$10,$C22<=$Y$10),"Vakantie",IF(AND($C22>=$X$11,$C22<=$Y$11),"Vakantie",IF(AND($C22>=$X$12,$C22<=$Y$12),"Vakantie",IF(OR($C22=$X$20,$C22=$X$21,$C22=$X$22,$C22=$X$23,$C22=$X$24,$C22=$X$25),"Vakantie","")))))) | H22: =IF(AND($C22>=$X$13,$C22<=$Y$13),"Vakantie",IF(AND($C22>=$X$14,$C22<=$Y$14),"Vakantie",IF(AND($C22>=$X$15,$C22<=$Y$15),"Vakantie",IF(AND($C22>=$X$16,$C22<=$Y$16),"Vakantie",IF(AND($C22>=$X$17,$C22<=$Y$17),"Vakantie",IF(OR($C22=$X$20,$C22=$X$21,$C22=$X$22,$C22=$X$23,$C22=$X$24,$C22=$X$25),"Vakantie","")))))) | I22: =+I15+1 -> 3 | J22: =IF(AND(Formulier!$E$44<=C22,Formulier!$O$38>=C22),"Verlof",0) -> 0 | K22: =IF(J22=0,0,IF(F22="",0,1)) -> 0 | L22: =IF(J22=0,0,IF(G22="",0,1)) -> 0 | M22: =IF(J22=0,0,IF(H22="",0,1)) -> 0 | N22: =IF($N$1="Noord",K22,IF($N$1="Midden",L22,M22)) -> 0 | O22: =IF(OR(D22="za",D22="zo"),0,N22) -> 0 | S22: 2 weken
A23: =E23&B23&D23 -> 20153wo | B23: =+B16+1 -> 3 | C23: =+C22+1 -> 42018 | D23: =+D16 -> wo | E23: =YEAR(C23) -> 2015 | F23: =IF(AND($C23>=$X$3,$C23<=$Y$3),"Vakantie",IF(AND($C23>=$X$4,$C23<=$Y$4),"Vakantie",IF(AND($C23>=$X$5,$C23<=$Y$5),"Vakantie",IF(AND($C23>=$X$6,$C23<=$Y$6),"Vakantie",IF(AND($C23>=$X$7,$C23<=$Y$7),"Vakantie",IF(OR($C23=$X$20,$C23=$X$21,$C23=$X$22,$C23=$X$23,$C23=$X$24,$C23=$X$25),"Vakantie","")))))) | G23: =IF(AND($C23>=$X$8,$C23<=$Y$8),"Vakantie",IF(AND($C23>=$X$9,$C23<=$Y$9),"Vakantie",IF(AND($C23>=$X$10,$C23<=$Y$10),"Vakantie",IF(AND($C23>=$X$11,$C23<=$Y$11),"Vakantie",IF(AND($C23>=$X$12,$C23<=$Y$12),"Vakantie",IF(OR($C23=$X$20,$C23=$X$21,$C23=$X$22,$C23=$X$23,$C23=$X$24,$C23=$X$25),"Vakantie","")))))) | H23: =IF(AND($C23>=$X$13,$C23<=$Y$13),"Vakantie",IF(AND($C23>=$X$14,$C23<=$Y$14),"Vakantie",IF(AND($C23>=$X$15,$C23<=$Y$15),"Vakantie",IF(AND($C23>=$X$16,$C23<=$Y$16),"Vakantie",IF(AND($C23>=$X$17,$C23<=$Y$17),"Vakantie",IF(OR($C23=$X$20,$C23=$X$21,$C23=$X$22,$C23=$X$23,$C23=$X$24,$C23=$X$25),"Vakantie","")))))) | I23: =+I16+1 -> 3 | J23: =IF(AND(Formulier!$E$44<=C23,Formulier!$O$38>=C23),"Verlof",0) -> 0 | K23: =IF(J23=0,0,IF(F23="",0,1)) -> 0 | L23: =IF(J23=0,0,IF(G23="",0,1)) -> 0 | M23: =IF(J23=0,0,IF(H23="",0,1)) -> 0 | N23: =IF($N$1="Noord",K23,IF($N$1="Midden",L23,M23)) -> 0 | O23: =IF(OR(D23="za",D23="zo"),0,N23) -> 0 | S23: Goedevrijdag
A24: =E24&B24&D24 -> 20153do | B24: =+B17+1 -> 3 | C24: =+C23+1 -> 42019 | D24: =+D17 -> do | E24: =YEAR(C24) -> 2015 | F24: =IF(AND($C24>=$X$3,$C24<=$Y$3),"Vakantie",IF(AND($C24>=$X$4,$C24<=$Y$4),"Vakantie",IF(AND($C24>=$X$5,$C24<=$Y$5),"Vakantie",IF(AND($C24>=$X$6,$C24<=$Y$6),"Vakantie",IF(AND($C24>=$X$7,$C24<=$Y$7),"Vakantie",IF(OR($C24=$X$20,$C24=$X$21,$C24=$X$22,$C24=$X$23,$C24=$X$24,$C24=$X$25),"Vakantie","")))))) | G24: =IF(AND($C24>=$X$8,$C24<=$Y$8),"Vakantie",IF(AND($C24>=$X$9,$C24<=$Y$9),"Vakantie",IF(AND($C24>=$X$10,$C24<=$Y$10),"Vakantie",IF(AND($C24>=$X$11,$C24<=$Y$11),"Vakantie",IF(AND($C24>=$X$12,$C24<=$Y$12),"Vakantie",IF(OR($C24=$X$20,$C24=$X$21,$C24=$X$22,$C24=$X$23,$C24=$X$24,$C24=$X$25),"Vakantie","")))))) | H24: =IF(AND($C24>=$X$13,$C24<=$Y$13),"Vakantie",IF(AND($C24>=$X$14,$C24<=$Y$14),"Vakantie",IF(AND($C24>=$X$15,$C24<=$Y$15),"Vakantie",IF(AND($C24>=$X$16,$C24<=$Y$16),"Vakantie",IF(AND($C24>=$X$17,$C24<=$Y$17),"Vakantie",IF(OR($C24=$X$20,$C24=$X$21,$C24=$X$22,$C24=$X$23,$C24=$X$24,$C24=$X$25),"Vakantie","")))))) | I24: =+I17+1 -> 3 | J24: =IF(AND(Formulier!$E$44<=C24,Formulier!$O$38>=C24),"Verlof",0) -> 0 | K24: =IF(J24=0,0,IF(F24="",0,1)) -> 0 | L24: =IF(J24=0,0,IF(G24="",0,1)) -> 0 | M24: =IF(J24=0,0,IF(H24="",0,1)) -> 0 | N24: =IF($N$1="Noord",K24,IF($N$1="Midden",L24,M24)) -> 0 | O24: =IF(OR(D24="za",D24="zo"),0,N24) -> 0 | S24: 2e Paasdag
A25: =E25&B25&D25 -> 20153vr | B25: =+B18+1 -> 3 | C25: =+C24+1 -> 42020 | D25: =+D18 -> vr | E25: =YEAR(C25) -> 2015 | F25: =IF(AND($C25>=$X$3,$C25<=$Y$3),"Vakantie",IF(AND($C25>=$X$4,$C25<=$Y$4),"Vakantie",IF(AND($C25>=$X$5,$C25<=$Y$5),"Vakantie",IF(AND($C25>=$X$6,$C25<=$Y$6),"Vakantie",IF(AND($C25>=$X$7,$C25<=$Y$7),"Vakantie",IF(OR($C25=$X$20,$C25=$X$21,$C25=$X$22,$C25=$X$23,$C25=$X$24,$C25=$X$25),"Vakantie","")))))) | G25: =IF(AND($C25>=$X$8,$C25<=$Y$8),"Vakantie",IF(AND($C25>=$X$9,$C25<=$Y$9),"Vakantie",IF(AND($C25>=$X$10,$C25<=$Y$10),"Vakantie",IF(AND($C25>=$X$11,$C25<=$Y$11),"Vakantie",IF(AND($C25>=$X$12,$C25<=$Y$12),"Vakantie",IF(OR($C25=$X$20,$C25=$X$21,$C25=$X$22,$C25=$X$23,$C25=$X$24,$C25=$X$25),"Vakantie","")))))) | H25: =IF(AND($C25>=$X$13,$C25<=$Y$13),"Vakantie",IF(AND($C25>=$X$14,$C25<=$Y$14),"Vakantie",IF(AND($C25>=$X$15,$C25<=$Y$15),"Vakantie",IF(AND($C25>=$X$16,$C25<=$Y$16),"Vakantie",IF(AND($C25>=$X$17,$C25<=$Y$17),"Vakantie",IF(OR($C25=$X$20,$C25=$X$21,$C25=$X$22,$C25=$X$23,$C25=$X$24,$C25=$X$25),"Vakantie","")))))) | I25: =+I18+1 -> 3 | J25: =IF(AND(Formulier!$E$44<=C25,Formulier!$O$38>=C25),"Verlof",0) -> 0 | K25: =IF(J25=0,0,IF(F25="",0,1)) -> 0 | L25: =IF(J25=0,0,IF(G25="",0,1)) -> 0 | M25: =IF(J25=0,0,IF(H25="",0,1)) -> 0 | N25: =IF($N$1="Noord",K25,IF($N$1="Midden",L25,M25)) -> 0 | O25: =IF(OR(D25="za",D25="zo"),0,N25) -> 0 | S25: Hemelvaartsdag
A26: =E26&B26&D26 -> 20153za | B26: =+B19+1 -> 3 | C26: =+C25+1 -> 42021 | D26: =+D19 -> za | E26: =YEAR(C26) -> 2015 | F26: =IF(AND($C26>=$X$3,$C26<=$Y$3),"Vakantie",IF(AND($C26>=$X$4,$C26<=$Y$4),"Vakantie",IF(AND($C26>=$X$5,$C26<=$Y$5),"Vakantie",IF(AND($C26>=$X$6,$C26<=$Y$6),"Vakantie",IF(AND($C26>=$X$7,$C26<=$Y$7),"Vakantie",IF(OR($C26=$X$20,$C26=$X$21,$C26=$X$22,$C26=$X$23,$C26=$X$24,$C26=$X$25),"Vakantie","")))))) | G26: =IF(AND($C26>=$X$8,$C26<=$Y$8),"Vakantie",IF(AND($C26>=$X$9,$C26<=$Y$9),"Vakantie",IF(AND($C26>=$X$10,$C26<=$Y$10),"Vakantie",IF(AND($C26>=$X$11,$C26<=$Y$11),"Vakantie",IF(AND($C26>=$X$12,$C26<=$Y$12),"Vakantie",IF(OR($C26=$X$20,$C26=$X$21,$C26=$X$22,$C26=$X$23,$C26=$X$24,$C26=$X$25),"Vakantie","")))))) | H26: =IF(AND($C26>=$X$13,$C26<=$Y$13),"Vakantie",IF(AND($C26>=$X$14,$C26<=$Y$14),"Vakantie",IF(AND($C26>=$X$15,$C26<=$Y$15),"Vakantie",IF(AND($C26>=$X$16,$C26<=$Y$16),"Vakantie",IF(AND($C26>=$X$17,$C26<=$Y$17),"Vakantie",IF(OR($C26=$X$20,$C26=$X$21,$C26=$X$22,$C26=$X$23,$C26=$X$24,$C26=$X$25),"Vakantie","")))))) | I26: =+I19+1 -> 3 | J26: =IF(AND(Formulier!$E$44<=C26,Formulier!$O$38>=C26),"Verlof",0) -> 0 | K26: =IF(J26=0,0,IF(F26="",0,1)) -> 0 | L26: =IF(J26=0,0,IF(G26="",0,1)) -> 0 | M26: =IF(J26=0,0,IF(H26="",0,1)) -> 0 | N26: =IF($N$1="Noord",K26,IF($N$1="Midden",L26,M26)) -> 0 | O26: =IF(OR(D26="za",D26="zo"),0,N26) -> 0 | S26: 2e Pinksterdag
A27: =E27&B27&D27 -> 20153zo | B27: =+B20+1 -> 3 | C27: =+C26+1 -> 42022 | D27: =+D20 -> zo | E27: =YEAR(C27) -> 2015 | F27: =IF(AND($C27>=$X$3,$C27<=$Y$3),"Vakantie",IF(AND($C27>=$X$4,$C27<=$Y$4),"Vakantie",IF(AND($C27>=$X$5,$C27<=$Y$5),"Vakantie",IF(AND($C27>=$X$6,$C27<=$Y$6),"Vakantie",IF(AND($C27>=$X$7,$C27<=$Y$7),"Vakantie",IF(OR($C27=$X$20,$C27=$X$21,$C27=$X$22,$C27=$X$23,$C27=$X$24,$C27=$X$25),"Vakantie","")))))) | G27: =IF(AND($C27>=$X$8,$C27<=$Y$8),"Vakantie",IF(AND($C27>=$X$9,$C27<=$Y$9),"Vakantie",IF(AND($C27>=$X$10,$C27<=$Y$10),"Vakantie",IF(AND($C27>=$X$11,$C27<=$Y$11),"Vakantie",IF(AND($C27>=$X$12,$C27<=$Y$12),"Vakantie",IF(OR($C27=$X$20,$C27=$X$21,$C27=$X$22,$C27=$X$23,$C27=$X$24,$C27=$X$25),"Vakantie","")))))) | H27: =IF(AND($C27>=$X$13,$C27<=$Y$13),"Vakantie",IF(AND($C27>=$X$14,$C27<=$Y$14),"Vakantie",IF(AND($C27>=$X$15,$C27<=$Y$15),"Vakantie",IF(AND($C27>=$X$16,$C27<=$Y$16),"Vakantie",IF(AND($C27>=$X$17,$C27<=$Y$17),"Vakantie",IF(OR($C27=$X$20,$C27=$X$21,$C27=$X$22,$C27=$X$23,$C27=$X$24,$C27=$X$25),"Vakantie","")))))) | I27: =+I20+1 -> 3 | J27: =IF(AND(Formulier!$E$44<=C27,Formulier!$O$38>=C27),"Verlof",0) -> 0 | K27: =IF(J27=0,0,IF(F27="",0,1)) -> 0 | L27: =IF(J27=0,0,IF(G27="",0,1)) -> 0 | M27: =IF(J27=0,0,IF(H27="",0,1)) -> 0 | N27: =IF($N$1="Noord",K27,IF($N$1="Midden",L27,M27)) -> 0 | O27: =IF(OR(D27="za",D27="zo"),0,N27) -> 0
A28: =E28&B28&D28 -> 20154ma | B28: =+B21+1 -> 4 | C28: =+C27+1 -> 42023 | D28: =+D21 -> ma | E28: =YEAR(C28) -> 2015 | F28: =IF(AND($C28>=$X$3,$C28<=$Y$3),"Vakantie",IF(AND($C28>=$X$4,$C28<=$Y$4),"Vakantie",IF(AND($C28>=$X$5,$C28<=$Y$5),"Vakantie",IF(AND($C28>=$X$6,$C28<=$Y$6),"Vakantie",IF(AND($C28>=$X$7,$C28<=$Y$7),"Vakantie",IF(OR($C28=$X$20,$C28=$X$21,$C28=$X$22,$C28=$X$23,$C28=$X$24,$C28=$X$25),"Vakantie","")))))) | G28: =IF(AND($C28>=$X$8,$C28<=$Y$8),"Vakantie",IF(AND($C28>=$X$9,$C28<=$Y$9),"Vakantie",IF(AND($C28>=$X$10,$C28<=$Y$10),"Vakantie",IF(AND($C28>=$X$11,$C28<=$Y$11),"Vakantie",IF(AND($C28>=$X$12,$C28<=$Y$12),"Vakantie",IF(OR($C28=$X$20,$C28=$X$21,$C28=$X$22,$C28=$X$23,$C28=$X$24,$C28=$X$25),"Vakantie","")))))) | H28: =IF(AND($C28>=$X$13,$C28<=$Y$13),"Vakantie",IF(AND($C28>=$X$14,$C28<=$Y$14),"Vakantie",IF(AND($C28>=$X$15,$C28<=$Y$15),"Vakantie",IF(AND($C28>=$X$16,$C28<=$Y$16),"Vakantie",IF(AND($C28>=$X$17,$C28<=$Y$17),"Vakantie",IF(OR($C28=$X$20,$C28=$X$21,$C28=$X$22,$C28=$X$23,$C28=$X$24,$C28=$X$25),"Vakantie","")))))) | I28: =+I21+1 -> 4 | J28: =IF(AND(Formulier!$E$44<=C28,Formulier!$O$38>=C28),"Verlof",0) -> 0 | K28: =IF(J28=0,0,IF(F28="",0,1)) -> 0 | L28: =IF(J28=0,0,IF(G28="",0,1)) -> 0 | M28: =IF(J28=0,0,IF(H28="",0,1)) -> 0 | N28: =IF($N$1="Noord",K28,IF($N$1="Midden",L28,M28)) -> 0 | O28: =IF(OR(D28="za",D28="zo"),0,N28) -> 0
A29: =E29&B29&D29 -> 20154di | B29: =+B22+1 -> 4 | C29: =+C28+1 -> 42024 | D29: =+D22 -> di | E29: =YEAR(C29) -> 2015 | F29: =IF(AND($C29>=$X$3,$C29<=$Y$3),"Vakantie",IF(AND($C29>=$X$4,$C29<=$Y$4),"Vakantie",IF(AND($C29>=$X$5,$C29<=$Y$5),"Vakantie",IF(AND($C29>=$X$6,$C29<=$Y$6),"Vakantie",IF(AND($C29>=$X$7,$C29<=$Y$7),"Vakantie",IF(OR($C29=$X$20,$C29=$X$21,$C29=$X$22,$C29=$X$23,$C29=$X$24,$C29=$X$25),"Vakantie","")))))) | G29: =IF(AND($C29>=$X$8,$C29<=$Y$8),"Vakantie",IF(AND($C29>=$X$9,$C29<=$Y$9),"Vakantie",IF(AND($C29>=$X$10,$C29<=$Y$10),"Vakantie",IF(AND($C29>=$X$11,$C29<=$Y$11),"Vakantie",IF(AND($C29>=$X$12,$C29<=$Y$12),"Vakantie",IF(OR($C29=$X$20,$C29=$X$21,$C29=$X$22,$C29=$X$23,$C29=$X$24,$C29=$X$25),"Vakantie","")))))) | H29: =IF(AND($C29>=$X$13,$C29<=$Y$13),"Vakantie",IF(AND($C29>=$X$14,$C29<=$Y$14),"Vakantie",IF(AND($C29>=$X$15,$C29<=$Y$15),"Vakantie",IF(AND($C29>=$X$16,$C29<=$Y$16),"Vakantie",IF(AND($C29>=$X$17,$C29<=$Y$17),"Vakantie",IF(OR($C29=$X$20,$C29=$X$21,$C29=$X$22,$C29=$X$23,$C29=$X$24,$C29=$X$25),"Vakantie","")))))) | I29: =+I22+1 -> 4 | J29: =IF(AND(Formulier!$E$44<=C29,Formulier!$O$38>=C29),"Verlof",0) -> 0 | K29: =IF(J29=0,0,IF(F29="",0,1)) -> 0 | L29: =IF(J29=0,0,IF(G29="",0,1)) -> 0 | M29: =IF(J29=0,0,IF(H29="",0,1)) -> 0 | N29: =IF($N$1="Noord",K29,IF($N$1="Midden",L29,M29)) -> 0 | O29: =IF(OR(D29="za",D29="zo"),0,N29) -> 0
A30: =E30&B30&D30 -> 20154wo | B30: =+B23+1 -> 4 | C30: =+C29+1 -> 42025 | D30: =+D23 -> wo | E30: =YEAR(C30) -> 2015 | F30: =IF(AND($C30>=$X$3,$C30<=$Y$3),"Vakantie",IF(AND($C30>=$X$4,$C30<=$Y$4),"Vakantie",IF(AND($C30>=$X$5,$C30<=$Y$5),"Vakantie",IF(AND($C30>=$X$6,$C30<=$Y$6),"Vakantie",IF(AND($C30>=$X$7,$C30<=$Y$7),"Vakantie",IF(OR($C30=$X$20,$C30=$X$21,$C30=$X$22,$C30=$X$23,$C30=$X$24,$C30=$X$25),"Vakantie","")))))) | G30: =IF(AND($C30>=$X$8,$C30<=$Y$8),"Vakantie",IF(AND($C30>=$X$9,$C30<=$Y$9),"Vakantie",IF(AND($C30>=$X$10,$C30<=$Y$10),"Vakantie",IF(AND($C30>=$X$11,$C30<=$Y$11),"Vakantie",IF(AND($C30>=$X$12,$C30<=$Y$12),"Vakantie",IF(OR($C30=$X$20,$C30=$X$21,$C30=$X$22,$C30=$X$23,$C30=$X$24,$C30=$X$25),"Vakantie","")))))) | H30: =IF(AND($C30>=$X$13,$C30<=$Y$13),"Vakantie",IF(AND($C30>=$X$14,$C30<=$Y$14),"Vakantie",IF(AND($C30>=$X$15,$C30<=$Y$15),"Vakantie",IF(AND($C30>=$X$16,$C30<=$Y$16),"Vakantie",IF(AND($C30>=$X$17,$C30<=$Y$17),"Vakantie",IF(OR($C30=$X$20,$C30=$X$21,$C30=$X$22,$C30=$X$23,$C30=$X$24,$C30=$X$25),"Vakantie","")))))) | I30: =+I23+1 -> 4 | J30: =IF(AND(Formulier!$E$44<=C30,Formulier!$O$38>=C30),"Verlof",0) -> 0 | K30: =IF(J30=0,0,IF(F30="",0,1)) -> 0 | L30: =IF(J30=0,0,IF(G30="",0,1)) -> 0 | M30: =IF(J30=0,0,IF(H30="",0,1)) -> 0 | N30: =IF($N$1="Noord",K30,IF($N$1="Midden",L30,M30)) -> 0 | O30: =IF(OR(D30="za",D30="zo"),0,N30) -> 0
A31: =E31&B31&D31 -> 20154do | B31: =+B24+1 -> 4 | C31: =+C30+1 -> 42026 | D31: =+D24 -> do | E31: =YEAR(C31) -> 2015 | F31: =IF(AND($C31>=$X$3,$C31<=$Y$3),"Vakantie",IF(AND($C31>=$X$4,$C31<=$Y$4),"Vakantie",IF(AND($C31>=$X$5,$C31<=$Y$5),"Vakantie",IF(AND($C31>=$X$6,$C31<=$Y$6),"Vakantie",IF(AND($C31>=$X$7,$C31<=$Y$7),"Vakantie",IF(OR($C31=$X$20,$C31=$X$21,$C31=$X$22,$C31=$X$23,$C31=$X$24,$C31=$X$25),"Vakantie","")))))) | G31: =IF(AND($C31>=$X$8,$C31<=$Y$8),"Vakantie",IF(AND($C31>=$X$9,$C31<=$Y$9),"Vakantie",IF(AND($C31>=$X$10,$C31<=$Y$10),"Vakantie",IF(AND($C31>=$X$11,$C31<=$Y$11),"Vakantie",IF(AND($C31>=$X$12,$C31<=$Y$12),"Vakantie",IF(OR($C31=$X$20,$C31=$X$21,$C31=$X$22,$C31=$X$23,$C31=$X$24,$C31=$X$25),"Vakantie","")))))) | H31: =IF(AND($C31>=$X$13,$C31<=$Y$13),"Vakantie",IF(AND($C31>=$X$14,$C31<=$Y$14),"Vakantie",IF(AND($C31>=$X$15,$C31<=$Y$15),"Vakantie",IF(AND($C31>=$X$16,$C31<=$Y$16),"Vakantie",IF(AND($C31>=$X$17,$C31<=$Y$17),"Vakantie",IF(OR($C31=$X$20,$C31=$X$21,$C31=$X$22,$C31=$X$23,$C31=$X$24,$C31=$X$25),"Vakantie","")))))) | I31: =+I24+1 -> 4 | J31: =IF(AND(Formulier!$E$44<=C31,Formulier!$O$38>=C31),"Verlof",0) -> 0 | K31: =IF(J31=0,0,IF(F31="",0,1)) -> 0 | L31: =IF(J31=0,0,IF(G31="",0,1)) -> 0 | M31: =IF(J31=0,0,IF(H31="",0,1)) -> 0 | N31: =IF($N$1="Noord",K31,IF($N$1="Midden",L31,M31)) -> 0 | O31: =IF(OR(D31="za",D31="zo"),0,N31) -> 0
A32: =E32&B32&D32 -> 20154vr | B32: =+B25+1 -> 4 | C32: =+C31+1 -> 42027 | D32: =+D25 -> vr | E32: =YEAR(C32) -> 2015 | F32: =IF(AND($C32>=$X$3,$C32<=$Y$3),"Vakantie",IF(AND($C32>=$X$4,$C32<=$Y$4),"Vakantie",IF(AND($C32>=$X$5,$C32<=$Y$5),"Vakantie",IF(AND($C32>=$X$6,$C32<=$Y$6),"Vakantie",IF(AND($C32>=$X$7,$C32<=$Y$7),"Vakantie",IF(OR($C32=$X$20,$C32=$X$21,$C32=$X$22,$C32=$X$23,$C32=$X$24,$C32=$X$25),"Vakantie","")))))) | G32: =IF(AND($C32>=$X$8,$C32<=$Y$8),"Vakantie",IF(AND($C32>=$X$9,$C32<=$Y$9),"Vakantie",IF(AND($C32>=$X$10,$C32<=$Y$10),"Vakantie",IF(AND($C32>=$X$11,$C32<=$Y$11),"Vakantie",IF(AND($C32>=$X$12,$C32<=$Y$12),"Vakantie",IF(OR($C32=$X$20,$C32=$X$21,$C32=$X$22,$C32=$X$23,$C32=$X$24,$C32=$X$25),"Vakantie","")))))) | H32: =IF(AND($C32>=$X$13,$C32<=$Y$13),"Vakantie",IF(AND($C32>=$X$14,$C32<=$Y$14),"Vakantie",IF(AND($C32>=$X$15,$C32<=$Y$15),"Vakantie",IF(AND($C32>=$X$16,$C32<=$Y$16),"Vakantie",IF(AND($C32>=$X$17,$C32<=$Y$17),"Vakantie",IF(OR($C32=$X$20,$C32=$X$21,$C32=$X$22,$C32=$X$23,$C32=$X$24,$C32=$X$25),"Vakantie","")))))) | I32: =+I25+1 -> 4 | J32: =IF(AND(Formulier!$E$44<=C32,Formulier!$O$38>=C32),"Verlof",0) -> 0 | K32: =IF(J32=0,0,IF(F32="",0,1)) -> 0 | L32: =IF(J32=0,0,IF(G32="",0,1)) -> 0 | M32: =IF(J32=0,0,IF(H32="",0,1)) -> 0 | N32: =IF($N$1="Noord",K32,IF($N$1="Midden",L32,M32)) -> 0 | O32: =IF(OR(D32="za",D32="zo"),0,N32) -> 0
A33: =E33&B33&D33 -> 20154za | B33: =+B26+1 -> 4 | C33: =+C32+1 -> 42028 | D33: =+D26 -> za | E33: =YEAR(C33) -> 2015 | F33: =IF(AND($C33>=$X$3,$C33<=$Y$3),"Vakantie",IF(AND($C33>=$X$4,$C33<=$Y$4),"Vakantie",IF(AND($C33>=$X$5,$C33<=$Y$5),"Vakantie",IF(AND($C33>=$X$6,$C33<=$Y$6),"Vakantie",IF(AND($C33>=$X$7,$C33<=$Y$7),"Vakantie",IF(OR($C33=$X$20,$C33=$X$21,$C33=$X$22,$C33=$X$23,$C33=$X$24,$C33=$X$25),"Vakantie","")))))) | G33: =IF(AND($C33>=$X$8,$C33<=$Y$8),"Vakantie",IF(AND($C33>=$X$9,$C33<=$Y$9),"Vakantie",IF(AND($C33>=$X$10,$C33<=$Y$10),"Vakantie",IF(AND($C33>=$X$11,$C33<=$Y$11),"Vakantie",IF(AND($C33>=$X$12,$C33<=$Y$12),"Vakantie",IF(OR($C33=$X$20,$C33=$X$21,$C33=$X$22,$C33=$X$23,$C33=$X$24,$C33=$X$25),"Vakantie","")))))) | H33: =IF(AND($C33>=$X$13,$C33<=$Y$13),"Vakantie",IF(AND($C33>=$X$14,$C33<=$Y$14),"Vakantie",IF(AND($C33>=$X$15,$C33<=$Y$15),"Vakantie",IF(AND($C33>=$X$16,$C33<=$Y$16),"Vakantie",IF(AND($C33>=$X$17,$C33<=$Y$17),"Vakantie",IF(OR($C33=$X$20,$C33=$X$21,$C33=$X$22,$C33=$X$23,$C33=$X$24,$C33=$X$25),"Vakantie","")))))) | I33: =+I26+1 -> 4 | J33: =IF(AND(Formulier!$E$44<=C33,Formulier!$O$38>=C33),"Verlof",0) -> 0 | K33: =IF(J33=0,0,IF(F33="",0,1)) -> 0 | L33: =IF(J33=0,0,IF(G33="",0,1)) -> 0 | M33: =IF(J33=0,0,IF(H33="",0,1)) -> 0 | N33: =IF($N$1="Noord",K33,IF($N$1="Midden",L33,M33)) -> 0 | O33: =IF(OR(D33="za",D33="zo"),0,N33) -> 0
A34: =E34&B34&D34 -> 20154zo | B34: =+B27+1 -> 4 | C34: =+C33+1 -> 42029 | D34: =+D27 -> zo | E34: =YEAR(C34) -> 2015 | F34: =IF(AND($C34>=$X$3,$C34<=$Y$3),"Vakantie",IF(AND($C34>=$X$4,$C34<=$Y$4),"Vakantie",IF(AND($C34>=$X$5,$C34<=$Y$5),"Vakantie",IF(AND($C34>=$X$6,$C34<=$Y$6),"Vakantie",IF(AND($C34>=$X$7,$C34<=$Y$7),"Vakantie",IF(OR($C34=$X$20,$C34=$X$21,$C34=$X$22,$C34=$X$23,$C34=$X$24,$C34=$X$25),"Vakantie","")))))) | G34: =IF(AND($C34>=$X$8,$C34<=$Y$8),"Vakantie",IF(AND($C34>=$X$9,$C34<=$Y$9),"Vakantie",IF(AND($C34>=$X$10,$C34<=$Y$10),"Vakantie",IF(AND($C34>=$X$11,$C34<=$Y$11),"Vakantie",IF(AND($C34>=$X$12,$C34<=$Y$12),"Vakantie",IF(OR($C34=$X$20,$C34=$X$21,$C34=$X$22,$C34=$X$23,$C34=$X$24,$C34=$X$25),"Vakantie","")))))) | H34: =IF(AND($C34>=$X$13,$C34<=$Y$13),"Vakantie",IF(AND($C34>=$X$14,$C34<=$Y$14),"Vakantie",IF(AND($C34>=$X$15,$C34<=$Y$15),"Vakantie",IF(AND($C34>=$X$16,$C34<=$Y$16),"Vakantie",IF(AND($C34>=$X$17,$C34<=$Y$17),"Vakantie",IF(OR($C34=$X$20,$C34=$X$21,$C34=$X$22,$C34=$X$23,$C34=$X$24,$C34=$X$25),"Vakantie","")))))) | I34: =+I27+1 -> 4 | J34: =IF(AND(Formulier!$E$44<=C34,Formulier!$O$38>=C34),"Verlof",0) -> 0 | K34: =IF(J34=0,0,IF(F34="",0,1)) -> 0 | L34: =IF(J34=0,0,IF(G34="",0,1)) -> 0 | M34: =IF(J34=0,0,IF(H34="",0,1)) -> 0 | N34: =IF($N$1="Noord",K34,IF($N$1="Midden",L34,M34)) -> 0 | O34: =IF(OR(D34="za",D34="zo"),0,N34) -> 0
A35: =E35&B35&D35 -> 20155ma | B35: =+B28+1 -> 5 | C35: =+C34+1 -> 42030 | D35: =+D28 -> ma | E35: =YEAR(C35) -> 2015 | F35: =IF(AND($C35>=$X$3,$C35<=$Y$3),"Vakantie",IF(AND($C35>=$X$4,$C35<=$Y$4),"Vakantie",IF(AND($C35>=$X$5,$C35<=$Y$5),"Vakantie",IF(AND($C35>=$X$6,$C35<=$Y$6),"Vakantie",IF(AND($C35>=$X$7,$C35<=$Y$7),"Vakantie",IF(OR($C35=$X$20,$C35=$X$21,$C35=$X$22,$C35=$X$23,$C35=$X$24,$C35=$X$25),"Vakantie","")))))) | G35: =IF(AND($C35>=$X$8,$C35<=$Y$8),"Vakantie",IF(AND($C35>=$X$9,$C35<=$Y$9),"Vakantie",IF(AND($C35>=$X$10,$C35<=$Y$10),"Vakantie",IF(AND($C35>=$X$11,$C35<=$Y$11),"Vakantie",IF(AND($C35>=$X$12,$C35<=$Y$12),"Vakantie",IF(OR($C35=$X$20,$C35=$X$21,$C35=$X$22,$C35=$X$23,$C35=$X$24,$C35=$X$25),"Vakantie","")))))) | H35: =IF(AND($C35>=$X$13,$C35<=$Y$13),"Vakantie",IF(AND($C35>=$X$14,$C35<=$Y$14),"Vakantie",IF(AND($C35>=$X$15,$C35<=$Y$15),"Vakantie",IF(AND($C35>=$X$16,$C35<=$Y$16),"Vakantie",IF(AND($C35>=$X$17,$C35<=$Y$17),"Vakantie",IF(OR($C35=$X$20,$C35=$X$21,$C35=$X$22,$C35=$X$23,$C35=$X$24,$C35=$X$25),"Vakantie","")))))) | I35: =+I28+1 -> 5 | J35: =IF(AND(Formulier!$E$44<=C35,Formulier!$O$38>=C35),"Verlof",0) -> 0 | K35: =IF(J35=0,0,IF(F35="",0,1)) -> 0 | L35: =IF(J35=0,0,IF(G35="",0,1)) -> 0 | M35: =IF(J35=0,0,IF(H35="",0,1)) -> 0 | N35: =IF($N$1="Noord",K35,IF($N$1="Midden",L35,M35)) -> 0 | O35: =IF(OR(D35="za",D35="zo"),0,N35) -> 0
A36: =E36&B36&D36 -> 20155di | B36: =+B29+1 -> 5 | C36: =+C35+1 -> 42031 | D36: =+D29 -> di | E36: =YEAR(C36) -> 2015 | F36: =IF(AND($C36>=$X$3,$C36<=$Y$3),"Vakantie",IF(AND($C36>=$X$4,$C36<=$Y$4),"Vakantie",IF(AND($C36>=$X$5,$C36<=$Y$5),"Vakantie",IF(AND($C36>=$X$6,$C36<=$Y$6),"Vakantie",IF(AND($C36>=$X$7,$C36<=$Y$7),"Vakantie",IF(OR($C36=$X$20,$C36=$X$21,$C36=$X$22,$C36=$X$23,$C36=$X$24,$C36=$X$25),"Vakantie","")))))) | G36: =IF(AND($C36>=$X$8,$C36<=$Y$8),"Vakantie",IF(AND($C36>=$X$9,$C36<=$Y$9),"Vakantie",IF(AND($C36>=$X$10,$C36<=$Y$10),"Vakantie",IF(AND($C36>=$X$11,$C36<=$Y$11),"Vakantie",IF(AND($C36>=$X$12,$C36<=$Y$12),"Vakantie",IF(OR($C36=$X$20,$C36=$X$21,$C36=$X$22,$C36=$X$23,$C36=$X$24,$C36=$X$25),"Vakantie","")))))) | H36: =IF(AND($C36>=$X$13,$C36<=$Y$13),"Vakantie",IF(AND($C36>=$X$14,$C36<=$Y$14),"Vakantie",IF(AND($C36>=$X$15,$C36<=$Y$15),"Vakantie",IF(AND($C36>=$X$16,$C36<=$Y$16),"Vakantie",IF(AND($C36>=$X$17,$C36<=$Y$17),"Vakantie",IF(OR($C36=$X$20,$C36=$X$21,$C36=$X$22,$C36=$X$23,$C36=$X$24,$C36=$X$25),"Vakantie","")))))) | I36: =+I29+1 -> 5 | J36: =IF(AND(Formulier!$E$44<=C36,Formulier!$O$38>=C36),"Verlof",0) -> 0 | K36: =IF(J36=0,0,IF(F36="",0,1)) -> 0 | L36: =IF(J36=0,0,IF(G36="",0,1)) -> 0 | M36: =IF(J36=0,0,IF(H36="",0,1)) -> 0 | N36: =IF($N$1="Noord",K36,IF($N$1="Midden",L36,M36)) -> 0 | O36: =IF(OR(D36="za",D36="zo"),0,N36) -> 0
A37: =E37&B37&D37 -> 20155wo | B37: =+B30+1 -> 5 | C37: =+C36+1 -> 42032 | D37: =+D30 -> wo | E37: =YEAR(C37) -> 2015 | F37: =IF(AND($C37>=$X$3,$C37<=$Y$3),"Vakantie",IF(AND($C37>=$X$4,$C37<=$Y$4),"Vakantie",IF(AND($C37>=$X$5,$C37<=$Y$5),"Vakantie",IF(AND($C37>=$X$6,$C37<=$Y$6),"Vakantie",IF(AND($C37>=$X$7,$C37<=$Y$7),"Vakantie",IF(OR($C37=$X$20,$C37=$X$21,$C37=$X$22,$C37=$X$23,$C37=$X$24,$C37=$X$25),"Vakantie","")))))) | G37: =IF(AND($C37>=$X$8,$C37<=$Y$8),"Vakantie",IF(AND($C37>=$X$9,$C37<=$Y$9),"Vakantie",IF(AND($C37>=$X$10,$C37<=$Y$10),"Vakantie",IF(AND($C37>=$X$11,$C37<=$Y$11),"Vakantie",IF(AND($C37>=$X$12,$C37<=$Y$12),"Vakantie",IF(OR($C37=$X$20,$C37=$X$21,$C37=$X$22,$C37=$X$23,$C37=$X$24,$C37=$X$25),"Vakantie","")))))) | H37: =IF(AND($C37>=$X$13,$C37<=$Y$13),"Vakantie",IF(AND($C37>=$X$14,$C37<=$Y$14),"Vakantie",IF(AND($C37>=$X$15,$C37<=$Y$15),"Vakantie",IF(AND($C37>=$X$16,$C37<=$Y$16),"Vakantie",IF(AND($C37>=$X$17,$C37<=$Y$17),"Vakantie",IF(OR($C37=$X$20,$C37=$X$21,$C37=$X$22,$C37=$X$23,$C37=$X$24,$C37=$X$25),"Vakantie","")))))) | I37: =+I30+1 -> 5 | J37: =IF(AND(Formulier!$E$44<=C37,Formulier!$O$38>=C37),"Verlof",0) -> 0 | K37: =IF(J37=0,0,IF(F37="",0,1)) -> 0 | L37: =IF(J37=0,0,IF(G37="",0,1)) -> 0 | M37: =IF(J37=0,0,IF(H37="",0,1)) -> 0 | N37: =IF($N$1="Noord",K37,IF($N$1="Midden",L37,M37)) -> 0 | O37: =IF(OR(D37="za",D37="zo"),0,N37) -> 0
A38: =E38&B38&D38 -> 20155do | B38: =+B31+1 -> 5 | C38: =+C37+1 -> 42033 | D38: =+D31 -> do | E38: =YEAR(C38) -> 2015 | F38: =IF(AND($C38>=$X$3,$C38<=$Y$3),"Vakantie",IF(AND($C38>=$X$4,$C38<=$Y$4),"Vakantie",IF(AND($C38>=$X$5,$C38<=$Y$5),"Vakantie",IF(AND($C38>=$X$6,$C38<=$Y$6),"Vakantie",IF(AND($C38>=$X$7,$C38<=$Y$7),"Vakantie",IF(OR($C38=$X$20,$C38=$X$21,$C38=$X$22,$C38=$X$23,$C38=$X$24,$C38=$X$25),"Vakantie","")))))) | G38: =IF(AND($C38>=$X$8,$C38<=$Y$8),"Vakantie",IF(AND($C38>=$X$9,$C38<=$Y$9),"Vakantie",IF(AND($C38>=$X$10,$C38<=$Y$10),"Vakantie",IF(AND($C38>=$X$11,$C38<=$Y$11),"Vakantie",IF(AND($C38>=$X$12,$C38<=$Y$12),"Vakantie",IF(OR($C38=$X$20,$C38=$X$21,$C38=$X$22,$C38=$X$23,$C38=$X$24,$C38=$X$25),"Vakantie","")))))) | H38: =IF(AND($C38>=$X$13,$C38<=$Y$13),"Vakantie",IF(AND($C38>=$X$14,$C38<=$Y$14),"Vakantie",IF(AND($C38>=$X$15,$C38<=$Y$15),"Vakantie",IF(AND($C38>=$X$16,$C38<=$Y$16),"Vakantie",IF(AND($C38>=$X$17,$C38<=$Y$17),"Vakantie",IF(OR($C38=$X$20,$C38=$X$21,$C38=$X$22,$C38=$X$23,$C38=$X$24,$C38=$X$25),"Vakantie","")))))) | I38: =+I31+1 -> 5 | J38: =IF(AND(Formulier!$E$44<=C38,Formulier!$O$38>=C38),"Verlof",0) -> 0 | K38: =IF(J38=0,0,IF(F38="",0,1)) -> 0 | L38: =IF(J38=0,0,IF(G38="",0,1)) -> 0 | M38: =IF(J38=0,0,IF(H38="",0,1)) -> 0 | N38: =IF($N$1="Noord",K38,IF($N$1="Midden",L38,M38)) -> 0 | O38: =IF(OR(D38="za",D38="zo"),0,N38) -> 0
... A374: =E374&B374&D374 -> 201553do | B374: =+B367+1 -> 53 | C374: =+C373+1 -> 42369 | D374: =+D367 -> do | E374: =YEAR(C374) -> 2015 | F374: =IF(AND($C374>=$X$3,$C374<=$Y$3),"Vakantie",IF(AND($C374>=$X$4,$C374<=$Y$4),"Vakantie",IF(AND($C374>=$X$5,$C374<=$Y$5),"Vakantie",IF(AND($C374>=$X$6,$C374<=$Y$6),"Vakantie",IF(AND($C374>=$X$7,$C374<=$Y$7),"Vakantie",IF(OR($C374=$X$20,$C374=$X$21,$C374=$X$22,$C374=$X$23,$C374=$X$24,$C374=$X$25),"Vakantie","")))))) | G374: =IF(AND($C374>=$X$8,$C374<=$Y$8),"Vakantie",IF(AND($C374>=$X$9,$C374<=$Y$9),"Vakantie",IF(AND($C374>=$X$10,$C374<=$Y$10),"Vakantie",IF(AND($C374>=$X$11,$C374<=$Y$11),"Vakantie",IF(AND($C374>=$X$12,$C374<=$Y$12),"Vakantie",IF(OR($C374=$X$20,$C374=$X$21,$C374=$X$22,$C374=$X$23,$C374=$X$24,$C374=$X$25),"Vakantie","")))))) | H374: =IF(AND($C374>=$X$13,$C374<=$Y$13),"Vakantie",IF(AND($C374>=$X$14,$C374<=$Y$14),"Vakantie",IF(AND($C374>=$X$15,$C374<=$Y$15),"Vakantie",IF(AND($C374>=$X$16,$C374<=$Y$16),"Vakantie",IF(AND($C374>=$X$17,$C374<=$Y$17),"Vakantie",IF(OR($C374=$X$20,$C374=$X$21,$C374=$X$22,$C374=$X$23,$C374=$X$24,$C374=$X$25),"Vakantie","")))))) | I374: =+I367+1 -> 53 | J374: =IF(AND(Formulier!$E$44<=C374,Formulier!$O$38>=C374),"Verlof",0) -> 0 | K374: =IF(J374=0,0,IF(F374="",0,1)) -> 0 | L374: =IF(J374=0,0,IF(G374="",0,1)) -> 0 | M374: =IF(J374=0,0,IF(H374="",0,1)) -> 0 | N374: =IF($N$1="Noord",K374,IF($N$1="Midden",L374,M374)) -> 0 | O374: =IF(OR(D374="za",D374="zo"),0,N374) -> 0
A375: =E375&B375&D375 -> 201553vr | B375: 53 | C375: 42370 | D375: vr | E375: 2015 | F375: =IF(AND($C375>=$X$3,$C375<=$Y$3),"Vakantie",IF(AND($C375>=$X$4,$C375<=$Y$4),"Vakantie",IF(AND($C375>=$X$5,$C375<=$Y$5),"Vakantie",IF(AND($C375>=$X$6,$C375<=$Y$6),"Vakantie",IF(AND($C375>=$X$7,$C375<=$Y$7),"Vakantie",IF(OR($C375=$X$20,$C375=$X$21,$C375=$X$22,$C375=$X$23,$C375=$X$24,$C375=$X$25),"Vakantie","")))))) | G375: =IF(AND($C375>=$X$8,$C375<=$Y$8),"Vakantie",IF(AND($C375>=$X$9,$C375<=$Y$9),"Vakantie",IF(AND($C375>=$X$10,$C375<=$Y$10),"Vakantie",IF(AND($C375>=$X$11,$C375<=$Y$11),"Vakantie",IF(AND($C375>=$X$12,$C375<=$Y$12),"Vakantie",IF(OR($C375=$X$20,$C375=$X$21,$C375=$X$22,$C375=$X$23,$C375=$X$24,$C375=$X$25),"Vakantie","")))))) | H375: =IF(AND($C375>=$X$13,$C375<=$Y$13),"Vakantie",IF(AND($C375>=$X$14,$C375<=$Y$14),"Vakantie",IF(AND($C375>=$X$15,$C375<=$Y$15),"Vakantie",IF(AND($C375>=$X$16,$C375<=$Y$16),"Vakantie",IF(AND($C375>=$X$17,$C375<=$Y$17),"Vakantie",IF(OR($C375=$X$20,$C375=$X$21,$C375=$X$22,$C375=$X$23,$C375=$X$24,$C375=$X$25),"Vakantie","")))))) | I375: 53 | J375: =IF(AND(Formulier!$E$44<=C375,Formulier!$O$38>=C375),"Verlof",0) -> 0 | O375: =IF(OR(D375="za",D375="zo"),0,N375) -> 0
...

Sheet Data
A1: Wknr | B1: Wknr | C1: Datum | D1: dag | E1: Jaar | F1: Vakantie Noord | G1: Vakantie Midden | H1: Vakantie Zuid | I1: Wknr | J1: Zwangerschapsverlof | K1: Vakantie Noord | L1: Vakantie Midden | M1: Vakantie Zuid | N1: =Formulier!G33 -> Noord | O1: dagen | P1: Vakantie tijdens vakantie-verlof?
A2: =E2&B2&D2 -> 20231ma | B2: 1 | C2: 44928 | D2: ma | E2: =YEAR(C2) -> 2023 | F2: Vakantie | G2: Vakantie | H2: Vakantie | I2: 1 | J2: =IF(AND(Formulier!$E$44<=C2,Formulier!$O$38>=C2),"Verlof",0) -> 0 | K2: =IF(J2=0,0,IF(F2="",0,1)) -> 0 | L2: =IF(J2=0,0,IF(G2="",0,1)) -> 0 | M2: =IF(J2=0,0,IF(H2="",0,1)) -> 0 | N2: =IF($N$1="Noord",K2,IF($N$1="Midden",L2,M2)) -> 0 | O2: =IF(OR(D2="za",D2="zo"),0,N2) -> 0
A3: =E3&B3&D3 -> 20231di | B3: 1 | C3: 44929 | D3: di | E3: =YEAR(C3) -> 2023 | F3: Vakantie | G3: Vakantie | H3: Vakantie | I3: 1 | J3: =IF(AND(Formulier!$E$44<=C3,Formulier!$O$38>=C3),"Verlof",0) -> 0 | K3: =IF(J3=0,0,IF(F3="",0,1)) -> 0 | L3: =IF(J3=0,0,IF(G3="",0,1)) -> 0 | M3: =IF(J3=0,0,IF(H3="",0,1)) -> 0 | N3: =IF($N$1="Noord",K3,IF($N$1="Midden",L3,M3)) -> 0 | O3: =IF(OR(D3="za",D3="zo"),0,N3) -> 0 | S3: Regio | T3: Noord | U3: Van | V3: Tot en met | X3: Regio | Y3: Midden | Z3: Van | AA3: Tot en met | AC3: Regio | AD3: Zuid | AE3: Van | AF3: Tot en met
A4: =E4&B4&D4 -> 20231wo | B4: 1 | C4: 44930 | D4: wo | E4: =YEAR(C4) -> 2023 | F4: Vakantie | G4: Vakantie | H4: Vakantie | I4: 1 | J4: =IF(AND(Formulier!$E$44<=C4,Formulier!$O$38>=C4),"Verlof",0) -> 0 | K4: =IF(J4=0,0,IF(F4="",0,1)) -> 0 | L4: =IF(J4=0,0,IF(G4="",0,1)) -> 0 | M4: =IF(J4=0,0,IF(H4="",0,1)) -> 0 | N4: =IF($N$1="Noord",K4,IF($N$1="Midden",L4,M4)) -> 0 | O4: =IF(OR(D4="za",D4="zo"),0,N4) -> 0 | S4: 2025 | T4: Zomervakantie | U4: 45850 | V4: 45893 | X4: 2025 | Y4: Zomervakantie | Z4: 45857 | AA4: 45900 | AC4: 2025 | AD4: Zomervakantie | AE4: 45845 | AF4: 45886
A5: =E5&B5&D5 -> 20231do | B5: 1 | C5: 44931 | D5: do | E5: =YEAR(C5) -> 2023 | F5: Vakantie | G5: Vakantie | H5: Vakantie | I5: 1 | J5: =IF(AND(Formulier!$E$44<=C5,Formulier!$O$38>=C5),"Verlof",0) -> 0 | K5: =IF(J5=0,0,IF(F5="",0,1)) -> 0 | L5: =IF(J5=0,0,IF(G5="",0,1)) -> 0 | M5: =IF(J5=0,0,IF(H5="",0,1)) -> 0 | N5: =IF($N$1="Noord",K5,IF($N$1="Midden",L5,M5)) -> 0 | O5: =IF(OR(D5="za",D5="zo"),0,N5) -> 0 | T5: Voorjaarsvakantie | U5: 45703 | V5: 45711 | Y5: Voorjaarsvakantie | Z5: 45710 | AA5: 45718 | AD5: Voorjaarsvakantie | AE5: 45710 | AF5: 45718
A6: =E6&B6&D6 -> 20231vr | B6: 1 | C6: 44932 | D6: vr | E6: =YEAR(C6) -> 2023 | F6: Vakantie | G6: Vakantie | H6: Vakantie | I6: 1 | J6: =IF(AND(Formulier!$E$44<=C6,Formulier!$O$38>=C6),"Verlof",0) -> 0 | K6: =IF(J6=0,0,IF(F6="",0,1)) -> 0 | L6: =IF(J6=0,0,IF(G6="",0,1)) -> 0 | M6: =IF(J6=0,0,IF(H6="",0,1)) -> 0 | N6: =IF($N$1="Noord",K6,IF($N$1="Midden",L6,M6)) -> 0 | O6: =IF(OR(D6="za",D6="zo"),0,N6) -> 0 | T6: Meivakantie | U6: 45773 | V6: 45781 | Y6: Meivakantie | Z6: 45773 | AA6: 45781 | AD6: Meivakantie | AE6: 45773 | AF6: 45781
