Workbook

Sheet Formulier
C3: BEREKENING ZWANGERSCHAPSVERLOF PO 2025-2027 1.0 | R3: Noord | S3: Ja | T3: 1
R4: Midden | S4: Nee | T4: 2
R5: Zuid
B6: Bestuur | D6: :
B8: Naam | D8: :
B10: Registratienummer | D10: :
B12: Adres | D12: :
B14: Poscode + woonplaats | D14: :
B18: Op basis van de vermoedelijke bevallingsdatum kunt u vervolgens zien tussen welke twee data het zwangerschapsverlof in kan gaan en beëindigd wordt
B20: Vermoedelijke bevallingsdatum | D20: :
B22: Eerste verlofdag ligt op of tussen: | G22: =IF(G20="","",+G20-41) | H22: en | I22: =IF(G20="","",+G20-27)
B24: =CONCATENATE("Als er sprake is van ziekte voorafgaand aan het zwangerschapsverlof, dan moet het zwangerschapsverlof 6 weken voorafgaand aan de vermoedelijke bevallingsdatium ingaan en wordt ",IF(G22="","",DAY(G22)),"-",IF(G22="","",MONTH(G22)),"-",IF(G22="","",YEAR(G22)),".") -> Als er sprake is van ziekte voorafgaand aan het zwangerschapsverlof, dan moet het zwangerschapsverlof 6 weken voorafgaand aan de vermoedelijke bevallingsdatium ingaan en wordt --.
B26: Gekozen ingangsdatum | J26: =IF(G26="","",IF(G26>I22,"Eerste velofdag is te laat! Vul opnieuw in",IF(G26<G22,"Eerste verlofdag is te vroeg! Vul opnieuw in","")))
B28: Feitelijke bevallingsdatum *
B30: Verlenging verlof?
B31: Vul de volgende velden in om te kijken of het verlof verlengd moet worden i.v.m. een latere bevallingsdatum en/of het verlof (voor een deel) samen valt met de zomervakantie.
B33: Welke regio-indeling wordt op uw school gehanteerd? | G33: Noord
B34: Hoeveel weken mei vakantie?
B35: Verlenging ivm latere bevallingsdatum? | G35: =IF(G28="","",IF(G28>G20,"ja",""))
B36: Dagen verlenging ivm latere bevallingsdatum | G36: =IF(G28="","",IF(O36<0,"",O36)) | O36: =IF(G28<G20,0,IF(G20="","",IF(R41="nee",0,IF(R41="??",0,G28-G20))))
B37: Verlenging ivm recht op vakantieverlof? | G37: =IF(G33="","",IF(SUM(Data!N:N)>0,"ja",""))
B38: Dagen verlenging ivm vakantieverlof | G38: =IF(G37="","",SUM(Data!O:O)) | O38: =IF(G26="","",+G26+111)
B39: Laatste deel van het bevallingsverlof gespreid opnemen? ** | G39: Nee
B42: Zwangerschapsverlof | E42: eerste verlofdag | G42: laatste verlofdag
B44: Op te nemen verlof | E44: =IF(G39="nee",IF(J26<>"","invoer onjuist!",IF(G26="","",G26)),"") | G44: =IF(E8="","",IF(G26="","datum eerste verlofdag is niet gevuld",IF(G26="","",IF(G33="","regio is niet gevuld",IF(G39="Ja","",IF(AND(O38+O36<=Q36,O38+O36>=Q33),O38+O36,O38+O36+S42)))))) | O44: Laatste verlofdag na op te nemen vakantieverlof
B45: Op te nemen vakantieverlof | E45: =IF(Q51=0,G44,IF(OR(G44="",G33=""),"",G44+1)) | G45: =IF(Q51=0,E45,IF(O45="","",+O45)) | O45: =IF(E45="","",E45+SUM(Data!N:N)-1) | P45: Vakantie tijden vakantieverlof?
B47: Zwangerschapsverlof *** | E47: eerste verlofdag | G47: laatste verlofdag
B49: Op te nemen verlof | E49: =IF(G39="nee","",IF(J26<>"","invoer onjuist!",IF(G26="","",G26)))
B50: Op te nemen vakantieverlof
P51: =+G37 | Q51: =SUM(Data!N:N)/7 -> 0 | R51: wk
B53: Ondertekening medewerker: | F53: Ondertekening namens het bevoegd gezag:
B55: Datum: | F55: Datum:
B57: Handtekening: | F57: Handtekening:
B61: * Bij de aanvraag hoeft hier niets ingevuld te worden.
B62: Zodra de werkelijke bevallingsdatum bekend is dient u dit aan ons door te geven. Eventueel kunt u dit formulier opslaan en de werkelijke
B63: bevallingsdatum, zodra bekend, zelf invullen. De einddatum wordt dan automatisch berrekend.
B64: ** Sinds 1 januari 2015 kunt u de laatste periode van uw bevallingsverlof in delen opnemen. Het gaat om het verlof dat overblijft na 6 weken
B65: na de datum van uw bevalling. Dit deel van het verlof kunt u gespreid opnemen over een periode van maximaal 30 weken.
B66: U doet dit in overleg met uw werkgever.
B67: *** Deze datums alleen invoeren indien je gebruik maakt van het gespreid opnemen.

Sheet Vakanties
B1: Zomervakantie (van zaterdagen t/m zondag)
A3: Regio | B3: Noord | E3: Midden | H3: Zuid
B4: Van | C4: Tot en met | E4: Van | F4: Tot en met | H4: Van | I4: Tot en met
A5: =(YEAR(B5)-1)&"-"&YEAR(B5) -> 2008-2009 | B5: 39998 | C5: 40041 | E5: 40005 | F5: 40048 | H5: 40019 | I5: 40062
A6: =(YEAR(B6)-1)&"-"&YEAR(B6) -> 2009-2010 | B6: 40369 | C6: 40412 | E6: 40362 | F6: 40405 | H6: 40383 | I6: 40426
A7: =(YEAR(B7)-1)&"-"&YEAR(B7) -> 2010-2011 | B7: 40747 | C7: 40790 | E7: 40726 | F7: 40769 | H7: 40733 | I7: 40776
A8: =(YEAR(B8)-1)&"-"&YEAR(B8) -> 2011-2012 | B8: 41111 | C8: 41154 | E8: 41097 | F8: 41140 | H8: 41090 | I8: 41133
A9: =(YEAR(B9)-1)&"-"&YEAR(B9) -> 2012-2013 | B9: 41461 | C9: 41504 | E9: 41475 | F9: 41518 | H9: 41454 | I9: 41497
A10: =(YEAR(B10)-1)&"-"&YEAR(B10) -> 2013-2014 | B10: 41825 | C10: 41868 | E10: 41839 | F10: 41882 | H10: 41832 | I10: 41875
A11: 2014-2015 | B11: 42189 | C11: 42232 | E11: 42196 | F11: 42239 | H11: 42203 | I11: 42246
A12: 2015-2016 | B12: 42567 | C12: 42610 | E12: 42560 | F12: 42603 | H12: 42574 | I12: 42617
A13: 2016-2017

Sheet vakantieverlof
A1: Wknr | B1: Wknr | C1: Datum | D1: dag | E1: Jaar | F1: Vakantie Noord | G1: Vakantie Midden | H1: Vakantie Zuid | I1: Wknr | J1: Zwangerschapsverlof | K1: Vakantie Noord | L1: Vakantie Midden | M1: Vakantie Zuid | N1: =Formulier!G33 -> Noord | O1: dagen | P1: Vakantie tijdens vakantie-verlof? | S1: =SUM(R:R) -> 0 | U1: 2014 | X1: 2015 | AA1: 2016 | AD1: 2017 | AF1: 2018 | AJ1: PO
A2: =E2&B2&D2 -> 201453ma | B2: 53 | C2: 42002 | D2: ma | E2: =YEAR(C2) -> 2014 | F2: =IF(AND($C2>=$U$3,$C2<=$V$3),"Vakantie",IF(AND($C2>=$U$4,$C2<=$V$4),"Vakantie",IF(AND($C2>=$U$5,$C2<=$V$5),"Vakantie",IF(AND($C2>=$U$6,$C2<=$V$6),"Vakantie",IF(AND($C2>=$U$7,$C2<=$V$7),"Vakantie",IF(OR($C2=#REF!,$C2=#REF!,$C2=#REF!,$C2=#REF!,$C2=#REF!,$C2=#REF!),"Vakantie","")))))) -> Vakantie | G2: =IF(AND($C2>=$U$8,$C2<=$V$8),"Vakantie",IF(AND($C2>=$U$9,$C2<=$V$9),"Vakantie",IF(AND($C2>=$U$10,$C2<=$V$10),"Vakantie",IF(AND($C2>=$U$11,$C2<=$V$11),"Vakantie",IF(AND($C2>=$U$12,$C2<=$V$12),"Vakantie",IF(OR($C2=#REF!,$C2=#REF!,$C2=#REF!,$C2=#REF!,$C2=#REF!,$C2=#REF!),"Vakantie","")))))) -> Vakantie | H2: =IF(AND($C2>=$U$13,$C2<=$V$13),"Vakantie",IF(AND($C2>=$U$14,$C2<=$V$14),"Vakantie",IF(AND($C2>=$U$15,$C2<=$V$15),"Vakantie",IF(AND($C2>=$U$16,$C2<=$V$16),"Vakantie",IF(AND($C2>=$U$17,$C2<=$V$17),"Vakantie",IF(OR($C2=#REF!,$C2=#REF!,$C2=#REF!,$C2=#REF!,$C2=#REF!,$C2=#REF!),"Vakantie","")))))) -> Vakantie | I2: 53 | J2: =IF(AND(Formulier!$E$44<=C2,Formulier!$O$38>=C2),"Verlof",0) -> 0 | K2: =IF(J2=0,0,IF(F2="",0,1)) -> 0 | L2: =IF(J2=0,0,IF(G2="",0,1)) -> 0 | M2: =IF(J2=0,0,IF(H2="",0,1)) -> 0 | N2: =IF($N$1="Noord",K2,IF($N$1="Midden",L2,M2)) -> 0 | O2: =IF(OR(D2="za",D2="zo"),0,N2) -> 0 | S2: Regio | U2: Van | V2: Tot en met | X2: Van | Y2: Tot en met | AA2: Van | AB2: Tot en met | AD2: Van | AE2: Tot en met | AF2: Van | AG2: Tot en met | AJ2: zaterdag tot en met zondag
A3: =E3&B3&D3 -> 201453di | B3: 53 | C3: =+C2+1 -> 42003 | D3: di | E3: =YEAR(C3) -> 2014 | F3: =IF(AND($C3>=$U$3,$C3<=$V$3),"Vakantie",IF(AND($C3>=$U$4,$C3<=$V$4),"Vakantie",IF(AND($C3>=$U$5,$C3<=$V$5),"Vakantie",IF(AND($C3>=$U$6,$C3<=$V$6),"Vakantie",IF(AND($C3>=$U$7,$C3<=$V$7),"Vakantie",IF(OR($C3=#REF!,$C3=#REF!,$C3=#REF!,$C3=#REF!,$C3=#REF!,$C3=#REF!),"Vakantie","")))))) -> Vakantie | G3: =IF(AND($C3>=$U$8,$C3<=$V$8),"Vakantie",IF(AND($C3>=$U$9,$C3<=$V$9),"Vakantie",IF(AND($C3>=$U$10,$C3<=$V$10),"Vakantie",IF(AND($C3>=$U$11,$C3<=$V$11),"Vakantie",IF(AND($C3>=$U$12,$C3<=$V$12),"Vakantie",IF(OR($C3=#REF!,$C3=#REF!,$C3=#REF!,$C3=#REF!,$C3=#REF!,$C3=#REF!),"Vakantie","")))))) -> Vakantie | H3: =IF(AND($C3>=$U$13,$C3<=$V$13),"Vakantie",IF(AND($C3>=$U$14,$C3<=$V$14),"Vakantie",IF(AND($C3>=$U$15,$C3<=$V$15),"Vakantie",IF(AND($C3>=$U$16,$C3<=$V$16),"Vakantie",IF(AND($C3>=$U$17,$C3<=$V$17),"Vakantie",IF(OR($C3=#REF!,$C3=#REF!,$C3=#REF!,$C3=#REF!,$C3=#REF!,$C3=#REF!),"Vakantie","")))))) -> Vakantie | I3: 53 | J3: =IF(AND(Formulier!$E$44<=C3,Formulier!$O$38>=C3),"Verlof",0) -> 0 | K3: =IF(J3=0,0,IF(F3="",0,1)) -> 0 | L3: =IF(J3=0,0,IF(G3="",0,1)) -> 0 | M3: =IF(J3=0,0,IF(H3="",0,1)) -> 0 | N3: =IF($N$1="Noord",K3,IF($N$1="Midden",L3,M3)) -> 0 | O3: =IF(OR(D3="za",D3="zo"),0,N3) -> 0 | S3: Noord | T3: Zomervakantie | U3: 41825 | V3: 41868 | X3: 42191 | Y3: 42232 | AA3: 42569 | AB3: 42610 | AD3: 42940 | AE3: 42981 | AF3: 43304 | AG3: 43345
A4: =E4&B4&D4 -> 201453wo | B4: 53 | C4: =+C3+1 -> 42004 | D4: wo | E4: =YEAR(C4) -> 2014 | F4: =IF(AND($C4>=$U$3,$C4<=$V$3),"Vakantie",IF(AND($C4>=$U$4,$C4<=$V$4),"Vakantie",IF(AND($C4>=$U$5,$C4<=$V$5),"Vakantie",IF(AND($C4>=$U$6,$C4<=$V$6),"Vakantie",IF(AND($C4>=$U$7,$C4<=$V$7),"Vakantie",IF(OR($C4=#REF!,$C4=#REF!,$C4=#REF!,$C4=#REF!,$C4=#REF!,$C4=#REF!),"Vakantie","")))))) -> Vakantie | G4: =IF(AND($C4>=$U$8,$C4<=$V$8),"Vakantie",IF(AND($C4>=$U$9,$C4<=$V$9),"Vakantie",IF(AND($C4>=$U$10,$C4<=$V$10),"Vakantie",IF(AND($C4>=$U$11,$C4<=$V$11),"Vakantie",IF(AND($C4>=$U$12,$C4<=$V$12),"Vakantie",IF(OR($C4=#REF!,$C4=#REF!,$C4=#REF!,$C4=#REF!,$C4=#REF!,$C4=#REF!),"Vakantie","")))))) -> Vakantie | H4: =IF(AND($C4>=$U$13,$C4<=$V$13),"Vakantie",IF(AND($C4>=$U$14,$C4<=$V$14),"Vakantie",IF(AND($C4>=$U$15,$C4<=$V$15),"Vakantie",IF(AND($C4>=$U$16,$C4<=$V$16),"Vakantie",IF(AND($C4>=$U$17,$C4<=$V$17),"Vakantie",IF(OR($C4=#REF!,$C4=#REF!,$C4=#REF!,$C4=#REF!,$C4=#REF!,$C4=#REF!),"Vakantie","")))))) -> Vakantie | I4: 53 | J4: =IF(AND(Formulier!$E$44<=C4,Formulier!$O$38>=C4),"Verlof",0) -> 0 | K4: =IF(J4=0,0,IF(F4="",0,1)) -> 0 | L4: =IF(J4=0,0,IF(G4="",0,1)) -> 0 | M4: =IF(J4=0,0,IF(H4="",0,1)) -> 0 | N4: =IF($N$1="Noord",K4,IF($N$1="Midden",L4,M4)) -> 0 | O4: =IF(OR(D4="za",D4="zo"),0,N4) -> 0 | T4: Voorjaarsvakantie | U4: 41692 | V4: 41700
A5: =E5&B5&D5 -> 201453do | B5: 53 | C5: 42005 | D5: do | E5: 2014 | F5: =IF(AND($C5>=$U$3,$C5<=$V$3),"Vakantie",IF(AND($C5>=$U$4,$C5<=$V$4),"Vakantie",IF(AND($C5>=$U$5,$C5<=$V$5),"Vakantie",IF(AND($C5>=$U$6,$C5<=$V$6),"Vakantie",IF(AND($C5>=$U$7,$C5<=$V$7),"Vakantie",IF(OR($C5=#REF!,$C5=#REF!,$C5=#REF!,$C5=#REF!,$C5=#REF!,$C5=#REF!),"Vakantie","")))))) -> Vakantie | G5: =IF(AND($C5>=$U$8,$C5<=$V$8),"Vakantie",IF(AND($C5>=$U$9,$C5<=$V$9),"Vakantie",IF(AND($C5>=$U$10,$C5<=$V$10),"Vakantie",IF(AND($C5>=$U$11,$C5<=$V$11),"Vakantie",IF(AND($C5>=$U$12,$C5<=$V$12),"Vakantie",IF(OR($C5=#REF!,$C5=#REF!,$C5=#REF!,$C5=#REF!,$C5=#REF!,$C5=#REF!),"Vakantie","")))))) -> Vakantie | H5: =IF(AND($C5>=$U$13,$C5<=$V$13),"Vakantie",IF(AND($C5>=$U$14,$C5<=$V$14),"Vakantie",IF(AND($C5>=$U$15,$C5<=$V$15),"Vakantie",IF(AND($C5>=$U$16,$C5<=$V$16),"Vakantie",IF(AND($C5>=$U$17,$C5<=$V$17),"Vakantie",IF(OR($C5=#REF!,$C5=#REF!,$C5=#REF!,$C5=#REF!,$C5=#REF!,$C5=#REF!),"Vakantie","")))))) -> Vakantie | I5: 1 | J5: =IF(AND(Formulier!$E$44<=C5,Formulier!$O$38>=C5),"Verlof",0) -> 0 | K5: =IF(J5=0,0,IF(F5="",0,1)) -> 0 | L5: =IF(J5=0,0,IF(G5="",0,1)) -> 0 | M5: =IF(J5=0,0,IF(H5="",0,1)) -> 0 | N5: =IF($N$1="Noord",K5,IF($N$1="Midden",L5,M5)) -> 0 | O5: =IF(OR(D5="za",D5="zo"),0,N5) -> 0 | T5: Meivakantie | U5: 41755 | V5: 41764
A6: =E6&B6&D6 -> 201453vr | B6: 53 | C6: 42006 | D6: vr | E6: 2014 | F6: =IF(AND($C6>=$U$3,$C6<=$V$3),"Vakantie",IF(AND($C6>=$U$4,$C6<=$V$4),"Vakantie",IF(AND($C6>=$U$5,$C6<=$V$5),"Vakantie",IF(AND($C6>=$U$6,$C6<=$V$6),"Vakantie",IF(AND($C6>=$U$7,$C6<=$V$7),"Vakantie",IF(OR($C6=#REF!,$C6=#REF!,$C6=#REF!,$C6=#REF!,$C6=#REF!,$C6=#REF!),"Vakantie","")))))) -> Vakantie | G6: =IF(AND($C6>=$U$8,$C6<=$V$8),"Vakantie",IF(AND($C6>=$U$9,$C6<=$V$9),"Vakantie",IF(AND($C6>=$U$10,$C6<=$V$10),"Vakantie",IF(AND($C6>=$U$11,$C6<=$V$11),"Vakantie",IF(AND($C6>=$U$12,$C6<=$V$12),"Vakantie",IF(OR($C6=#REF!,$C6=#REF!,$C6=#REF!,$C6=#REF!,$C6=#REF!,$C6=#REF!),"Vakantie","")))))) -> Vakantie | H6: =IF(AND($C6>=$U$13,$C6<=$V$13),"Vakantie",IF(AND($C6>=$U$14,$C6<=$V$14),"Vakantie",IF(AND($C6>=$U$15,$C6<=$V$15),"Vakantie",IF(AND($C6>=$U$16,$C6<=$V$16),"Vakantie",IF(AND($C6>=$U$17,$C6<=$V$17),"Vakantie",IF(OR($C6=#REF!,$C6=#REF!,$C6=#REF!,$C6=#REF!,$C6=#REF!,$C6=#REF!),"Vakantie","")))))) -> Vakantie | I6: 1 | J6: =IF(AND(Formulier!$E$44<=C6,Formulier!$O$38>=C6),"Verlof",0) -> 0 | K6: =IF(J6=0,0,IF(F6="",0,1)) -> 0 | L6: =IF(J6=0,0,IF(G6="",0,1)) -> 0 | M6: =IF(J6=0,0,IF(H6="",0,1)) -> 0 | N6: =IF($N$1="Noord",K6,IF($N$1="Midden",L6,M6)) -> 0 | O6: =IF(OR(D6="za",D6="zo"),0,N6) -> 0 | T6: Herfstvakantie | U6: 41923 | V6: 41931
A7: =E7&B7&D7 -> 20151ma | B7: 1 | C7: 42002 | D7: ma | E7: 2015 | F7: Vakantie | G7: Vakantie | H7: Vakantie | I7: 53 | J7: =IF(AND(Formulier!$E$44<=C7,Formulier!$O$38>=C7),"Verlof",0) -> 0 | K7: =IF(J7=0,0,IF(F7="",0,1)) -> 0 | L7: =IF(J7=0,0,IF(G7="",0,1)) -> 0 | M7: =IF(J7=0,0,IF(H7="",0,1)) -> 0 | N7: =IF($N$1="Noord",K7,IF($N$1="Midden",L7,M7)) -> 0 | O7: =IF(OR(D7="za",D7="zo"),0,N7) -> 0 | T7: Kerstvakantie | U7: 41993 | V7: 42008
A8: =E8&B8&D8 -> 20151di | B8: 1 | C8: 42003 | D8: di | E8: 2015 | F8: Vakantie | G8: Vakantie | H8: Vakantie | I8: 53 | J8: =IF(AND(Formulier!$E$44<=C8,Formulier!$O$38>=C8),"Verlof",0) -> 0 | K8: =IF(J8=0,0,IF(F8="",0,1)) -> 0 | L8: =IF(J8=0,0,IF(G8="",0,1)) -> 0 | M8: =IF(J8=0,0,IF(H8="",0,1)) -> 0 | N8: =IF($N$1="Noord",K8,IF($N$1="Midden",L8,M8)) -> 0 | O8: =IF(OR(D8="za",D8="zo"),0,N8) -> 0 | S8: Midden | T8: Zomervakantie | U8: 41839 | V8: 41882 | X8: 42198 | Y8: 42239 | AA8: 42562 | AB8: 42603 | AD8: 42926 | AE8: 42967 | AF8: 43297 | AG8: 43338
A9: =E9&B9&D9 -> 20151wo | B9: 1 | C9: 42004 | D9: wo | E9: 2015 | F9: Vakantie | G9: Vakantie | H9: Vakantie | I9: 53 | J9: =IF(AND(Formulier!$E$44<=C9,Formulier!$O$38>=C9),"Verlof",0) -> 0 | K9: =IF(J9=0,0,IF(F9="",0,1)) -> 0 | L9: =IF(J9=0,0,IF(G9="",0,1)) -> 0 | M9: =IF(J9=0,0,IF(H9="",0,1)) -> 0 | N9: =IF($N$1="Noord",K9,IF($N$1="Midden",L9,M9)) -> 0 | O9: =IF(OR(D9="za",D9="zo"),0,N9) -> 0 | T9: Voorjaarsvakantie | U9: 41685 | V9: 41693
A10: =E10&B10&D10 -> 20151do | B10: 1 | C10: =+C4+1 -> 42005 | D10: do | E10: =YEAR(C10) -> 2015 | F10: =IF(AND($C10>=$U$3,$C10<=$V$3),"Vakantie",IF(AND($C10>=$U$4,$C10<=$V$4),"Vakantie",IF(AND($C10>=$U$5,$C10<=$V$5),"Vakantie",IF(AND($C10>=$U$6,$C10<=$V$6),"Vakantie",IF(AND($C10>=$U$7,$C10<=$V$7),"Vakantie",IF(OR($C10=#REF!,$C10=#REF!,$C10=#REF!,$C10=#REF!,$C10=#REF!,$C10=#REF!),"Vakantie","")))))) -> Vakantie | G10: =IF(AND($C10>=$U$8,$C10<=$V$8),"Vakantie",IF(AND($C10>=$U$9,$C10<=$V$9),"Vakantie",IF(AND($C10>=$U$10,$C10<=$V$10),"Vakantie",IF(AND($C10>=$U$11,$C10<=$V$11),"Vakantie",IF(AND($C10>=$U$12,$C10<=$V$12),"Vakantie",IF(OR($C10=#REF!,$C10=#REF!,$C10=#REF!,$C10=#REF!,$C10=#REF!,$C10=#REF!),"Vakantie","")))))) -> Vakantie | H10: =IF(AND($C10>=$U$13,$C10<=$V$13),"Vakantie",IF(AND($C10>=$U$14,$C10<=$V$14),"Vakantie",IF(AND($C10>=$U$15,$C10<=$V$15),"Vakantie",IF(AND($C10>=$U$16,$C10<=$V$16),"Vakantie",IF(AND($C10>=$U$17,$C10<=$V$17),"Vakantie",IF(OR($C10=#REF!,$C10=#REF!,$C10=#REF!,$C10=#REF!,$C10=#REF!,$C10=#REF!),"Vakantie","")))))) -> Vakantie | I10: 1 | J10: =IF(AND(Formulier!$E$44<=C10,Formulier!$O$38>=C10),"Verlof",0) -> 0 | K10: =IF(J10=0,0,IF(F10="",0,1)) -> 0 | L10: =IF(J10=0,0,IF(G10="",0,1)) -> 0 | M10: =IF(J10=0,0,IF(H10="",0,1)) -> 0 | N10: =IF($N$1="Noord",K10,IF($N$1="Midden",L10,M10)) -> 0 | O10: =IF(OR(D10="za",D10="zo"),0,N10) -> 0 | T10: Meivakantie | U10: 41755 | V10: 41764
A11: =E11&B11&D11 -> 20151vr | B11: 1 | C11: =+C10+1 -> 42006 | D11: vr | E11: =YEAR(C11) -> 2015 | F11: =IF(AND($C11>=$U$3,$C11<=$V$3),"Vakantie",IF(AND($C11>=$U$4,$C11<=$V$4),"Vakantie",IF(AND($C11>=$U$5,$C11<=$V$5),"Vakantie",IF(AND($C11>=$U$6,$C11<=$V$6),"Vakantie",IF(AND($C11>=$U$7,$C11<=$V$7),"Vakantie",IF(OR($C11=#REF!,$C11=#REF!,$C11=#REF!,$C11=#REF!,$C11=#REF!,$C11=#REF!),"Vakantie","")))))) -> Vakantie | G11: =IF(AND($C11>=$U$8,$C11<=$V$8),"Vakantie",IF(AND($C11>=$U$9,$C11<=$V$9),"Vakantie",IF(AND($C11>=$U$10,$C11<=$V$10),"Vakantie",IF(AND($C11>=$U$11,$C11<=$V$11),"Vakantie",IF(AND($C11>=$U$12,$C11<=$V$12),"Vakantie",IF(OR($C11=#REF!,$C11=#REF!,$C11=#REF!,$C11=#REF!,$C11=#REF!,$C11=#REF!),"Vakantie","")))))) -> Vakantie | H11: =IF(AND($C11>=$U$13,$C11<=$V$13),"Vakantie",IF(AND($C11>=$U$14,$C11<=$V$14),"Vakantie",IF(AND($C11>=$U$15,$C11<=$V$15),"Vakantie",IF(AND($C11>=$U$16,$C11<=$V$16),"Vakantie",IF(AND($C11>=$U$17,$C11<=$V$17),"Vakantie",IF(OR($C11=#REF!,$C11=#REF!,$C11=#REF!,$C11=#REF!,$C11=#REF!,$C11=#REF!),"Vakantie","")))))) -> Vakantie | I11: 1 | J11: =IF(AND(Formulier!$E$44<=C11,Formulier!$O$38>=C11),"Verlof",0) -> 0 | K11: =IF(J11=0,0,IF(F11="",0,1)) -> 0 | L11: =IF(J11=0,0,IF(G11="",0,1)) -> 0 | M11: =IF(J11=0,0,IF(H11="",0,1)) -> 0 | N11: =IF($N$1="Noord",K11,IF($N$1="Midden",L11,M11)) -> 0 | O11: =IF(OR(D11="za",D11="zo"),0,N11) -> 0 | T11: Herfstvakantie | U11: 41930 | V11: 41938
A12: =E12&B12&D12 -> 20151za | B12: 1 | C12: =+C11+1 -> 42007 | D12: za | E12: =YEAR(C12) -> 2015 | F12: =IF(AND($C12>=$U$3,$C12<=$V$3),"Vakantie",IF(AND($C12>=$U$4,$C12<=$V$4),"Vakantie",IF(AND($C12>=$U$5,$C12<=$V$5),"Vakantie",IF(AND($C12>=$U$6,$C12<=$V$6),"Vakantie",IF(AND($C12>=$U$7,$C12<=$V$7),"Vakantie",IF(OR($C12=#REF!,$C12=#REF!,$C12=#REF!,$C12=#REF!,$C12=#REF!,$C12=#REF!),"Vakantie","")))))) -> Vakantie | G12: =IF(AND($C12>=$U$8,$C12<=$V$8),"Vakantie",IF(AND($C12>=$U$9,$C12<=$V$9),"Vakantie",IF(AND($C12>=$U$10,$C12<=$V$10),"Vakantie",IF(AND($C12>=$U$11,$C12<=$V$11),"Vakantie",IF(AND($C12>=$U$12,$C12<=$V$12),"Vakantie",IF(OR($C12=#REF!,$C12=#REF!,$C12=#REF!,$C12=#REF!,$C12=#REF!,$C12=#REF!),"Vakantie","")))))) -> Vakantie | H12: =IF(AND($C12>=$U$13,$C12<=$V$13),"Vakantie",IF(AND($C12>=$U$14,$C12<=$V$14),"Vakantie",IF(AND($C12>=$U$15,$C12<=$V$15),"Vakantie",IF(AND($C12>=$U$16,$C12<=$V$16),"Vakantie",IF(AND($C12>=$U$17,$C12<=$V$17),"Vakantie",IF(OR($C12=#REF!,$C12=#REF!,$C12=#REF!,$C12=#REF!,$C12=#REF!,$C12=#REF!),"Vakantie","")))))) -> Vakantie | I12: 1 | J12: =IF(AND(Formulier!$E$44<=C12,Formulier!$O$38>=C12),"Verlof",0) -> 0 | K12: =IF(J12=0,0,IF(F12="",0,1)) -> 0 | L12: =IF(J12=0,0,IF(G12="",0,1)) -> 0 | M12: =IF(J12=0,0,IF(H12="",0,1)) -> 0 | N12: =IF($N$1="Noord",K12,IF($N$1="Midden",L12,M12)) -> 0 | O12: =IF(OR(D12="za",D12="zo"),0,N12) -> 0 | T12: Kerstvakantie | U12: 41993 | V12: 42008
A13: =E13&B13&D13 -> 20151zo | B13: 1 | C13: =+C12+1 -> 42008 | D13: zo | E13: =YEAR(C13) -> 2015 | F13: =IF(AND($C13>=$U$3,$C13<=$V$3),"Vakantie",IF(AND($C13>=$U$4,$C13<=$V$4),"Vakantie",IF(AND($C13>=$U$5,$C13<=$V$5),"Vakantie",IF(AND($C13>=$U$6,$C13<=$V$6),"Vakantie",IF(AND($C13>=$U$7,$C13<=$V$7),"Vakantie",IF(OR($C13=#REF!,$C13=#REF!,$C13=#REF!,$C13=#REF!,$C13=#REF!,$C13=#REF!),"Vakantie","")))))) -> Vakantie | G13: =IF(AND($C13>=$U$8,$C13<=$V$8),"Vakantie",IF(AND($C13>=$U$9,$C13<=$V$9),"Vakantie",IF(AND($C13>=$U$10,$C13<=$V$10),"Vakantie",IF(AND($C13>=$U$11,$C13<=$V$11),"Vakantie",IF(AND($C13>=$U$12,$C13<=$V$12),"Vakantie",IF(OR($C13=#REF!,$C13=#REF!,$C13=#REF!,$C13=#REF!,$C13=#REF!,$C13=#REF!),"Vakantie","")))))) -> Vakantie | H13: =IF(AND($C13>=$U$13,$C13<=$V$13),"Vakantie",IF(AND($C13>=$U$14,$C13<=$V$14),"Vakantie",IF(AND($C13>=$U$15,$C13<=$V$15),"Vakantie",IF(AND($C13>=$U$16,$C13<=$V$16),"Vakantie",IF(AND($C13>=$U$17,$C13<=$V$17),"Vakantie",IF(OR($C13=#REF!,$C13=#REF!,$C13=#REF!,$C13=#REF!,$C13=#REF!,$C13=#REF!),"Vakantie","")))))) -> Vakantie | I13: 1 | J13: =IF(AND(Formulier!$E$44<=C13,Formulier!$O$38>=C13),"Verlof",0) -> 0 | K13: =IF(J13=0,0,IF(F13="",0,1)) -> 0 | L13: =IF(J13=0,0,IF(G13="",0,1)) -> 0 | M13: =IF(J13=0,0,IF(H13="",0,1)) -> 0 | N13: =IF($N$1="Noord",K13,IF($N$1="Midden",L13,M13)) -> 0 | O13: =IF(OR(D13="za",D13="zo"),0,N13) -> 0 | S13: Zuid | T13: Zomervakantie | U13: 41832 | V13: 41875 | X13: 42205 | Y13: 42246 | AA13: 42576 | AB13: 42617 | AD13: 42933 | AE13: 42974 | AF13: 43290 | AG13: 43331
A14: =E14&B14&D14 -> 20152ma | B14: 2 | C14: =+C13+1 -> 42009 | D14: =+D2 -> ma | E14: =YEAR(C14) -> 2015 | F14: =IF(AND($C14>=$X$3,$C14<=$Y$3),"Vakantie",IF(AND($C14>=$X$4,$C14<=$Y$4),"Vakantie",IF(AND($C14>=$X$5,$C14<=$Y$5),"Vakantie",IF(AND($C14>=$X$6,$C14<=$Y$6),"Vakantie",IF(AND($C14>=$X$7,$C14<=$Y$7),"Vakantie",IF(OR($C14=$X$20,$C14=$X$21,$C14=$X$22,$C14=$X$23,$C14=$X$24,$C14=$X$25),"Vakantie","")))))) | G14: =IF(AND($C14>=$X$8,$C14<=$Y$8),"Vakantie",IF(AND($C14>=$X$9,$C14<=$Y$9),"Vakantie",IF(AND($C14>=$X$10,$C14<=$Y$10),"Vakantie",IF(AND($C14>=$X$11,$C14<=$Y$11),"Vakantie",IF(AND($C14>=$X$12,$C14<=$Y$12),"Vakantie",IF(OR($C14=$X$20,$C14=$X$21,$C14=$X$22,$C14=$X$23,$C14=$X$24,$C14=$X$25),"Vakantie","")))))) | H14: =IF(AND($C14>=$X$13,$C14<=$Y$13),"Vakantie",IF(AND($C14>=$X$14,$C14<=$Y$14),"Vakantie",IF(AND($C14>=$X$15,$C14<=$Y$15),"Vakantie",IF(AND($C14>=$X$16,$C14<=$Y$16),"Vakantie",IF(AND($C14>=$X$17,$C14<=$Y$17),"Vakantie",IF(OR($C14=$X$20,$C14=$X$21,$C14=$X$22,$C14=$X$23,$C14=$X$24,$C14=$X$25),"Vakantie","")))))) | I14: 2 | J14: =IF(AND(Formulier!$E$44<=C14,Formulier!$O$38>=C14),"Verlof",0) -> 0 | K14: =IF(J14=0,0,IF(F14="",0,1)) -> 0 | L14: =IF(J14=0,0,IF(G14="",0,1)) -> 0 | M14: =IF(J14=0,0,IF(H14="",0,1)) -> 0 | N14: =IF($N$1="Noord",K14,IF($N$1="Midden",L14,M14)) -> 0 | O14: =IF(OR(D14="za",D14="zo"),0,N14) -> 0 | T14: Voorjaarsvakantie | U14: 41685 | V14: 41693
A15: =E15&B15&D15 -> 20152di | B15: 2 | C15: =+C14+1 -> 42010 | D15: =+D3 -> di | E15: =YEAR(C15) -> 2015 | F15: =IF(AND($C15>=$X$3,$C15<=$Y$3),"Vakantie",IF(AND($C15>=$X$4,$C15<=$Y$4),"Vakantie",IF(AND($C15>=$X$5,$C15<=$Y$5),"Vakantie",IF(AND($C15>=$X$6,$C15<=$Y$6),"Vakantie",IF(AND($C15>=$X$7,$C15<=$Y$7),"Vakantie",IF(OR($C15=$X$20,$C15=$X$21,$C15=$X$22,$C15=$X$23,$C15=$X$24,$C15=$X$25),"Vakantie","")))))) | G15: =IF(AND($C15>=$X$8,$C15<=$Y$8),"Vakantie",IF(AND($C15>=$X$9,$C15<=$Y$9),"Vakantie",IF(AND($C15>=$X$10,$C15<=$Y$10),"Vakantie",IF(AND($C15>=$X$11,$C15<=$Y$11),"Vakantie",IF(AND($C15>=$X$12,$C15<=$Y$12),"Vakantie",IF(OR($C15=$X$20,$C15=$X$21,$C15=$X$22,$C15=$X$23,$C15=$X$24,$C15=$X$25),"Vakantie","")))))) | H15: =IF(AND($C15>=$X$13,$C15<=$Y$13),"Vakantie",IF(AND($C15>=$X$14,$C15<=$Y$14),"Vakantie",IF(AND($C15>=$X$15,$C15<=$Y$15),"Vakantie",IF(AND($C15>=$X$16,$C15<=$Y$16),"Vakantie",IF(AND($C15>=$X$17,$C15<=$Y$17),"Vakantie",IF(OR($C15=$X$20,$C15=$X$21,$C15=$X$22,$C15=$X$23,$C15=$X$24,$C15=$X$25),"Vakantie","")))))) | I15: 2 | J15: =IF(AND(Formulier!$E$44<=C15,Formulier!$O$38>=C15),"Verlof",0) -> 0 | K15: =IF(J15=0,0,IF(F15="",0,1)) -> 0 | L15: =IF(J15=0,0,IF(G15="",0,1)) -> 0 | M15: =IF(J15=0,0,IF(H15="",0,1)) -> 0 | N15: =IF($N$1="Noord",K15,IF($N$1="Midden",L15,M15)) -> 0 | O15: =IF(OR(D15="za",D15="zo"),0,N15) -> 0 | T15: Meivakantie | U15: 41755 | V15: 41764
A16: =E16&B16&D16 -> 20152wo | B16: 2 | C16: =+C15+1 -> 42011 | D16: =+D4 -> wo | E16: =YEAR(C16) -> 2015 | F16: =IF(AND($C16>=$X$3,$C16<=$Y$3),"Vakantie",IF(AND($C16>=$X$4,$C16<=$Y$4),"Vakantie",IF(AND($C16>=$X$5,$C16<=$Y$5),"Vakantie",IF(AND($C16>=$X$6,$C16<=$Y$6),"Vakantie",IF(AND($C16>=$X$7,$C16<=$Y$7),"Vakantie",IF(OR($C16=$X$20,$C16=$X$21,$C16=$X$22,$C16=$X$23,$C16=$X$24,$C16=$X$25),"Vakantie","")))))) | G16: =IF(AND($C16>=$X$8,$C16<=$Y$8),"Vakantie",IF(AND($C16>=$X$9,$C16<=$Y$9),"Vakantie",IF(AND($C16>=$X$10,$C16<=$Y$10),"Vakantie",IF(AND($C16>=$X$11,$C16<=$Y$11),"Vakantie",IF(AND($C16>=$X$12,$C16<=$Y$12),"Vakantie",IF(OR($C16=$X$20,$C16=$X$21,$C16=$X$22,$C16=$X$23,$C16=$X$24,$C16=$X$25),"Vakantie","")))))) | H16: =IF(AND($C16>=$X$13,$C16<=$Y$13),"Vakantie",IF(AND($C16>=$X$14,$C16<=$Y$14),"Vakantie",IF(AND($C16>=$X$15,$C16<=$Y$15),"Vakantie",IF(AND($C16>=$X$16,$C16<=$Y$16),"Vakantie",IF(AND($C16>=$X$17,$C16<=$Y$17),"Vakantie",IF(OR($C16=$X$20,$C16=$X$21,$C16=$X$22,$C16=$X$23,$C16=$X$24,$C16=$X$25),"Vakantie","")))))) | I16: 2 | J16: =IF(AND(Formulier!$E$44<=C16,Formulier!$O$38>=C16),"Verlof",0) -> 0 | K16: =IF(J16=0,0,IF(F16="",0,1)) -> 0 | L16: =IF(J16=0,0,IF(G16="",0,1)) -> 0 | M16: =IF(J16=0,0,IF(H16="",0,1)) -> 0 | N16: =IF($N$1="Noord",K16,IF($N$1="Midden",L16,M16)) -> 0 | O16: =IF(OR(D16="za",D16="zo"),0,N16) -> 0 | T16: Herfstvakantie | U16: 41930 | V16: 41938
A17: =E17&B17&D17 -> 20152do | B17: =+B10+1 -> 2 | C17: =+C16+1 -> 42012 | D17: =+D10 -> do | E17: =YEAR(C17) -> 2015 | F17: =IF(AND($C17>=$X$3,$C17<=$Y$3),"Vakantie",IF(AND($C17>=$X$4,$C17<=$Y$4),"Vakantie",IF(AND($C17>=$X$5,$C17<=$Y$5),"Vakantie",IF(AND($C17>=$X$6,$C17<=$Y$6),"Vakantie",IF(AND($C17>=$X$7,$C17<=$Y$7),"Vakantie",IF(OR($C17=$X$20,$C17=$X$21,$C17=$X$22,$C17=$X$23,$C17=$X$24,$C17=$X$25),"Vakantie","")))))) | G17: =IF(AND($C17>=$X$8,$C17<=$Y$8),"Vakantie",IF(AND($C17>=$X$9,$C17<=$Y$9),"Vakantie",IF(AND($C17>=$X$10,$C17<=$Y$10),"Vakantie",IF(AND($C17>=$X$11,$C17<=$Y$11),"Vakantie",IF(AND($C17>=$X$12,$C17<=$Y$12),"Vakantie",IF(OR($C17=$X$20,$C17=$X$21,$C17=$X$22,$C17=$X$23,$C17=$X$24,$C17=$X$25),"Vakantie","")))))) | H17: =IF(AND($C17>=$X$13,$C17<=$Y$13),"Vakantie",IF(AND($C17>=$X$14,$C17<=$Y$14),"Vakantie",IF(AND($C17>=$X$15,$C17<=$Y$15),"Vakantie",IF(AND($C17>=$X$16,$C17<=$Y$16),"Vakantie",IF(AND($C17>=$X$17,$C17<=$Y$17),"Vakantie",IF(OR($C17=$X$20,$C17=$X$21,$C17=$X$22,$C17=$X$23,$C17=$X$24,$C17=$X$25),"Vakantie","")))))) | I17: =+I10+1 -> 2 | J17: =IF(AND(Formulier!$E$44<=C17,Formulier!$O$38>=C17),"Verlof",0) -> 0 | K17: =IF(J17=0,0,IF(F17="",0,1)) -> 0 | L17: =IF(J17=0,0,IF(G17="",0,1)) -> 0 | M17: =IF(J17=0,0,IF(H17="",0,1)) -> 0 | N17: =IF($N$1="Noord",K17,IF($N$1="Midden",L17,M17)) -> 0 | O17: =IF(OR(D17="za",D17="zo"),0,N17) -> 0 | T17: Kerstvakantie | U17: 41993 | V17: 42008
A18: =E18&B18&D18 -> 20152vr | B18: =+B11+1 -> 2 | C18: =+C17+1 -> 42013 | D18: =+D11 -> vr | E18: =YEAR(C18) -> 2015 | F18: =IF(AND($C18>=$X$3,$C18<=$Y$3),"Vakantie",IF(AND($C18>=$X$4,$C18<=$Y$4),"Vakantie",IF(AND($C18>=$X$5,$C18<=$Y$5),"Vakantie",IF(AND($C18>=$X$6,$C18<=$Y$6),"Vakantie",IF(AND($C18>=$X$7,$C18<=$Y$7),"Vakantie",IF(OR($C18=$X$20,$C18=$X$21,$C18=$X$22,$C18=$X$23,$C18=$X$24,$C18=$X$25),"Vakantie","")))))) | G18: =IF(AND($C18>=$X$8,$C18<=$Y$8),"Vakantie",IF(AND($C18>=$X$9,$C18<=$Y$9),"Vakantie",IF(AND($C18>=$X$10,$C18<=$Y$10),"Vakantie",IF(AND($C18>=$X$11,$C18<=$Y$11),"Vakantie",IF(AND($C18>=$X$12,$C18<=$Y$12),"Vakantie",IF(OR($C18=$X$20,$C18=$X$21,$C18=$X$22,$C18=$X$23,$C18=$X$24,$C18=$X$25),"Vakantie","")))))) | H18: =IF(AND($C18>=$X$13,$C18<=$Y$13),"Vakantie",IF(AND($C18>=$X$14,$C18<=$Y$14),"Vakantie",IF(AND($C18>=$X$15,$C18<=$Y$15),"Vakantie",IF(AND($C18>=$X$16,$C18<=$Y$16),"Vakantie",IF(AND($C18>=$X$17,$C18<=$Y$17),"Vakantie",IF(OR($C18=$X$20,$C18=$X$21,$C18=$X$22,$C18=$X$23,$C18=$X$24,$C18=$X$25),"Vakantie","")))))) | I18: =+I11+1 -> 2 | J18: =IF(AND(Formulier!$E$44<=C18,Formulier!$O$38>=C18),"Verlof",0) -> 0 | K18: =IF(J18=0,0,IF(F18="",0,1)) -> 0 | L18: =IF(J18=0,0,IF(G18="",0,1)) -> 0 | M18: =IF(J18=0,0,IF(H18="",0,1)) -> 0 | N18: =IF($N$1="Noord",K18,IF($N$1="Midden",L18,M18)) -> 0 | O18: =IF(OR(D18="za",D18="zo"),0,N18) -> 0
A19: =E19&B19&D19 -> 20152za | B19: =+B12+1 -> 2 | C19: =+C18+1 -> 42014 | D19: =+D12 -> za | E19: =YEAR(C19) -> 2015 | F19: =IF(AND($C19>=$X$3,$C19<=$Y$3),"Vakantie",IF(AND($C19>=$X$4,$C19<=$Y$4),"Vakantie",IF(AND($C19>=$X$5,$C19<=$Y$5),"Vakantie",IF(AND($C19>=$X$6,$C19<=$Y$6),"Vakantie",IF(AND($C19>=$X$7,$C19<=$Y$7),"Vakantie",IF(OR($C19=$X$20,$C19=$X$21,$C19=$X$22,$C19=$X$23,$C19=$X$24,$C19=$X$25),"Vakantie","")))))) | G19: =IF(AND($C19>=$X$8,$C19<=$Y$8),"Vakantie",IF(AND($C19>=$X$9,$C19<=$Y$9),"Vakantie",IF(AND($C19>=$X$10,$C19<=$Y$10),"Vakantie",IF(AND($C19>=$X$11,$C19<=$Y$11),"Vakantie",IF(AND($C19>=$X$12,$C19<=$Y$12),"Vakantie",IF(OR($C19=$X$20,$C19=$X$21,$C19=$X$22,$C19=$X$23,$C19=$X$24,$C19=$X$25),"Vakantie","")))))) | H19: =IF(AND($C19>=$X$13,$C19<=$Y$13),"Vakantie",IF(AND($C19>=$X$14,$C19<=$Y$14),"Vakantie",IF(AND($C19>=$X$15,$C19<=$Y$15),"Vakantie",IF(AND($C19>=$X$16,$C19<=$Y$16),"Vakantie",IF(AND($C19>=$X$17,$C19<=$Y$17),"Vakantie",IF(OR($C19=$X$20,$C19=$X$21,$C19=$X$22,$C19=$X$23,$C19=$X$24,$C19=$X$25),"Vakantie","")))))) | I19: =+I12+1 -> 2 | J19: =IF(AND(Formulier!$E$44<=C19,Formulier!$O$38>=C19),"Verlof",0) -> 0 | K19: =IF(J19=0,0,IF(F19="",0,1)) -> 0 | L19: =IF(J19=0,0,IF(G19="",0,1)) -> 0 | M19: =IF(J19=0,0,IF(H19="",0,1)) -> 0 | N19: =IF($N$1="Noord",K19,IF($N$1="Midden",L19,M19)) -> 0 | O19: =IF(OR(D19="za",D19="zo"),0,N19) -> 0
A20: =E20&B20&D20 -> 20152zo | B20: =+B13+1 -> 2 | C20: =+C19+1 -> 42015 | D20: =+D13 -> zo | E20: =YEAR(C20) -> 2015 | F20: =IF(AND($C20>=$X$3,$C20<=$Y$3),"Vakantie",IF(AND($C20>=$X$4,$C20<=$Y$4),"Vakantie",IF(AND($C20>=$X$5,$C20<=$Y$5),"Vakantie",IF(AND($C20>=$X$6,$C20<=$Y$6),"Vakantie",IF(AND($C20>=$X$7,$C20<=$Y$7),"Vakantie",IF(OR($C20=$X$20,$C20=$X$21,$C20=$X$22,$C20=$X$23,$C20=$X$24,$C20=$X$25),"Vakantie","")))))) | G20: =IF(AND($C20>=$X$8,$C20<=$Y$8),"Vakantie",IF(AND($C20>=$X$9,$C20<=$Y$9),"Vakantie",IF(AND($C20>=$X$10,$C20<=$Y$10),"Vakantie",IF(AND($C20>=$X$11,$C20<=$Y$11),"Vakantie",IF(AND($C20>=$X$12,$C20<=$Y$12),"Vakantie",IF(OR($C20=$X$20,$C20=$X$21,$C20=$X$22,$C20=$X$23,$C20=$X$24,$C20=$X$25),"Vakantie","")))))) | H20: =IF(AND($C20>=$X$13,$C20<=$Y$13),"Vakantie",IF(AND($C20>=$X$14,$C20<=$Y$14),"Vakantie",IF(AND($C20>=$X$15,$C20<=$Y$15),"Vakantie",IF(AND($C20>=$X$16,$C20<=$Y$16),"Vakantie",IF(AND($C20>=$X$17,$C20<=$Y$17),"Vakantie",IF(OR($C20=$X$20,$C20=$X$21,$C20=$X$22,$C20=$X$23,$C20=$X$24,$C20=$X$25),"Vakantie","")))))) | I20: =+I13+1 -> 2 | J20: =IF(AND(Formulier!$E$44<=C20,Formulier!$O$38>=C20),"Verlof",0) -> 0 | K20: =IF(J20=0,0,IF(F20="",0,1)) -> 0 | L20: =IF(J20=0,0,IF(G20="",0,1)) -> 0 | M20: =IF(J20=0,0,IF(H20="",0,1)) -> 0 | N20: =IF($N$1="Noord",K20,IF($N$1="Midden",L20,M20)) -> 0 | O20: =IF(OR(D20="za",D20="zo"),0,N20) -> 0 | S20: Mei vakantie
A21: =E21&B21&D21 -> 20153ma | B21: =+B14+1 -> 3 | C21: =+C20+1 -> 42016 | D21: =+D14 -> ma | E21: =YEAR(C21) -> 2015 | F21: =IF(AND($C21>=$X$3,$C21<=$Y$3),"Vakantie",IF(AND($C21>=$X$4,$C21<=$Y$4),"Vakantie",IF(AND($C21>=$X$5,$C21<=$Y$5),"Vakantie",IF(AND($C21>=$X$6,$C21<=$Y$6),"Vakantie",IF(AND($C21>=$X$7,$C21<=$Y$7),"Vakantie",IF(OR($C21=$X$20,$C21=$X$21,$C21=$X$22,$C21=$X$23,$C21=$X$24,$C21=$X$25),"Vakantie","")))))) | G21: =IF(AND($C21>=$X$8,$C21<=$Y$8),"Vakantie",IF(AND($C21>=$X$9,$C21<=$Y$9),"Vakantie",IF(AND($C21>=$X$10,$C21<=$Y$10),"Vakantie",IF(AND($C21>=$X$11,$C21<=$Y$11),"Vakantie",IF(AND($C21>=$X$12,$C21<=$Y$12),"Vakantie",IF(OR($C21=$X$20,$C21=$X$21,$C21=$X$22,$C21=$X$23,$C21=$X$24,$C21=$X$25),"Vakantie","")))))) | H21: =IF(AND($C21>=$X$13,$C21<=$Y$13),"Vakantie",IF(AND($C21>=$X$14,$C21<=$Y$14),"Vakantie",IF(AND($C21>=$X$15,$C21<=$Y$15),"Vakantie",IF(AND($C21>=$X$16,$C21<=$Y$16),"Vakantie",IF(AND($C21>=$X$17,$C21<=$Y$17),"Vakantie",IF(OR($C21=$X$20,$C21=$X$21,$C21=$X$22,$C21=$X$23,$C21=$X$24,$C21=$X$25),"Vakantie","")))))) | I21: =+I14+1 -> 3 | J21: =IF(AND(Formulier!$E$44<=C21,Formulier!$O$38>=C21),"Verlof",0) -> 0 | K21: =IF(J21=0,0,IF(F21="",0,1)) -> 0 | L21: =IF(J21=0,0,IF(G21="",0,1)) -> 0 | M21: =IF(J21=0,0,IF(H21="",0,1)) -> 0 | N21: =IF($N$1="Noord",K21,IF($N$1="Midden",L21,M21)) -> 0 | O21: =IF(OR(D21="za",D21="zo"),0,N21) -> 0 | S21: 1 week
A22: =E22&B22&D22 -> 20153di | B22: =+B15+1 -> 3 | C22: =+C21+1 -> 42017 | D22: =+D15 -> di | E22: =YEAR(C22) -> 2015 | F22: =IF(AND($C22>=$X$3,$C22<=$Y$3),"Vakantie",IF(AND($C22>=$X$4,$C22<=$Y$4),"Vakantie",IF(AND($C22>=$X$5,$C22<=$Y$5),"Vakantie",IF(AND($C22>=$X$6,$C22<=$Y$6),"Vakantie",IF(AND($C22>=$X$7,$C22<=$Y$7),"Vakantie",IF(OR($C22=$X$20,$C22=$X$21,$C22=$X$22,$C22=$X$23,$C22=$X$24,$C22=$X$25),"Vakantie","")))))) | G22: =IF(AND($C22>=$X$8,$C22<=$Y$8),"Vakantie",IF(AND($C22>=$X$9,$C22<=$Y$9),"Vakantie",IF(AND($C22>=$X$10,$C22<=$Y$10),"Vakantie",IF(AND($C22>=$X$11,$C22<=$Y$11),"Vakantie",IF(AND($C22>=$X$12,$C22<=$Y$12),"Vakantie",IF(OR($C22=$X$20,$C22=$X$21,$C22=$X$22,$C22=$X$23,$C22=$X$24,$C22=$X$25),"Vakantie","")))))) | H22: =IF(AND($C22>=$X$13,$C22<=$Y$13),"Vakantie",IF(AND($C22>=$X$14,$C22<=$Y$14),"Vakantie",IF(AND($C22>=$X$15,$C22<=$Y$15),"Vakantie",IF(AND($C22>=$X$16,$C22<=$Y$16),"Vakantie",IF(AND($C22>=$X$17,$C22<=$Y$17),"Vakantie",IF(OR($C22=$X$20,$C22=$X$21,$C22=$X$22,$C22=$X$23,$C22=$X$24,$C22=$X$25),"Vakantie","")))))) | I22: =+I15+1 -> 3 | J22: =IF(AND(Formulier!$E$44<=C22,Formulier!$O$38>=C22),"Verlof",0) -> 0 | K22: =IF(J22=0,0,IF(F22="",0,1)) -> 0 | L22: =IF(J22=0,0,IF(G22="",0,1)) -> 0 | M22: =IF(J22=0,0,IF(H22="",0,1)) -> 0 | N22: =IF($N$1="Noord",K22,IF($N$1="Midden",L22,M22)) -> 0 | O22: =IF(OR(D22="za",D22="zo"),0,N22) -> 0 | S22: 2 weken
A23: =E23&B23&D23 -> 20153wo | B23: =+B16+1 -> 3 | C23: =+C22+1 -> 42018 | D23: =+D16 -> wo | E23: =YEAR(C23) -> 2015 | F23: =IF(AND($C23>=$X$3,$C23<=$Y$3),"Vakantie",IF(AND($C23>=$X$4,$C23<=$Y$4),"Vakantie",IF(AND($C23>=$X$5,$C23<=$Y$5),"Vakantie",IF(AND($C23>=$X$6,$C23<=$Y$6),"Vakantie",IF(AND($C23>=$X$7,$C23<=$Y$7),"Vakantie",IF(OR($C23=$X$20,$C23=$X$21,$C23=$X$22,$C23=$X$23,$C23=$X$24,$C23=$X$25),"Vakantie","")))))) | G23: =IF(AND($C23>=$X$8,$C23<=$Y$8),"Vakantie",IF(AND($C23>=$X$9,$C23<=$Y$9),"Vakantie",IF(AND($C23>=$X$10,$C23<=$Y$10),"Vakantie",IF(AND($C23>=$X$11,$C23<=$Y$11),"Vakantie",IF(AND($C23>=$X$12,$C23<=$Y$12),"Vakantie",IF(OR($C23=$X$20,$C23=$X$21,$C23=$X$22,$C23=$X$23,$C23=$X$24,$C23=$X$25),"Vakantie","")))))) | H23: =IF(AND($C23>=$X$13,$C23<=$Y$13),"Vakantie",IF(AND($C23>=$X$14,$C23<=$Y$14),"Vakantie",IF(AND($C23>=$X$15,$C23<=$Y$15),"Vakantie",IF(AND($C23>=$X$16,$C23<=$Y$16),"Vakantie",IF(AND($C23>=$X$17,$C23<=$Y$17),"Vakantie",IF(OR($C23=$X$20,$C23=$X$21,$C23=$X$22,$C23=$X$23,$C23=$X$24,$C23=$X$25),"Vakantie","")))))) | I23: =+I16+1 -> 3 | J23: =IF(AND(Formulier!$E$44<=C23,Formulier!$O$38>=C23),"Verlof",0) -> 0 | K23: =IF(J23=0,0,IF(F23="",0,1)) -> 0 | L23: =IF(J23=0,0,IF(G23="",0,1)) -> 0 | M23: =IF(J23=0,0,IF(H23="",0,1)) -> 0 | N23: =IF($N$1="Noord",K23,IF($N$1="Midden",L23,M23)) -> 0 | O23: =IF(OR(D23="za",D23="zo"),0,N23) -> 0 | S23: Goedevrijdag
A24: =E24&B24&D24 -> 20153do | B24: =+B17+1 -> 3 | C24: =+C23+1 -> 42019 | D24: =+D17 -> do | E24: =YEAR(C24) -> 2015 | F24: =IF(AND($C24>=$X$3,$C24<=$Y$3),"Vakantie",IF(AND($C24>=$X$4,$C24<=$Y$4),"Vakantie",IF(AND($C24>=$X$5,$C24<=$Y$5),"Vakantie",IF(AND($C24>=$X$6,$C24<=$Y$6),"Vakantie",IF(AND($C24>=$X$7,$C24<=$Y$7),"Vakantie",IF(OR($C24=$X$20,$C24=$X$21,$C24=$X$22,$C24=$X$23,$C24=$X$24,$C24=$X$25),"Vakantie","")))))) | G24: =IF(AND($C24>=$X$8,$C24<=$Y$8),"Vakantie",IF(AND($C24>=$X$9,$C24<=$Y$9),"Vakantie",IF(AND($C24>=$X$10,$C24<=$Y$10),"Vakantie",IF(AND($C24>=$X$11,$C24<=$Y$11),"Vakantie",IF(AND($C24>=$X$12,$C24<=$Y$12),"Vakantie",IF(OR($C24=$X$20,$C24=$X$21,$C24=$X$22,$C24=$X$23,$C24=$X$24,$C24=$X$25),"Vakantie","")))))) | H24: =IF(AND($C24>=$X$13,$C24<=$Y$13),"Vakantie",IF(AND($C24>=$X$14,$C24<=$Y$14),"Vakantie",IF(AND($C24>=$X$15,$C24<=$Y$15),"Vakantie",IF(AND($C24>=$X$16,$C24<=$Y$16),"Vakantie",IF(AND($C24>=$X$17,$C24<=$Y$17),"Vakantie",IF(OR($C24=$X$20,$C24=$X$21,$C24=$X$22,$C24=$X$23,$C24=$X$24,$C24=$X$25),"Vakantie","")))))) | I24: =+I17+1 -> 3 | J24: =IF(AND(Formulier!$E$44<=C24,Formulier!$O$38>=C24),"Verlof",0) -> 0 | K24: =IF(J24=0,0,IF(F24="",0,1)) -> 0 | L24: =IF(J24=0,0,IF(G24="",0,1)) -> 0 | M24: =IF(J24=0,0,IF(H24="",0,1)) -> 0 | N24: =IF($N$1="Noord",K24,IF($N$1="Midden",L24,M24)) -> 0 | O24: =IF(OR(D24="za",D24="zo"),0,N24) -> 0 | S24: 2e Paasdag
A25: =E25&B25&D25 -> 20153vr | B25: =+B18+1 -> 3 | C25: =+C24+1 -> 42020 | D25: =+D18 -> vr | E25: =YEAR(C25) -> 2015 | F25: =IF(AND($C25>=$X$3,$C25<=$Y$3),"Vakantie",IF(AND($C25>=$X$4,$C25<=$Y$4),"Vakantie",IF(AND($C25>=$X$5,$C25<=$Y$5),"Vakantie",IF(AND($C25>=$X$6,$C25<=$Y$6),"Vakantie",IF(AND($C25>=$X$7,$C25<=$Y$7),"Vakantie",IF(OR($C25=$X$20,$C25=$X$21,$C25=$X$22,$C25=$X$23,$C25=$X$24,$C25=$X$25),"Vakantie","")))))) | G25: =IF(AND($C25>=$X$8,$C25<=$Y$8),"Vakantie",IF(AND($C25>=$X$9,$C25<=$Y$9),"Vakantie",IF(AND($C25>=$X$10,$C25<=$Y$10),"Vakantie",IF(AND($C25>=$X$11,$C25<=$Y$11),"Vakantie",IF(AND($C25>=$X$12,$C25<=$Y$12),"Vakantie",IF(OR($C25=$X$20,$C25=$X$21,$C25=$X$22,$C25=$X$23,$C25=$X$24,$C25=$X$25),"Vakantie","")))))) | H25: =IF(AND($C25>=$X$13,$C25<=$Y$13),"Vakantie",IF(AND($C25>=$X$14,$C25<=$Y$14),"Vakantie",IF(AND($C25>=$X$15,$C25<=$Y$15),"Vakantie",IF(AND($C25>=$X$16,$C25<=$Y$16),"Vakantie",IF(AND($C25>=$X$17,$C25<=$Y$17),"Vakantie",IF(OR($C25=$X$20,$C25=$X$21,$C25=$X$22,$C25=$X$23,$C25=$X$24,$C25=$X$25),"Vakantie","")))))) | I25: =+I18+1 -> 3 | J25: =IF(AND(Formulier!$E$44<=C25,Formulier!$O$38>=C25),"Verlof",0) -> 0 | K25: =IF(J25=0,0,IF(F25="",0,1)) -> 0 | L25: =IF(J25=0,0,IF(G25="",0,1)) -> 0 | M25: =IF(J25=0,0,IF(H25="",0,1)) -> 0 | N25: =IF($N$1="Noord",K25,IF($N$1="Midden",L25,M25)) -> 0 | O25: =IF(OR(D25="za",D25="zo"),0,N25) -> 0 | S25: Hemelvaartsdag
A26: =E26&B26&D26 -> 20153za | B26: =+B19+1 -> 3 | C26: =+C25+1 -> 42021 | D26: =+D19 -> za | E26: =YEAR(C26) -> 2015 | F26: =IF(AND($C26>=$X$3,$C26<=$Y$3),"Vakantie",IF(AND($C26>=$X$4,$C26<=$Y$4),"Vakantie",IF(AND($C26>=$X$5,$C26<=$Y$5),"Vakantie",IF(AND($C26>=$X$6,$C26<=$Y$6),"Vakantie",IF(AND($C26>=$X$7,$C26<=$Y$7),"Vakantie",IF(OR($C26=$X$20,$C26=$X$21,$C26=$X$22,$C26=$X$23,$C26=$X$24,$C26=$X$25),"Vakantie","")))))) | G26: =IF(AND($C26>=$X$8,$C26<=$Y$8),"Vakantie",IF(AND($C26>=$X$9,$C26<=$Y$9),"Vakantie",IF(AND($C26>=$X$10,$C26<=$Y$10),"Vakantie",IF(AND($C26>=$X$11,$C26<=$Y$11),"Vakantie",IF(AND($C26>=$X$12,$C26<=$Y$12),"Vakantie",IF(OR($C26=$X$20,$C26=$X$21,$C26=$X$22,$C26=$X$23,$C26=$X$24,$C26=$X$25),"Vakantie","")))))) | H26: =IF(AND($C26>=$X$13,$C26<=$Y$13),"Vakantie",IF(AND($C26>=$X$14,$C26<=$Y$14),"Vakantie",IF(AND($C26>=$X$15,$C26<=$Y$15),"Vakantie",IF(AND($C26>=$X$16,$C26<=$Y$16),"Vakantie",IF(AND($C26>=$X$17,$C26<=$Y$17),"Vakantie",IF(OR($C26=$X$20,$C26=$X$21,$C26=$X$22,$C26=$X$23,$C26=$X$24,$C26=$X$25),"Vakantie","")))))) | I26: =+I19+1 -> 3 | J26: =IF(AND(Formulier!$E$44<=C26,Formulier!$O$38>=C26),"Verlof",0) -> 0 | K26: =IF(J26=0,0,IF(F26="",0,1)) -> 0 | L26: =IF(J26=0,0,IF(G26="",0,1)) -> 0 | M26: =IF(J26=0,0,IF(H26="",0,1)) -> 0 | N26: =IF($N$1="Noord",K26,IF($N$1="Midden",L26,M26)) -> 0 | O26: =IF(OR(D26="za",D26="zo"),0,N26) -> 0 | S26: 2e Pinksterdag
A27: =E27&B27&D27 -> 20153zo | B27: =+B20+1 -> 3 | C27: =+C26+1 -> 42022 | D27: =+D20 -> zo | E27: =YEAR(C27) -> 2015 | F27: =IF(AND($C27>=$X$3,$C27<=$Y$3),"Vakantie",IF(AND($C27>=$X$4,$C27<=$Y$4),"Vakantie",IF(AND($C27>=$X$5,$C27<=$Y$5),"Vakantie",IF(AND($C27>=$X$6,$C27<=$Y$6),"Vakantie",IF(AND($C27>=$X$7,$C27<=$Y$7),"Vakantie",IF(OR($C27=$X$20,$C27=$X$21,$C27=$X$22,$C27=$X$23,$C27=$X$24,$C27=$X$25),"Vakantie","")))))) | G27: =IF(AND($C27>=$X$8,$C27<=$Y$8),"Vakantie",IF(AND($C27>=$X$9,$C27<=$Y$9),"Vakantie",IF(AND($C27>=$X$10,$C27<=$Y$10),"Vakantie",IF(AND($C27>=$X$11,$C27<=$Y$11),"Vakantie",IF(AND($C27>=$X$12,$C27<=$Y$12),"Vakantie",IF(OR($C27=$X$20,$C27=$X$21,$C27=$X$22,$C27=$X$23,$C27=$X$24,$C27=$X$25),"Vakantie","")))))) | H27: =IF(AND($C27>=$X$13,$C27<=$Y$13),"Vakantie",IF(AND($C27>=$X$14,$C27<=$Y$14),"Vakantie",IF(AND($C27>=$X$15,$C27<=$Y$15),"Vakantie",IF(AND($C27>=$X$16,$C27<=$Y$16),"Vakantie",IF(AND($C27>=$X$17,$C27<=$Y$17),"Vakantie",IF(OR($C27=$X$20,$C27=$X$21,$C27=$X$22,$C27=$X$23,$C27=$X$24,$C27=$X$25),"Vakantie","")))))) | I27: =+I20+1 -> 3 | J27: =IF(AND(Formulier!$E$44<=C27,Formulier!$O$38>=C27),"Verlof",0) -> 0 | K27: =IF(J27=0,0,IF(F27="",0,1)) -> 0 | L27: =IF(J27=0,0,IF(G27="",0,1)) -> 0 | M27: =IF(J27=0,0,IF(H27="",0,1)) -> 0 | N27: =IF($N$1="Noord",K27,IF($N$1="Midden",L27,M27)) -> 0 | O27: =IF(OR(D27="za",D27="zo"),0,N27) -> 0
A28: =E28&B28&D28 -> 20154ma | B28: =+B21+1 -> 4 | C28: =+C27+1 -> 42023 | D28: =+D21 -> ma | E28: =YEAR(C28) -> 2015 | F28: =IF(AND($C28>=$X$3,$C28<=$Y$3),"Vakantie",IF(AND($C28>=$X$4,$C28<=$Y$4),"Vakantie",IF(AND($C28>=$X$5,$C28<=$Y$5),"Vakantie",IF(AND($C28>=$X$6,$C28<=$Y$6),"Vakantie",IF(AND($C28>=$X$7,$C28<=$Y$7),"Vakantie",IF(OR($C28=$X$20,$C28=$X$21,$C28=$X$22,$C28=$X$23,$C28=$X$24,$C28=$X$25),"Vakantie","")))))) | G28: =IF(AND($C28>=$X$8,$C28<=$Y$8),"Vakantie",IF(AND($C28>=$X$9,$C28<=$Y$9),"Vakantie",IF(AND($C28>=$X$10,$C28<=$Y$10),"Vakantie",IF(AND($C28>=$X$11,$C28<=$Y$11),"Vakantie",IF(AND($C28>=$X$12,$C28<=$Y$12),"Vakantie",IF(OR($C28=$X$20,$C28=$X$21,$C28=$X$22,$C28=$X$23,$C28=$X$24,$C28=$X$25),"Vakantie","")))))) | H28: =IF(AND($C28>=$X$13,$C28<=$Y$13),"Vakantie",IF(AND($C28>=$X$14,$C28<=$Y$14),"Vakantie",IF(AND($C28>=$X$15,$C28<=$Y$15),"Vakantie",IF(AND($C28>=$X$16,$C28<=$Y$16),"Vakantie",IF(AND($C28>=$X$17,$C28<=$Y$17),"Vakantie",IF(OR($C28=$X$20,$C28=$X$21,$C28=$X$22,$C28=$X$23,$C28=$X$24,$C28=$X$25),"Vakantie","")))))) | I28: =+I21+1 -> 4 | J28: =IF(AND(Formulier!$E$44<=C28,Formulier!$O$38>=C28),"Verlof",0) -> 0 | K28: =IF(J28=0,0,IF(F28="",0,1)) -> 0 | L28: =IF(J28=0,0,IF(G28="",0,1)) -> 0 | M28: =IF(J28=0,0,IF(H28="",0,1)) -> 0 | N28: =IF($N$1="Noord",K28,IF($N$1="Midden",L28,M28)) -> 0 | O28: =IF(OR(D28="za",D28="zo"),0,N28) -> 0
A29: =E29&B29&D29 -> 20154di | B29: =+B22+1 -> 4 | C29: =+C28+1 -> 42024 | D29: =+D22 -> di | E29: =YEAR(C29) -> 2015 | F29: =IF(AND($C29>=$X$3,$C29<=$Y$3),"Vakantie",IF(AND($C29>=$X$4,$C29<=$Y$4),"Vakantie",IF(AND($C29>=$X$5,$C29<=$Y$5),"Vakantie",IF(AND($C29>=$X$6,$C29<=$Y$6),"Vakantie",IF(AND($C29>=$X$7,$C29<=$Y$7),"Vakantie",IF(OR($C29=$X$20,$C29=$X$21,$C29=$X$22,$C29=$X$23,$C29=$X$24,$C29=$X$25),"Vakantie","")))))) | G29: =IF(AND($C29>=$X$8,$C29<=$Y$8),"Vakantie",IF(AND($C29>=$X$9,$C29<=$Y$9),"Vakantie",IF(AND($C29>=$X$10,$C29<=$Y$10),"Vakantie",IF(AND($C29>=$X$11,$C29<=$Y$11),"Vakantie",IF(AND($C29>=$X$12,$C29<=$Y$12),"Vakantie",IF(OR($C29=$X$20,$C29=$X$21,$C29=$X$22,$C29=$X$23,$C29=$X$24,$C29=$X$25),"Vakantie","")))))) | H29: =IF(AND($C29>=$X$13,$C29<=$Y$13),"Vakantie",IF(AND($C29>=$X$14,$C29<=$Y$14),"Vakantie",IF(AND($C29>=$X$15,$C29<=$Y$15),"Vakantie",IF(AND($C29>=$X$16,$C29<=$Y$16),"Vakantie",IF(AND($C29>=$X$17,$C29<=$Y$17),"Vakantie",IF(OR($C29=$X$20,$C29=$X$21,$C29=$X$22,$C29=$X$23,$C29=$X$24,$C29=$X$25),"Vakantie","")))))) | I29: =+I22+1 -> 4 | J29: =IF(AND(Formulier!$E$44<=C29,Formulier!$O$38>=C29),"Verlof",0) -> 0 | K29: =IF(J29=0,0,IF(F29="",0,1)) -> 0 | L29: =IF(J29=0,0,IF(G29="",0,1)) -> 0 | M29: =IF(J29=0,0,IF(H29="",0,1)) -> 0 | N29: =IF($N$1="Noord",K29,IF($N$1="Midden",L29,M29)) -> 0 | O29: =IF(OR(D29="za",D29="zo"),0,N29) -> 0
A30: =E30&B30&D30 -> 20154wo | B30: =+B23+1 -> 4 | C30: =+C29+1 -> 42025 | D30: =+D23 -> wo | E30: =YEAR(C30) -> 2015 | F30: =IF(AND($C30>=$X$3,$C30<=$Y$3),"Vakantie",IF(AND($C30>=$X$4,$C30<=$Y$4),"Vakantie",IF(AND($C30>=$X$5,$C30<=$Y$5),"Vakantie",IF(AND($C30>=$X$6,$C30<=$Y$6),"Vakantie",IF(AND($C30>=$X$7,$C30<=$Y$7),"Vakantie",IF(OR($C30=$X$20,$C30=$X$21,$C30=$X$22,$C30=$X$23,$C30=$X$24,$C30=$X$25),"Vakantie","")))))) | G30: =IF(AND($C30>=$X$8,$C30<=$Y$8),"Vakantie",IF(AND($C30>=$X$9,$C30<=$Y$9),"Vakantie",IF(AND($C30>=$X$10,$C30<=$Y$10),"Vakantie",IF(AND($C30>=$X$11,$C30<=$Y$11),"Vakantie",IF(AND($C30>=$X$12,$C30<=$Y$12),"Vakantie",IF(OR($C30=$X$20,$C30=$X$21,$C30=$X$22,$C30=$X$23,$C30=$X$24,$C30=$X$25),"Vakantie","")))))) | H30: =IF(AND($C30>=$X$13,$C30<=$Y$13),"Vakantie",IF(AND($C30>=$X$14,$C30<=$Y$14),"Vakantie",IF(AND($C30>=$X$15,$C30<=$Y$15),"Vakantie",IF(AND($C30>=$X$16,$C30<=$Y$16),"Vakantie",IF(AND($C30>=$X$17,$C30<=$Y$17),"Vakantie",IF(OR($C30=$X$20,$C30=$X$21,$C30=$X$22,$C30=$X$23,$C30=$X$24,$C30=$X$25),"Vakantie","")))))) | I30: =+I23+1 -> 4 | J30: =IF(AND(Formulier!$E$44<=C30,Formulier!$O$38>=C30),"Verlof",0) -> 0 | K30: =IF(J30=0,0,IF(F30="",0,1)) -> 0 | L30: =IF(J30=0,0,IF(G30="",0,1)) -> 0 | M30: =IF(J30=0,0,IF(H30="",0,1)) -> 0 | N30: =IF($N$1="Noord",K30,IF($N$1="Midden",L30,M30)) -> 0 | O30: =IF(OR(D30="za",D30="zo"),0,N30) -> 0
A31: =E31&B31&D31 -> 20154do | B31: =+B24+1 -> 4 | C31: =+C30+1 -> 42026 | D31: =+D24 -> do | E31: =YEAR(C31) -> 2015 | F31: =IF(AND($C31>=$X$3,$C31<=$Y$3),"Vakantie",IF(AND($C31>=$X$4,$C31<=$Y$4),"Vakantie",IF(AND($C31>=$X$5,$C31<=$Y$5),"Vakantie",IF(AND($C31>=$X$6,$C31<=$Y$6),"Vakantie",IF(AND($C31>=$X$7,$C31<=$Y$7),"Vakantie",IF(OR($C31=$X$20,$C31=$X$21,$C31=$X$22,$C31=$X$23,$C31=$X$24,$C31=$X$25),"Vakantie","")))))) | G31: =IF(AND($C31>=$X$8,$C31<=$Y$8),"Vakantie",IF(AND($C31>=$X$9,$C31<=$Y$9),"Vakantie",IF(AND($C31>=$X$10,$C31<=$Y$10),"Vakantie",IF(AND($C31>=$X$11,$C31<=$Y$11),"Vakantie",IF(AND($C31>=$X$12,$C31<=$Y$12),"Vakantie",IF(OR($C31=$X$20,$C31=$X$21,$C31=$X$22,$C31=$X$23,$C31=$X$24,$C31=$X$25),"Vakantie","")))))) | H31: =IF(AND($C31>=$X$13,$C31<=$Y$13),"Vakantie",IF(AND($C31>=$X$14,$C31<=$Y$14),"Vakantie",IF(AND($C31>=$X$15,$C31<=$Y$15),"Vakantie",IF(AND($C31>=$X$16,$C31<=$Y$16),"Vakantie",IF(AND($C31>=$X$17,$C31<=$Y$17),"Vakantie",IF(OR($C31=$X$20,$C31=$X$21,$C31=$X$22,$C31=$X$23,$C31=$X$24,$C31=$X$25),"Vakantie","")))))) | I31: =+I24+1 -> 4 | J31: =IF(AND(Formulier!$E$44<=C31,Formulier!$O$38>=C31),"Verlof",0) -> 0 | K31: =IF(J31=0,0,IF(F31="",0,1)) -> 0 | L31: =IF(J31=0,0,IF(G31="",0,1)) -> 0 | M31: =IF(J31=0,0,IF(H31="",0,1)) -> 0 | N31: =IF($N$1="Noord",K31,IF($N$1="Midden",L31,M31)) -> 0 | O31: =IF(OR(D31="za",D31="zo"),0,N31) -> 0
A32: =E32&B32&D32 -> 20154vr | B32: =+B25+1 -> 4 | C32: =+C31+1 -> 42027 | D32: =+D25 -> vr | E32: =YEAR(C32) -> 2015 | F32: =IF(AND($C32>=$X$3,$C32<=$Y$3),"Vakantie",IF(AND($C32>=$X$4,$C32<=$Y$4),"Vakantie",IF(AND($C32>=$X$5,$C32<=$Y$5),"Vakantie",IF(AND($C32>=$X$6,$C32<=$Y$6),"Vakantie",IF(AND($C32>=$X$7,$C32<=$Y$7),"Vakantie",IF(OR($C32=$X$20,$C32=$X$21,$C32=$X$22,$C32=$X$23,$C32=$X$24,$C32=$X$25),"Vakantie","")))))) | G32: =IF(AND($C32>=$X$8,$C32<=$Y$8),"Vakantie",IF(AND($C32>=$X$9,$C32<=$Y$9),"Vakantie",IF(AND($C32>=$X$10,$C32<=$Y$10),"Vakantie",IF(AND($C32>=$X$11,$C32<=$Y$11),"Vakantie",IF(AND($C32>=$X$12,$C32<=$Y$12),"Vakantie",IF(OR($C32=$X$20,$C32=$X$21,$C32=$X$22,$C32=$X$23,$C32=$X$24,$C32=$X$25),"Vakantie","")))))) | H32: =IF(AND($C32>=$X$13,$C32<=$Y$13),"Vakantie",IF(AND($C32>=$X$14,$C32<=$Y$14),"Vakantie",IF(AND($C32>=$X$15,$C32<=$Y$15),"Vakantie",IF(AND($C32>=$X$16,$C32<=$Y$16),"Vakantie",IF(AND($C32>=$X$17,$C32<=$Y$17),"Vakantie",IF(OR($C32=$X$20,$C32=$X$21,$C32=$X$22,$C32=$X$23,$C32=$X$24,$C32=$X$25),"Vakantie","")))))) | I32: =+I25+1 -> 4 | J32: =IF(AND(Formulier!$E$44<=C32,Formulier!$O$38>=C32),"Verlof",0) -> 0 | K32: =IF(J32=0,0,IF(F32="",0,1)) -> 0 | L32: =IF(J32=0,0,IF(G32="",0,1)) -> 0 | M32: =IF(J32=0,0,IF(H32="",0,1)) -> 0 | N32: =IF($N$1="Noord",K32,IF($N$1="Midden",L32,M32)) -> 0 | O32: =IF(OR(D32="za",D32="zo"),0,N32) -> 0
A33: =E33&B33&D33 -> 20154za | B33: =+B26+1 -> 4 | C33: =+C32+1 -> 42028 | D33: =+D26 -> za | E33: =YEAR(C33) -> 2015 | F33: =IF(AND($C33>=$X$3,$C33<=$Y$3),"Vakantie",IF(AND($C33>=$X$4,$C33<=$Y$4),"Vakantie",IF(AND($C33>=$X$5,$C33<=$Y$5),"Vakantie",IF(AND($C33>=$X$6,$C33<=$Y$6),"Vakantie",IF(AND($C33>=$X$7,$C33<=$Y$7),"Vakantie",IF(OR($C33=$X$20,$C33=$X$21,$C33=$X$22,$C33=$X$23,$C33=$X$24,$C33=$X$25),"Vakantie","")))))) | G33: =IF(AND($C33>=$X$8,$C33<=$Y$8),"Vakantie",IF(AND($C33>=$X$9,$C33<=$Y$9),"Vakantie",IF(AND($C33>=$X$10,$C33<=$Y$10),"Vakantie",IF(AND($C33>=$X$11,$C33<=$Y$11),"Vakantie",IF(AND($C33>=$X$12,$C33<=$Y$12),"Vakantie",IF(OR($C33=$X$20,$C33=$X$21,$C33=$X$22,$C33=$X$23,$C33=$X$24,$C33=$X$25),"Vakantie","")))))) | H33: =IF(AND($C33>=$X$13,$C33<=$Y$13),"Vakantie",IF(AND($C33>=$X$14,$C33<=$Y$14),"Vakantie",IF(AND($C33>=$X$15,$C33<=$Y$15),"Vakantie",IF(AND($C33>=$X$16,$C33<=$Y$16),"Vakantie",IF(AND($C33>=$X$17,$C33<=$Y$17),"Vakantie",IF(OR($C33=$X$20,$C33=$X$21,$C33=$X$22,$C33=$X$23,$C33=$X$24,$C33=$X$25),"Vakantie","")))))) | I33: =+I26+1 -> 4 | J33: =IF(AND(Formulier!$E$44<=C33,Formulier!$O$38>=C33),"Verlof",0) -> 0 | K33: =IF(J33=0,0,IF(F33="",0,1)) -> 0 | L33: =IF(J33=0,0,IF(G33="",0,1)) -> 0 | M33: =IF(J33=0,0,IF(H33="",0,1)) -> 0 | N33: =IF($N$1="Noord",K33,IF($N$1="Midden",L33,M33)) -> 0 | O33: =IF(OR(D33="za",D33="zo"),0,N33) -> 0
A34: =E34&B34&D34 -> 20154zo | B34: =+B27+1 -> 4 | C34: =+C33+1 -> 42029 | D34: =+D27 -> zo | E34: =YEAR(C34) -> 2015 | F34: =IF(AND($C34>=$X$3,$C34<=$Y$3),"Vakantie",IF(AND($C34>=$X$4,$C34<=$Y$4),"Vakantie",IF(AND($C34>=$X$5,$C34<=$Y$5),"Vakantie",IF(AND($C34>=$X$6,$C34<=$Y$6),"Vakantie",IF(AND($C34>=$X$7,$C34<=$Y$7),"Vakantie",IF(OR($C34=$X$20,$C34=$X$21,$C34=$X$22,$C34=$X$23,$C34=$X$24,$C34=$X$25),"Vakantie","")))))) | G34: =IF(AND($C34>=$X$8,$C34<=$Y$8),"Vakantie",IF(AND($C34>=$X$9,$C34<=$Y$9),"Vakantie",IF(AND($C34>=$X$10,$C34<=$Y$10),"Vakantie",IF(AND($C34>=$X$11,$C34<=$Y$11),"Vakantie",IF(AND($C34>=$X$12,$C34<=$Y$12),"Vakantie",IF(OR($C34=$X$20,$C34=$X$21,$C34=$X$22,$C34=$X$23,$C34=$X$24,$C34=$X$25),"Vakantie","")))))) | H34: =IF(AND($C34>=$X$13,$C34<=$Y$13),"Vakantie",IF(AND($C34>=$X$14,$C34<=$Y$14),"Vakantie",IF(AND($C34>=$X$15,$C34<=$Y$15),"Vakantie",IF(AND($C34>=$X$16,$C34<=$Y$16),"Vakantie",IF(AND($C34>=$X$17,$C34<=$Y$17),"Vakantie",IF(OR($C34=$X$20,$C34=$X$21,$C34=$X$22,$C34=$X$23,$C34=$X$24,$C34=$X$25),"Vakantie","")))))) | I34: =+I27+1 -> 4 | J34: =IF(AND(Formulier!$E$44<=C34,Formulier!$O$38>=C34),"Verlof",0) -> 0 | K34: =IF(J34=0,0,IF(F34="",0,1)) -> 0 | L34: =IF(J34=0,0,IF(G34="",0,1)) -> 0 | M34: =IF(J34=0,0,IF(H34="",0,1)) -> 0 | N34: =IF($N$1="Noord",K34,IF($N$1="Midden",L34,M34)) -> 0 | O34: =IF(OR(D34="za",D34="zo"),0,N34) -> 0
A35: =E35&B35&D35 -> 20155ma | B35: =+B28+1 -> 5 | C35: =+C34+1 -> 42030 | D35: =+D28 -> ma | E35: =YEAR(C35) -> 2015 | F35: =IF(AND($C35>=$X$3,$C35<=$Y$3),"Vakantie",IF(AND($C35>=$X$4,$C35<=$Y$4),"Vakantie",IF(AND($C35>=$X$5,$C35<=$Y$5),"Vakantie",IF(AND($C35>=$X$6,$C35<=$Y$6),"Vakantie",IF(AND($C35>=$X$7,$C35<=$Y$7),"Vakantie",IF(OR($C35=$X$20,$C35=$X$21,$C35=$X$22,$C35=$X$23,$C35=$X$24,$C35=$X$25),"Vakantie","")))))) | G35: =IF(AND($C35>=$X$8,$C35<=$Y$8),"Vakantie",IF(AND($C35>=$X$9,$C35<=$Y$9),"Vakantie",IF(AND($C35>=$X$10,$C35<=$Y$10),"Vakantie",IF(AND($C35>=$X$11,$C35<=$Y$11),"Vakantie",IF(AND($C35>=$X$12,$C35<=$Y$12),"Vakantie",IF(OR($C35=$X$20,$C35=$X$21,$C35=$X$22,$C35=$X$23,$C35=$X$24,$C35=$X$25),"Vakantie","")))))) | H35: =IF(AND($C35>=$X$13,$C35<=$Y$13),"Vakantie",IF(AND($C35>=$X$14,$C35<=$Y$14),"Vakantie",IF(AND($C35>=$X$15,$C35<=$Y$15),"Vakantie",IF(AND($C35>=$X$16,$C35<=$Y$16),"Vakantie",IF(AND($C35>=$X$17,$C35<=$Y$17),"Vakantie",IF(OR($C35=$X$20,$C35=$X$21,$C35=$X$22,$C35=$X$23,$C35=$X$24,$C35=$X$25),"Vakantie","")))))) | I35: =+I28+1 -> 5 | J35: =IF(AND(Formulier!$E$44<=C35,Formulier!$O$38>=C35),"Verlof",0) -> 0 | K35: =IF(J35=0,0,IF(F35="",0,1)) -> 0 | L35: =IF(J35=0,0,IF(G35="",0,1)) -> 0 | M35: =IF(J35=0,0,IF(H35="",0,1)) -> 0 | N35: =IF($N$1="Noord",K35,IF($N$1="Midden",L35,M35)) -> 0 | O35: =IF(OR(D35="za",D35="zo"),0,N35) -> 0
A36: =E36&B36&D36 -> 20155di | B36: =+B29+1 -> 5 | C36: =+C35+1 -> 42031 | D36: =+D29 -> di | E36: =YEAR(C36) -> 2015 | F36: =IF(AND($C36>=$X$3,$C36<=$Y$3),"Vakantie",IF(AND($C36>=$X$4,$C36<=$Y$4),"Vakantie",IF(AND($C36>=$X$5,$C36<=$Y$5),"Vakantie",IF(AND($C36>=$X$6,$C36<=$Y$6),"Vakantie",IF(AND($C36>=$X$7,$C36<=$Y$7),"Vakantie",IF(OR($C36=$X$20,$C36=$X$21,$C36=$X$22,$C36=$X$23,$C36=$X$24,$C36=$X$25),"Vakantie","")))))) | G36: =IF(AND($C36>=$X$8,$C36<=$Y$8),"Vakantie",IF(AND($C36>=$X$9,$C36<=$Y$9),"Vakantie",IF(AND($C36>=$X$10,$C36<=$Y$10),"Vakantie",IF(AND($C36>=$X$11,$C36<=$Y$11),"Vakantie",IF(AND($C36>=$X$12,$C36<=$Y$12),"Vakantie",IF(OR($C36=$X$20,$C36=$X$21,$C36=$X$22,$C36=$X$23,$C36=$X$24,$C36=$X$25),"Vakantie","")))))) | H36: =IF(AND($C36>=$X$13,$C36<=$Y$13),"Vakantie",IF(AND($C36>=$X$14,$C36<=$Y$14),"Vakantie",IF(AND($C36>=$X$15,$C36<=$Y$15),"Vakantie",IF(AND($C36>=$X$16,$C36<=$Y$16),"Vakantie",IF(AND($C36>=$X$17,$C36<=$Y$17),"Vakantie",IF(OR($C36=$X$20,$C36=$X$21,$C36=$X$22,$C36=$X$23,$C36=$X$24,$C36=$X$25),"Vakantie","")))))) | I36: =+I29+1 -> 5 | J36: =IF(AND(Formulier!$E$44<=C36,Formulier!$O$38>=C36),"Verlof",0) -> 0 | K36: =IF(J36=0,0,IF(F36="",0,1)) -> 0 | L36: =IF(J36=0,0,IF(G36="",0,1)) -> 0 | M36: =IF(J36=0,0,IF(H36="",0,1)) -> 0 | N36: =IF($N$1="Noord",K36,IF($N$1="Midden",L36,M36)) -> 0 | O36: =IF(OR(D36="za",D36="zo"),0,N36) -> 0
A37: =E37&B37&D37 -> 20155wo | B37: =+B30+1 -> 5 | C37: =+C36+1 -> 42032 | D37: =+D30 -> wo | E37: =YEAR(C37) -> 2015 | F37: =IF(AND($C37>=$X$3,$C37<=$Y$3),"Vakantie",IF(AND($C37>=$X$4,$C37<=$Y$4),"Vakantie",IF(AND($C37>=$X$5,$C37<=$Y$5),"Vakantie",IF(AND($C37>=$X$6,$C37<=$Y$6),"Vakantie",IF(AND($C37>=$X$7,$C37<=$Y$7),"Vakantie",IF(OR($C37=$X$20,$C37=$X$21,$C37=$X$22,$C37=$X$23,$C37=$X$24,$C37=$X$25),"Vakantie","")))))) | G37: =IF(AND($C37>=$X$8,$C37<=$Y$8),"Vakantie",IF(AND($C37>=$X$9,$C37<=$Y$9),"Vakantie",IF(AND($C37>=$X$10,$C37<=$Y$10),"Vakantie",IF(AND($C37>=$X$11,$C37<=$Y$11),"Vakantie",IF(AND($C37>=$X$12,$C37<=$Y$12),"Vakantie",IF(OR($C37=$X$20,$C37=$X$21,$C37=$X$22,$C37=$X$23,$C37=$X$24,$C37=$X$25),"Vakantie","")))))) | H37: =IF(AND($C37>=$X$13,$C37<=$Y$13),"Vakantie",IF(AND($C37>=$X$14,$C37<=$Y$14),"Vakantie",IF(AND($C37>=$X$15,$C37<=$Y$15),"Vakantie",IF(AND($C37>=$X$16,$C37<=$Y$16),"Vakantie",IF(AND($C37>=$X$17,$C37<=$Y$17),"Vakantie",IF(OR($C37=$X$20,$C37=$X$21,$C37=$X$22,$C37=$X$23,$C37=$X$24,$C37=$X$25),"Vakantie","")))))) | I37: =+I30+1 -> 5 | J37: =IF(AND(Formulier!$E$44<=C37,Formulier!$O$38>=C37),"Verlof",0) -> 0 | K37: =IF(J37=0,0,IF(F37="",0,1)) -> 0 | L37: =IF(J37=0,0,IF(G37="",0,1)) -> 0 | M37: =IF(J37=0,0,IF(H37="",0,1)) -> 0 | N37: =IF($N$1="Noord",K37,IF($N$1="Midden",L37,M37)) -> 0 | O37: =IF(OR(D37="za",D37="zo"),0,N37) -> 0
A38: =E38&B38&D38 -> 20155do | B38: =+B31+1 -> 5 | C38: =+C37+1 -> 42033 | D38: =+D31 -> do | E38: =YEAR(C38) -> 2015 | F38: =IF(AND($C38>=$X$3,$C38<=$Y$3),"Vakantie",IF(AND($C38>=$X$4,$C38<=$Y$4),"Vakantie",IF(AND($C38>=$X$5,$C38<=$Y$5),"Vakantie",IF(AND($C38>=$X$6,$C38<=$Y$6),"Vakantie",IF(AND($C38>=$X$7,$C38<=$Y$7),"Vakantie",IF(OR($C38=$X$20,$C38=$X$21,$C38=$X$22,$C38=$X$23,$C38=$X$24,$C38=$X$25),"Vakantie","")))))) | G38: =IF(AND($C38>=$X$8,$C38<=$Y$8),"Vakantie",IF(AND($C38>=$X$9,$C38<=$Y$9),"Vakantie",IF(AND($C38>=$X$10,$C38<=$Y$10),"Vakantie",IF(AND($C38>=$X$11,$C38<=$Y$11),"Vakantie",IF(AND($C38>=$X$12,$C38<=$Y$12),"Vakantie",IF(OR($C38=$X$20,$C38=$X$21,$C38=$X$22,$C38=$X$23,$C38=$X$24,$C38=$X$25),"Vakantie","")))))) | H38: =IF(AND($C38>=$X$13,$C38<=$Y$13),"Vakantie",IF(AND($C38>=$X$14,$C38<=$Y$14),"Vakantie",IF(AND($C38>=$X$15,$C38<=$Y$15),"Vakantie",IF(AND($C38>=$X$16,$C38<=$Y$16),"Vakantie",IF(AND($C38>=$X$17,$C38<=$Y$17),"Vakantie",IF(OR($C38=$X$20,$C38=$X$21,$C38=$X$22,$C38=$X$23,$C38=$X$24,$C38=$X$25),"Vakantie","")))))) | I38: =+I31+1 -> 5 | J38: =IF(AND(Formulier!$E$44<=C38,Formulier!$O$38>=C38),"Verlof",0) -> 0 | K38: =IF(J38=0,0,IF(F38="",0,1)) -> 0 | L38: =IF(J38=0,0,IF(G38="",0,1)) -> 0 | M38: =IF(J38=0,0,IF(H38="",0,1)) -> 0 | N38: =IF($N$1="Noord",K38,IF($N$1="Midden",L38,M38)) -> 0 | O38: =IF(OR(D38="za",D38="zo"),0,N38) -> 0
... A374: =E374&B374&D374 -> 201553do | B374: =+B367+1 -> 53 | C374: =+C373+1 -> 42369 | D374: =+D367 -> do | E374: =YEAR(C374) -> 2015 | F374: =IF(AND($C374>=$X$3,$C374<=$Y$3),"Vakantie",IF(AND($C374>=$X$4,$C374<=$Y$4),"Vakantie",IF(AND($C374>=$X$5,$C374<=$Y$5),"Vakantie",IF(AND($C374>=$X$6,$C374<=$Y$6),"Vakantie",IF(AND($C374>=$X$7,$C374<=$Y$7),"Vakantie",IF(OR($C374=$X$20,$C374=$X$21,$C374=$X$22,$C374=$X$23,$C374=$X$24,$C374=$X$25),"Vakantie","")))))) | G374: =IF(AND($C374>=$X$8,$C374<=$Y$8),"Vakantie",IF(AND($C374>=$X$9,$C374<=$Y$9),"Vakantie",IF(AND($C374>=$X$10,$C374<=$Y$10),"Vakantie",IF(AND($C374>=$X$11,$C374<=$Y$11),"Vakantie",IF(AND($C374>=$X$12,$C374<=$Y$12),"Vakantie",IF(OR($C374=$X$20,$C374=$X$21,$C374=$X$22,$C374=$X$23,$C374=$X$24,$C374=$X$25),"Vakantie","")))))) | H374: =IF(AND($C374>=$X$13,$C374<=$Y$13),"Vakantie",IF(AND($C374>=$X$14,$C374<=$Y$14),"Vakantie",IF(AND($C374>=$X$15,$C374<=$Y$15),"Vakantie",IF(AND($C374>=$X$16,$C374<=$Y$16),"Vakantie",IF(AND($C374>=$X$17,$C374<=$Y$17),"Vakantie",IF(OR($C374=$X$20,$C374=$X$21,$C374=$X$22,$C374=$X$23,$C374=$X$24,$C374=$X$25),"Vakantie","")))))) | I374: =+I367+1 -> 53 | J374: =IF(AND(Formulier!$E$44<=C374,Formulier!$O$38>=C374),"Verlof",0) -> 0 | K374: =IF(J374=0,0,IF(F374="",0,1)) -> 0 | L374: =IF(J374=0,0,IF(G374="",0,1)) -> 0 | M374: =IF(J374=0,0,IF(H374="",0,1)) -> 0 | N374: =IF($N$1="Noord",K374,IF($N$1="Midden",L374,M374)) -> 0 | O374: =IF(OR(D374="za",D374="zo"),0,N374) -> 0
A375: =E375&B375&D375 -> 201553vr | B375: 53 | C375: 42370 | D375: vr | E375: 2015 | F375: =IF(AND($C375>=$X$3,$C375<=$Y$3),"Vakantie",IF(AND($C375>=$X$4,$C375<=$Y$4),"Vakantie",IF(AND($C375>=$X$5,$C375<=$Y$5),"Vakantie",IF(AND($C375>=$X$6,$C375<=$Y$6),"Vakantie",IF(AND($C375>=$X$7,$C375<=$Y$7),"Vakantie",IF(OR($C375=$X$20,$C375=$X$21,$C375=$X$22,$C375=$X$23,$C375=$X$24,$C375=$X$25),"Vakantie","")))))) | G375: =IF(AND($C375>=$X$8,$C375<=$Y$8),"Vakantie",IF(AND($C375>=$X$9,$C375<=$Y$9),"Vakantie",IF(AND($C375>=$X$10,$C375<=$Y$10),"Vakantie",IF(AND($C375>=$X$11,$C375<=$Y$11),"Vakantie",IF(AND($C375>=$X$12,$C375<=$Y$12),"Vakantie",IF(OR($C375=$X$20,$C375=$X$21,$C375=$X$22,$C375=$X$23,$C375=$X$24,$C375=$X$25),"Vakantie","")))))) | H375: =IF(AND($C375>=$X$13,$C375<=$Y$13),"Vakantie",IF(AND($C375>=$X$14,$C375<=$Y$14),"Vakantie",IF(AND($C375>=$X$15,$C375<=$Y$15),"Vakantie",IF(AND($C375>=$X$16,$C375<=$Y$16),"Vakantie",IF(AND($C375>=$X$17,$C375<=$Y$17),"Vakantie",IF(OR($C375=$X$20,$C375=$X$21,$C375=$X$22,$C375=$X$23,$C375=$X$24,$C375=$X$25),"Vakantie","")))))) | I375: 53 | J375: =IF(AND(Formulier!$E$44<=C375,Formulier!$O$38>=C375),"Verlof",0) -> 0 | O375: =IF(OR(D375="za",D375="zo"),0,N375) -> 0
A376: =E376&B376&D376 -> 20161ma | B376: 1 | C376: 42366 | D376: ma | E376: 2016 | F376: Vakantie | G376: Vakantie | H376: Vakantie | I376: 1 | J376: =IF(AND(Formulier!$E$44<=C376,Formulier!$O$38>=C376),"Verlof",0) -> 0 | O376: =IF(OR(D376="za",D376="zo"),0,N376) -> 0
A377: =E377&B377&D377 -> 20161di | B377: 1 | C377: 42367 | D377: di | E377: 2016 | F377: Vakantie | G377: Vakantie | H377: Vakantie | I377: 1 | J377: =IF(AND(Formulier!$E$44<=C377,Formulier!$O$38>=C377),"Verlof",0) -> 0 | O377: =IF(OR(D377="za",D377="zo"),0,N377) -> 0
A378: =E378&B378&D378 -> 20161wo | B378: 1 | C378: 42368 | D378: wo | E378: 2016 | F378: Vakantie | G378: Vakantie | H378: Vakantie | I378: 1 | J378: =IF(AND(Formulier!$E$44<=C378,Formulier!$O$38>=C378),"Verlof",0) -> 0 | O378: =IF(OR(D378="za",D378="zo"),0,N378) -> 0
A379: =E379&B379&D379 -> 20161do | B379: 1 | C379: 42369 | D379: do | E379: 2016 | F379: Vakantie | G379: Vakantie | H379: Vakantie | I379: 1 | J379: =IF(AND(Formulier!$E$44<=C379,Formulier!$O$38>=C379),"Verlof",0) -> 0 | O379: =IF(OR(D379="za",D379="zo"),0,N379) -> 0
A380: =E380&B380&D380 -> 20161vr | B380: 1 | C380: =+C374+1 -> 42370 | D380: =+D368 -> vr | E380: =YEAR(C380) -> 2016 | F380: =IF(AND($C380>=$X$3,$C380<=$Y$3),"Vakantie",IF(AND($C380>=$X$4,$C380<=$Y$4),"Vakantie",IF(AND($C380>=$X$5,$C380<=$Y$5),"Vakantie",IF(AND($C380>=$X$6,$C380<=$Y$6),"Vakantie",IF(AND($C380>=$X$7,$C380<=$Y$7),"Vakantie",IF(OR($C380=$X$20,$C380=$X$21,$C380=$X$22,$C380=$X$23,$C380=$X$24,$C380=$X$25),"Vakantie","")))))) | G380: =IF(AND($C380>=$X$8,$C380<=$Y$8),"Vakantie",IF(AND($C380>=$X$9,$C380<=$Y$9),"Vakantie",IF(AND($C380>=$X$10,$C380<=$Y$10),"Vakantie",IF(AND($C380>=$X$11,$C380<=$Y$11),"Vakantie",IF(AND($C380>=$X$12,$C380<=$Y$12),"Vakantie",IF(OR($C380=$X$20,$C380=$X$21,$C380=$X$22,$C380=$X$23,$C380=$X$24,$C380=$X$25),"Vakantie","")))))) | H380: =IF(AND($C380>=$X$13,$C380<=$Y$13),"Vakantie",IF(AND($C380>=$X$14,$C380<=$Y$14),"Vakantie",IF(AND($C380>=$X$15,$C380<=$Y$15),"Vakantie",IF(AND($C380>=$X$16,$C380<=$Y$16),"Vakantie",IF(AND($C380>=$X$17,$C380<=$Y$17),"Vakantie",IF(OR($C380=$X$20,$C380=$X$21,$C380=$X$22,$C380=$X$23,$C380=$X$24,$C380=$X$25),"Vakantie","")))))) | I380: 1 | J380: =IF(AND(Formulier!$E$44<=C380,Formulier!$O$38>=C380),"Verlof",0) -> 0 | K380: =IF(J380=0,0,IF(F380="",0,1)) -> 0 | L380: =IF(J380=0,0,IF(G380="",0,1)) -> 0 | M380: =IF(J380=0,0,IF(H380="",0,1)) -> 0 | N380: =IF($N$1="Noord",K380,IF($N$1="Midden",L380,M380)) -> 0 | O380: =IF(OR(D380="za",D380="zo"),0,N380) -> 0
A381: =E381&B381&D381 -> 20161za | B381: 1 | C381: =+C380+1 -> 42371 | D381: =+D369 -> za | E381: =YEAR(C381) -> 2016 | F381: =IF(AND($C381>=$X$3,$C381<=$Y$3),"Vakantie",IF(AND($C381>=$X$4,$C381<=$Y$4),"Vakantie",IF(AND($C381>=$X$5,$C381<=$Y$5),"Vakantie",IF(AND($C381>=$X$6,$C381<=$Y$6),"Vakantie",IF(AND($C381>=$X$7,$C381<=$Y$7),"Vakantie",IF(OR($C381=$X$20,$C381=$X$21,$C381=$X$22,$C381=$X$23,$C381=$X$24,$C381=$X$25),"Vakantie","")))))) | G381: =IF(AND($C381>=$X$8,$C381<=$Y$8),"Vakantie",IF(AND($C381>=$X$9,$C381<=$Y$9),"Vakantie",IF(AND($C381>=$X$10,$C381<=$Y$10),"Vakantie",IF(AND($C381>=$X$11,$C381<=$Y$11),"Vakantie",IF(AND($C381>=$X$12,$C381<=$Y$12),"Vakantie",IF(OR($C381=$X$20,$C381=$X$21,$C381=$X$22,$C381=$X$23,$C381=$X$24,$C381=$X$25),"Vakantie","")))))) | H381: =IF(AND($C381>=$X$13,$C381<=$Y$13),"Vakantie",IF(AND($C381>=$X$14,$C381<=$Y$14),"Vakantie",IF(AND($C381>=$X$15,$C381<=$Y$15),"Vakantie",IF(AND($C381>=$X$16,$C381<=$Y$16),"Vakantie",IF(AND($C381>=$X$17,$C381<=$Y$17),"Vakantie",IF(OR($C381=$X$20,$C381=$X$21,$C381=$X$22,$C381=$X$23,$C381=$X$24,$C381=$X$25),"Vakantie","")))))) | I381: 1 | J381: =IF(AND(Formulier!$E$44<=C381,Formulier!$O$38>=C381),"Verlof",0) -> 0 | K381: =IF(J381=0,0,IF(F381="",0,1)) -> 0 | L381: =IF(J381=0,0,IF(G381="",0,1)) -> 0 | M381: =IF(J381=0,0,IF(H381="",0,1)) -> 0 | N381: =IF($N$1="Noord",K381,IF($N$1="Midden",L381,M381)) -> 0 | O381: =IF(OR(D381="za",D381="zo"),0,N381) -> 0
A382: =E382&B382&D382 -> 20161zo | B382: 1 | C382: =+C381+1 -> 42372 | D382: =+D370 -> zo | E382: =YEAR(C382) -> 2016 | F382: =IF(AND($C382>=$X$3,$C382<=$Y$3),"Vakantie",IF(AND($C382>=$X$4,$C382<=$Y$4),"Vakantie",IF(AND($C382>=$X$5,$C382<=$Y$5),"Vakantie",IF(AND($C382>=$X$6,$C382<=$Y$6),"Vakantie",IF(AND($C382>=$X$7,$C382<=$Y$7),"Vakantie",IF(OR($C382=$X$20,$C382=$X$21,$C382=$X$22,$C382=$X$23,$C382=$X$24,$C382=$X$25),"Vakantie","")))))) | G382: =IF(AND($C382>=$X$8,$C382<=$Y$8),"Vakantie",IF(AND($C382>=$X$9,$C382<=$Y$9),"Vakantie",IF(AND($C382>=$X$10,$C382<=$Y$10),"Vakantie",IF(AND($C382>=$X$11,$C382<=$Y$11),"Vakantie",IF(AND($C382>=$X$12,$C382<=$Y$12),"Vakantie",IF(OR($C382=$X$20,$C382=$X$21,$C382=$X$22,$C382=$X$23,$C382=$X$24,$C382=$X$25),"Vakantie","")))))) | H382: =IF(AND($C382>=$X$13,$C382<=$Y$13),"Vakantie",IF(AND($C382>=$X$14,$C382<=$Y$14),"Vakantie",IF(AND($C382>=$X$15,$C382<=$Y$15),"Vakantie",IF(AND($C382>=$X$16,$C382<=$Y$16),"Vakantie",IF(AND($C382>=$X$17,$C382<=$Y$17),"Vakantie",IF(OR($C382=$X$20,$C382=$X$21,$C382=$X$22,$C382=$X$23,$C382=$X$24,$C382=$X$25),"Vakantie","")))))) | I382: 1 | J382: =IF(AND(Formulier!$E$44<=C382,Formulier!$O$38>=C382),"Verlof",0) -> 0 | K382: =IF(J382=0,0,IF(F382="",0,1)) -> 0 | L382: =IF(J382=0,0,IF(G382="",0,1)) -> 0 | M382: =IF(J382=0,0,IF(H382="",0,1)) -> 0 | N382: =IF($N$1="Noord",K382,IF($N$1="Midden",L382,M382)) -> 0 | O382: =IF(OR(D382="za",D382="zo"),0,N382) -> 0
A383: =E383&B383&D383 -> 20161ma | B383: 1 | C383: =+C382+1 -> 42373 | D383: =+D371 -> ma | E383: =YEAR(C383) -> 2016 | F383: =IF(AND($C383>=$AA$3,$C383<=$AB$3),"Vakantie",IF(AND($C383>=$AA$4,$C383<=$AB$4),"Vakantie",IF(AND($C383>=$AA$5,$C383<=$AB$5),"Vakantie",IF(AND($C383>=$AA$6,$C383<=$AB$6),"Vakantie",IF(AND($C383>=$AA$7,$C383<=$AB$7),"Vakantie",""))))) | G383: =IF(AND($C383>=$AA$8,$C383<=$AB$8),"Vakantie",IF(AND($C383>=$AA$9,$C383<=$AB$9),"Vakantie",IF(AND($C383>=$AA$10,$C383<=$AB$10),"Vakantie",IF(AND($C383>=$AA$11,$C383<=$AB$11),"Vakantie",IF(AND($C383>=$AA$7,$C383<=$AB$7),"Vakantie",""))))) | H383: =IF(AND($C383>=$AA$13,$C383<=$AB$13),"Vakantie",IF(AND($C383>=$AA$14,$C383<=$AB$14),"Vakantie",IF(AND($C383>=$AA$15,$C383<=$AB$15),"Vakantie",IF(AND($C383>=$AA$16,$C383<=$AB$16),"Vakantie",IF(AND($C383>=$AA$12,$C383<=$AB$12),"Vakantie",""))))) | I383: 2 | J383: =IF(AND(Formulier!$E$44<=C383,Formulier!$O$38>=C383),"Verlof",0) -> 0 | K383: =IF(J383=0,0,IF(F383="",0,1)) -> 0 | L383: =IF(J383=0,0,IF(G383="",0,1)) -> 0 | M383: =IF(J383=0,0,IF(H383="",0,1)) -> 0 | N383: =IF($N$1="Noord",K383,IF($N$1="Midden",L383,M383)) -> 0 | O383: =IF(OR(D383="za",D383="zo"),0,N383) -> 0
A384: =E384&B384&D384 -> 20161di | B384: 1 | C384: =+C383+1 -> 42374 | D384: =+D372 -> di | E384: =YEAR(C384) -> 2016 | F384: =IF(AND($C384>=$AA$3,$C384<=$AB$3),"Vakantie",IF(AND($C384>=$AA$4,$C384<=$AB$4),"Vakantie",IF(AND($C384>=$AA$5,$C384<=$AB$5),"Vakantie",IF(AND($C384>=$AA$6,$C384<=$AB$6),"Vakantie",IF(AND($C384>=$AA$7,$C384<=$AB$7),"Vakantie",""))))) | G384: =IF(AND($C384>=$AA$8,$C384<=$AB$8),"Vakantie",IF(AND($C384>=$AA$9,$C384<=$AB$9),"Vakantie",IF(AND($C384>=$AA$10,$C384<=$AB$10),"Vakantie",IF(AND($C384>=$AA$11,$C384<=$AB$11),"Vakantie",IF(AND($C384>=$AA$7,$C384<=$AB$7),"Vakantie",""))))) | H384: =IF(AND($C384>=$AA$13,$C384<=$AB$13),"Vakantie",IF(AND($C384>=$AA$14,$C384<=$AB$14),"Vakantie",IF(AND($C384>=$AA$15,$C384<=$AB$15),"Vakantie",IF(AND($C384>=$AA$16,$C384<=$AB$16),"Vakantie",IF(AND($C384>=$AA$12,$C384<=$AB$12),"Vakantie",""))))) | I384: 2 | J384: =IF(AND(Formulier!$E$44<=C384,Formulier!$O$38>=C384),"Verlof",0) -> 0 | K384: =IF(J384=0,0,IF(F384="",0,1)) -> 0 | L384: =IF(J384=0,0,IF(G384="",0,1)) -> 0 | M384: =IF(J384=0,0,IF(H384="",0,1)) -> 0 | N384: =IF($N$1="Noord",K384,IF($N$1="Midden",L384,M384)) -> 0 | O384: =IF(OR(D384="za",D384="zo"),0,N384) -> 0
A385: =E385&B385&D385 -> 20161wo | B385: 1 | C385: =+C384+1 -> 42375 | D385: =+D373 -> wo | E385: =YEAR(C385) -> 2016 | F385: =IF(AND($C385>=$AA$3,$C385<=$AB$3),"Vakantie",IF(AND($C385>=$AA$4,$C385<=$AB$4),"Vakantie",IF(AND($C385>=$AA$5,$C385<=$AB$5),"Vakantie",IF(AND($C385>=$AA$6,$C385<=$AB$6),"Vakantie",IF(AND($C385>=$AA$7,$C385<=$AB$7),"Vakantie",""))))) | G385: =IF(AND($C385>=$AA$8,$C385<=$AB$8),"Vakantie",IF(AND($C385>=$AA$9,$C385<=$AB$9),"Vakantie",IF(AND($C385>=$AA$10,$C385<=$AB$10),"Vakantie",IF(AND($C385>=$AA$11,$C385<=$AB$11),"Vakantie",IF(AND($C385>=$AA$7,$C385<=$AB$7),"Vakantie",""))))) | H385: =IF(AND($C385>=$AA$13,$C385<=$AB$13),"Vakantie",IF(AND($C385>=$AA$14,$C385<=$AB$14),"Vakantie",IF(AND($C385>=$AA$15,$C385<=$AB$15),"Vakantie",IF(AND($C385>=$AA$16,$C385<=$AB$16),"Vakantie",IF(AND($C385>=$AA$12,$C385<=$AB$12),"Vakantie",""))))) | I385: 2 | J385: =IF(AND(Formulier!$E$44<=C385,Formulier!$O$38>=C385),"Verlof",0) -> 0 | K385: =IF(J385=0,0,IF(F385="",0,1)) -> 0 | L385: =IF(J385=0,0,IF(G385="",0,1)) -> 0 | M385: =IF(J385=0,0,IF(H385="",0,1)) -> 0 | N385: =IF($N$1="Noord",K385,IF($N$1="Midden",L385,M385)) -> 0 | O385: =IF(OR(D385="za",D385="zo"),0,N385) -> 0
A386: =E386&B386&D386 -> 20161do | B386: 1 | C386: =+C385+1 -> 42376 | D386: =+D374 -> do | E386: =YEAR(C386) -> 2016 | F386: =IF(AND($C386>=$AA$3,$C386<=$AB$3),"Vakantie",IF(AND($C386>=$AA$4,$C386<=$AB$4),"Vakantie",IF(AND($C386>=$AA$5,$C386<=$AB$5),"Vakantie",IF(AND($C386>=$AA$6,$C386<=$AB$6),"Vakantie",IF(AND($C386>=$AA$7,$C386<=$AB$7),"Vakantie",""))))) | G386: =IF(AND($C386>=$AA$8,$C386<=$AB$8),"Vakantie",IF(AND($C386>=$AA$9,$C386<=$AB$9),"Vakantie",IF(AND($C386>=$AA$10,$C386<=$AB$10),"Vakantie",IF(AND($C386>=$AA$11,$C386<=$AB$11),"Vakantie",IF(AND($C386>=$AA$7,$C386<=$AB$7),"Vakantie",""))))) | H386: =IF(AND($C386>=$AA$13,$C386<=$AB$13),"Vakantie",IF(AND($C386>=$AA$14,$C386<=$AB$14),"Vakantie",IF(AND($C386>=$AA$15,$C386<=$AB$15),"Vakantie",IF(AND($C386>=$AA$16,$C386<=$AB$16),"Vakantie",IF(AND($C386>=$AA$12,$C386<=$AB$12),"Vakantie",""))))) | I386: 2 | J386: =IF(AND(Formulier!$E$44<=C386,Formulier!$O$38>=C386),"Verlof",0) -> 0 | K386: =IF(J386=0,0,IF(F386="",0,1)) -> 0 | L386: =IF(J386=0,0,IF(G386="",0,1)) -> 0 | M386: =IF(J386=0,0,IF(H386="",0,1)) -> 0 | N386: =IF($N$1="Noord",K386,IF($N$1="Midden",L386,M386)) -> 0 | O386: =IF(OR(D386="za",D386="zo"),0,N386) -> 0
A387: =E387&B387&D387 -> 20161vr | B387: 1 | C387: =+C386+1 -> 42377 | D387: =+D380 -> vr | E387: =YEAR(C387) -> 2016 | F387: =IF(AND($C387>=$AA$3,$C387<=$AB$3),"Vakantie",IF(AND($C387>=$AA$4,$C387<=$AB$4),"Vakantie",IF(AND($C387>=$AA$5,$C387<=$AB$5),"Vakantie",IF(AND($C387>=$AA$6,$C387<=$AB$6),"Vakantie",IF(AND($C387>=$AA$7,$C387<=$AB$7),"Vakantie",""))))) | G387: =IF(AND($C387>=$AA$8,$C387<=$AB$8),"Vakantie",IF(AND($C387>=$AA$9,$C387<=$AB$9),"Vakantie",IF(AND($C387>=$AA$10,$C387<=$AB$10),"Vakantie",IF(AND($C387>=$AA$11,$C387<=$AB$11),"Vakantie",IF(AND($C387>=$AA$7,$C387<=$AB$7),"Vakantie",""))))) | H387: =IF(AND($C387>=$AA$13,$C387<=$AB$13),"Vakantie",IF(AND($C387>=$AA$14,$C387<=$AB$14),"Vakantie",IF(AND($C387>=$AA$15,$C387<=$AB$15),"Vakantie",IF(AND($C387>=$AA$16,$C387<=$AB$16),"Vakantie",IF(AND($C387>=$AA$12,$C387<=$AB$12),"Vakantie",""))))) | I387: =+I380+1 -> 2 | J387: =IF(AND(Formulier!$E$44<=C387,Formulier!$O$38>=C387),"Verlof",0) -> 0 | K387: =IF(J387=0,0,IF(F387="",0,1)) -> 0 | L387: =IF(J387=0,0,IF(G387="",0,1)) -> 0 | M387: =IF(J387=0,0,IF(H387="",0,1)) -> 0 | N387: =IF($N$1="Noord",K387,IF($N$1="Midden",L387,M387)) -> 0 | O387: =IF(OR(D387="za",D387="zo"),0,N387) -> 0
A388: =E388&B388&D388 -> 20161za | B388: 1 | C388: =+C387+1 -> 42378 | D388: =+D381 -> za | E388: =YEAR(C388) -> 2016 | F388: =IF(AND($C388>=$AA$3,$C388<=$AB$3),"Vakantie",IF(AND($C388>=$AA$4,$C388<=$AB$4),"Vakantie",IF(AND($C388>=$AA$5,$C388<=$AB$5),"Vakantie",IF(AND($C388>=$AA$6,$C388<=$AB$6),"Vakantie",IF(AND($C388>=$AA$7,$C388<=$AB$7),"Vakantie",""))))) | G388: =IF(AND($C388>=$AA$8,$C388<=$AB$8),"Vakantie",IF(AND($C388>=$AA$9,$C388<=$AB$9),"Vakantie",IF(AND($C388>=$AA$10,$C388<=$AB$10),"Vakantie",IF(AND($C388>=$AA$11,$C388<=$AB$11),"Vakantie",IF(AND($C388>=$AA$7,$C388<=$AB$7),"Vakantie",""))))) | H388: =IF(AND($C388>=$AA$13,$C388<=$AB$13),"Vakantie",IF(AND($C388>=$AA$14,$C388<=$AB$14),"Vakantie",IF(AND($C388>=$AA$15,$C388<=$AB$15),"Vakantie",IF(AND($C388>=$AA$16,$C388<=$AB$16),"Vakantie",IF(AND($C388>=$AA$12,$C388<=$AB$12),"Vakantie",""))))) | I388: =+I381+1 -> 2 | J388: =IF(AND(Formulier!$E$44<=C388,Formulier!$O$38>=C388),"Verlof",0) -> 0 | K388: =IF(J388=0,0,IF(F388="",0,1)) -> 0 | L388: =IF(J388=0,0,IF(G388="",0,1)) -> 0 | M388: =IF(J388=0,0,IF(H388="",0,1)) -> 0 | N388: =IF($N$1="Noord",K388,IF($N$1="Midden",L388,M388)) -> 0 | O388: =IF(OR(D388="za",D388="zo"),0,N388) -> 0
A389: =E389&B389&D389 -> 20161zo | B389: 1 | C389: =+C388+1 -> 42379 | D389: =+D382 -> zo | E389: =YEAR(C389) -> 2016 | F389: =IF(AND($C389>=$AA$3,$C389<=$AB$3),"Vakantie",IF(AND($C389>=$AA$4,$C389<=$AB$4),"Vakantie",IF(AND($C389>=$AA$5,$C389<=$AB$5),"Vakantie",IF(AND($C389>=$AA$6,$C389<=$AB$6),"Vakantie",IF(AND($C389>=$AA$7,$C389<=$AB$7),"Vakantie",""))))) | G389: =IF(AND($C389>=$AA$8,$C389<=$AB$8),"Vakantie",IF(AND($C389>=$AA$9,$C389<=$AB$9),"Vakantie",IF(AND($C389>=$AA$10,$C389<=$AB$10),"Vakantie",IF(AND($C389>=$AA$11,$C389<=$AB$11),"Vakantie",IF(AND($C389>=$AA$7,$C389<=$AB$7),"Vakantie",""))))) | H389: =IF(AND($C389>=$AA$13,$C389<=$AB$13),"Vakantie",IF(AND($C389>=$AA$14,$C389<=$AB$14),"Vakantie",IF(AND($C389>=$AA$15,$C389<=$AB$15),"Vakantie",IF(AND($C389>=$AA$16,$C389<=$AB$16),"Vakantie",IF(AND($C389>=$AA$12,$C389<=$AB$12),"Vakantie",""))))) | I389: =+I382+1 -> 2 | J389: =IF(AND(Formulier!$E$44<=C389,Formulier!$O$38>=C389),"Verlof",0) -> 0 | K389: =IF(J389=0,0,IF(F389="",0,1)) -> 0 | L389: =IF(J389=0,0,IF(G389="",0,1)) -> 0 | M389: =IF(J389=0,0,IF(H389="",0,1)) -> 0 | N389: =IF($N$1="Noord",K389,IF($N$1="Midden",L389,M389)) -> 0 | O389: =IF(OR(D389="za",D389="zo"),0,N389) -> 0
A390: =E390&B390&D390 -> 20162ma | B390: =+B383+1 -> 2 | C390: =+C389+1 -> 42380 | D390: =+D383 -> ma | E390: =YEAR(C390) -> 2016 | F390: =IF(AND($C390>=$AA$3,$C390<=$AB$3),"Vakantie",IF(AND($C390>=$AA$4,$C390<=$AB$4),"Vakantie",IF(AND($C390>=$AA$5,$C390<=$AB$5),"Vakantie",IF(AND($C390>=$AA$6,$C390<=$AB$6),"Vakantie",IF(AND($C390>=$AA$7,$C390<=$AB$7),"Vakantie",""))))) | G390: =IF(AND($C390>=$AA$8,$C390<=$AB$8),"Vakantie",IF(AND($C390>=$AA$9,$C390<=$AB$9),"Vakantie",IF(AND($C390>=$AA$10,$C390<=$AB$10),"Vakantie",IF(AND($C390>=$AA$11,$C390<=$AB$11),"Vakantie",IF(AND($C390>=$AA$7,$C390<=$AB$7),"Vakantie",""))))) | H390: =IF(AND($C390>=$AA$13,$C390<=$AB$13),"Vakantie",IF(AND($C390>=$AA$14,$C390<=$AB$14),"Vakantie",IF(AND($C390>=$AA$15,$C390<=$AB$15),"Vakantie",IF(AND($C390>=$AA$16,$C390<=$AB$16),"Vakantie",IF(AND($C390>=$AA$12,$C390<=$AB$12),"Vakantie",""))))) | I390: =+I383+1 -> 3 | J390: =IF(AND(Formulier!$E$44<=C390,Formulier!$O$38>=C390),"Verlof",0) -> 0 | K390: =IF(J390=0,0,IF(F390="",0,1)) -> 0 | L390: =IF(J390=0,0,IF(G390="",0,1)) -> 0 | M390: =IF(J390=0,0,IF(H390="",0,1)) -> 0 | N390: =IF($N$1="Noord",K390,IF($N$1="Midden",L390,M390)) -> 0 | O390: =IF(OR(D390="za",D390="zo"),0,N390) -> 0
A391: =E391&B391&D391 -> 20162di | B391: =+B384+1 -> 2 | C391: =+C390+1 -> 42381 | D391: =+D384 -> di | E391: =YEAR(C391) -> 2016 | F391: =IF(AND($C391>=$AA$3,$C391<=$AB$3),"Vakantie",IF(AND($C391>=$AA$4,$C391<=$AB$4),"Vakantie",IF(AND($C391>=$AA$5,$C391<=$AB$5),"Vakantie",IF(AND($C391>=$AA$6,$C391<=$AB$6),"Vakantie",IF(AND($C391>=$AA$7,$C391<=$AB$7),"Vakantie",""))))) | G391: =IF(AND($C391>=$AA$8,$C391<=$AB$8),"Vakantie",IF(AND($C391>=$AA$9,$C391<=$AB$9),"Vakantie",IF(AND($C391>=$AA$10,$C391<=$AB$10),"Vakantie",IF(AND($C391>=$AA$11,$C391<=$AB$11),"Vakantie",IF(AND($C391>=$AA$7,$C391<=$AB$7),"Vakantie",""))))) | H391: =IF(AND($C391>=$AA$13,$C391<=$AB$13),"Vakantie",IF(AND($C391>=$AA$14,$C391<=$AB$14),"Vakantie",IF(AND($C391>=$AA$15,$C391<=$AB$15),"Vakantie",IF(AND($C391>=$AA$16,$C391<=$AB$16),"Vakantie",IF(AND($C391>=$AA$12,$C391<=$AB$12),"Vakantie",""))))) | I391: =+I384+1 -> 3 | J391: =IF(AND(Formulier!$E$44<=C391,Formulier!$O$38>=C391),"Verlof",0) -> 0 | K391: =IF(J391=0,0,IF(F391="",0,1)) -> 0 | L391: =IF(J391=0,0,IF(G391="",0,1)) -> 0 | M391: =IF(J391=0,0,IF(H391="",0,1)) -> 0 | N391: =IF($N$1="Noord",K391,IF($N$1="Midden",L391,M391)) -> 0 | O391: =IF(OR(D391="za",D391="zo"),0,N391) -> 0
A392: =E392&B392&D392 -> 20162wo | B392: =+B385+1 -> 2 | C392: =+C391+1 -> 42382 | D392: =+D385 -> wo | E392: =YEAR(C392) -> 2016 | F392: =IF(AND($C392>=$AA$3,$C392<=$AB$3),"Vakantie",IF(AND($C392>=$AA$4,$C392<=$AB$4),"Vakantie",IF(AND($C392>=$AA$5,$C392<=$AB$5),"Vakantie",IF(AND($C392>=$AA$6,$C392<=$AB$6),"Vakantie",IF(AND($C392>=$AA$7,$C392<=$AB$7),"Vakantie",""))))) | G392: =IF(AND($C392>=$AA$8,$C392<=$AB$8),"Vakantie",IF(AND($C392>=$AA$9,$C392<=$AB$9),"Vakantie",IF(AND($C392>=$AA$10,$C392<=$AB$10),"Vakantie",IF(AND($C392>=$AA$11,$C392<=$AB$11),"Vakantie",IF(AND($C392>=$AA$7,$C392<=$AB$7),"Vakantie",""))))) | H392: =IF(AND($C392>=$AA$13,$C392<=$AB$13),"Vakantie",IF(AND($C392>=$AA$14,$C392<=$AB$14),"Vakantie",IF(AND($C392>=$AA$15,$C392<=$AB$15),"Vakantie",IF(AND($C392>=$AA$16,$C392<=$AB$16),"Vakantie",IF(AND($C392>=$AA$12,$C392<=$AB$12),"Vakantie",""))))) | I392: =+I385+1 -> 3 | J392: =IF(AND(Formulier!$E$44<=C392,Formulier!$O$38>=C392),"Verlof",0) -> 0 | K392: =IF(J392=0,0,IF(F392="",0,1)) -> 0 | L392: =IF(J392=0,0,IF(G392="",0,1)) -> 0 | M392: =IF(J392=0,0,IF(H392="",0,1)) -> 0 | N392: =IF($N$1="Noord",K392,IF($N$1="Midden",L392,M392)) -> 0 | O392: =IF(OR(D392="za",D392="zo"),0,N392) -> 0
A393: =E393&B393&D393 -> 20162do | B393: =+B386+1 -> 2 | C393: =+C392+1 -> 42383 | D393: =+D386 -> do | E393: =YEAR(C393) -> 2016 | F393: =IF(AND($C393>=$AA$3,$C393<=$AB$3),"Vakantie",IF(AND($C393>=$AA$4,$C393<=$AB$4),"Vakantie",IF(AND($C393>=$AA$5,$C393<=$AB$5),"Vakantie",IF(AND($C393>=$AA$6,$C393<=$AB$6),"Vakantie",IF(AND($C393>=$AA$7,$C393<=$AB$7),"Vakantie",""))))) | G393: =IF(AND($C393>=$AA$8,$C393<=$AB$8),"Vakantie",IF(AND($C393>=$AA$9,$C393<=$AB$9),"Vakantie",IF(AND($C393>=$AA$10,$C393<=$AB$10),"Vakantie",IF(AND($C393>=$AA$11,$C393<=$AB$11),"Vakantie",IF(AND($C393>=$AA$7,$C393<=$AB$7),"Vakantie",""))))) | H393: =IF(AND($C393>=$AA$13,$C393<=$AB$13),"Vakantie",IF(AND($C393>=$AA$14,$C393<=$AB$14),"Vakantie",IF(AND($C393>=$AA$15,$C393<=$AB$15),"Vakantie",IF(AND($C393>=$AA$16,$C393<=$AB$16),"Vakantie",IF(AND($C393>=$AA$12,$C393<=$AB$12),"Vakantie",""))))) | I393: =+I386+1 -> 3 | J393: =IF(AND(Formulier!$E$44<=C393,Formulier!$O$38>=C393),"Verlof",0) -> 0 | K393: =IF(J393=0,0,IF(F393="",0,1)) -> 0 | L393: =IF(J393=0,0,IF(G393="",0,1)) -> 0 | M393: =IF(J393=0,0,IF(H393="",0,1)) -> 0 | N393: =IF($N$1="Noord",K393,IF($N$1="Midden",L393,M393)) -> 0 | O393: =IF(OR(D393="za",D393="zo"),0,N393) -> 0
A394: =E394&B394&D394 -> 20162vr | B394: =+B387+1 -> 2 | C394: =+C393+1 -> 42384 | D394: =+D387 -> vr | E394: =YEAR(C394) -> 2016 | F394: =IF(AND($C394>=$AA$3,$C394<=$AB$3),"Vakantie",IF(AND($C394>=$AA$4,$C394<=$AB$4),"Vakantie",IF(AND($C394>=$AA$5,$C394<=$AB$5),"Vakantie",IF(AND($C394>=$AA$6,$C394<=$AB$6),"Vakantie",IF(AND($C394>=$AA$7,$C394<=$AB$7),"Vakantie",""))))) | G394: =IF(AND($C394>=$AA$8,$C394<=$AB$8),"Vakantie",IF(AND($C394>=$AA$9,$C394<=$AB$9),"Vakantie",IF(AND($C394>=$AA$10,$C394<=$AB$10),"Vakantie",IF(AND($C394>=$AA$11,$C394<=$AB$11),"Vakantie",IF(AND($C394>=$AA$7,$C394<=$AB$7),"Vakantie",""))))) | H394: =IF(AND($C394>=$AA$13,$C394<=$AB$13),"Vakantie",IF(AND($C394>=$AA$14,$C394<=$AB$14),"Vakantie",IF(AND($C394>=$AA$15,$C394<=$AB$15),"Vakantie",IF(AND($C394>=$AA$16,$C394<=$AB$16),"Vakantie",IF(AND($C394>=$AA$12,$C394<=$AB$12),"Vakantie",""))))) | I394: =+I387+1 -> 3 | J394: =IF(AND(Formulier!$E$44<=C394,Formulier!$O$38>=C394),"Verlof",0) -> 0 | K394: =IF(J394=0,0,IF(F394="",0,1)) -> 0 | L394: =IF(J394=0,0,IF(G394="",0,1)) -> 0 | M394: =IF(J394=0,0,IF(H394="",0,1)) -> 0 | N394: =IF($N$1="Noord",K394,IF($N$1="Midden",L394,M394)) -> 0 | O394: =IF(OR(D394="za",D394="zo"),0,N394) -> 0
A395: =E395&B395&D395 -> 20162za | B395: =+B388+1 -> 2 | C395: =+C394+1 -> 42385 | D395: =+D388 -> za | E395: =YEAR(C395) -> 2016 | F395: =IF(AND($C395>=$AA$3,$C395<=$AB$3),"Vakantie",IF(AND($C395>=$AA$4,$C395<=$AB$4),"Vakantie",IF(AND($C395>=$AA$5,$C395<=$AB$5),"Vakantie",IF(AND($C395>=$AA$6,$C395<=$AB$6),"Vakantie",IF(AND($C395>=$AA$7,$C395<=$AB$7),"Vakantie",""))))) | G395: =IF(AND($C395>=$AA$8,$C395<=$AB$8),"Vakantie",IF(AND($C395>=$AA$9,$C395<=$AB$9),"Vakantie",IF(AND($C395>=$AA$10,$C395<=$AB$10),"Vakantie",IF(AND($C395>=$AA$11,$C395<=$AB$11),"Vakantie",IF(AND($C395>=$AA$7,$C395<=$AB$7),"Vakantie",""))))) | H395: =IF(AND($C395>=$AA$13,$C395<=$AB$13),"Vakantie",IF(AND($C395>=$AA$14,$C395<=$AB$14),"Vakantie",IF(AND($C395>=$AA$15,$C395<=$AB$15),"Vakantie",IF(AND($C395>=$AA$16,$C395<=$AB$16),"Vakantie",IF(AND($C395>=$AA$12,$C395<=$AB$12),"Vakantie",""))))) | I395: =+I388+1 -> 3 | J395: =IF(AND(Formulier!$E$44<=C395,Formulier!$O$38>=C395),"Verlof",0) -> 0 | K395: =IF(J395=0,0,IF(F395="",0,1)) -> 0 | L395: =IF(J395=0,0,IF(G395="",0,1)) -> 0 | M395: =IF(J395=0,0,IF(H395="",0,1)) -> 0 | N395: =IF($N$1="Noord",K395,IF($N$1="Midden",L395,M395)) -> 0 | O395: =IF(OR(D395="za",D395="zo"),0,N395) -> 0
A396: =E396&B396&D396 -> 20162zo | B396: =+B389+1 -> 2 | C396: =+C395+1 -> 42386 | D396: =+D389 -> zo | E396: =YEAR(C396) -> 2016 | F396: =IF(AND($C396>=$AA$3,$C396<=$AB$3),"Vakantie",IF(AND($C396>=$AA$4,$C396<=$AB$4),"Vakantie",IF(AND($C396>=$AA$5,$C396<=$AB$5),"Vakantie",IF(AND($C396>=$AA$6,$C396<=$AB$6),"Vakantie",IF(AND($C396>=$AA$7,$C396<=$AB$7),"Vakantie",""))))) | G396: =IF(AND($C396>=$AA$8,$C396<=$AB$8),"Vakantie",IF(AND($C396>=$AA$9,$C396<=$AB$9),"Vakantie",IF(AND($C396>=$AA$10,$C396<=$AB$10),"Vakantie",IF(AND($C396>=$AA$11,$C396<=$AB$11),"Vakantie",IF(AND($C396>=$AA$7,$C396<=$AB$7),"Vakantie",""))))) | H396: =IF(AND($C396>=$AA$13,$C396<=$AB$13),"Vakantie",IF(AND($C396>=$AA$14,$C396<=$AB$14),"Vakantie",IF(AND($C396>=$AA$15,$C396<=$AB$15),"Vakantie",IF(AND($C396>=$AA$16,$C396<=$AB$16),"Vakantie",IF(AND($C396>=$AA$12,$C396<=$AB$12),"Vakantie",""))))) | I396: =+I389+1 -> 3 | J396: =IF(AND(Formulier!$E$44<=C396,Formulier!$O$38>=C396),"Verlof",0) -> 0 | K396: =IF(J396=0,0,IF(F396="",0,1)) -> 0 | L396: =IF(J396=0,0,IF(G396="",0,1)) -> 0 | M396: =IF(J396=0,0,IF(H396="",0,1)) -> 0 | N396: =IF($N$1="Noord",K396,IF($N$1="Midden",L396,M396)) -> 0 | O396: =IF(OR(D396="za",D396="zo"),0,N396) -> 0
A397: =E397&B397&D397 -> 20163ma | B397: =+B390+1 -> 3 | C397: =+C396+1 -> 42387 | D397: =+D390 -> ma | E397: =YEAR(C397) -> 2016 | F397: =IF(AND($C397>=$AA$3,$C397<=$AB$3),"Vakantie",IF(AND($C397>=$AA$4,$C397<=$AB$4),"Vakantie",IF(AND($C397>=$AA$5,$C397<=$AB$5),"Vakantie",IF(AND($C397>=$AA$6,$C397<=$AB$6),"Vakantie",IF(AND($C397>=$AA$7,$C397<=$AB$7),"Vakantie",""))))) | G397: =IF(AND($C397>=$AA$8,$C397<=$AB$8),"Vakantie",IF(AND($C397>=$AA$9,$C397<=$AB$9),"Vakantie",IF(AND($C397>=$AA$10,$C397<=$AB$10),"Vakantie",IF(AND($C397>=$AA$11,$C397<=$AB$11),"Vakantie",IF(AND($C397>=$AA$7,$C397<=$AB$7),"Vakantie",""))))) | H397: =IF(AND($C397>=$AA$13,$C397<=$AB$13),"Vakantie",IF(AND($C397>=$AA$14,$C397<=$AB$14),"Vakantie",IF(AND($C397>=$AA$15,$C397<=$AB$15),"Vakantie",IF(AND($C397>=$AA$16,$C397<=$AB$16),"Vakantie",IF(AND($C397>=$AA$12,$C397<=$AB$12),"Vakantie",""))))) | I397: =+I390+1 -> 4 | J397: =IF(AND(Formulier!$E$44<=C397,Formulier!$O$38>=C397),"Verlof",0) -> 0 | K397: =IF(J397=0,0,IF(F397="",0,1)) -> 0 | L397: =IF(J397=0,0,IF(G397="",0,1)) -> 0 | M397: =IF(J397=0,0,IF(H397="",0,1)) -> 0 | N397: =IF($N$1="Noord",K397,IF($N$1="Midden",L397,M397)) -> 0 | O397: =IF(OR(D397="za",D397="zo"),0,N397) -> 0
A398: =E398&B398&D398 -> 20163di | B398: =+B391+1 -> 3 | C398: =+C397+1 -> 42388 | D398: =+D391 -> di | E398: =YEAR(C398) -> 2016 | F398: =IF(AND($C398>=$AA$3,$C398<=$AB$3),"Vakantie",IF(AND($C398>=$AA$4,$C398<=$AB$4),"Vakantie",IF(AND($C398>=$AA$5,$C398<=$AB$5),"Vakantie",IF(AND($C398>=$AA$6,$C398<=$AB$6),"Vakantie",IF(AND($C398>=$AA$7,$C398<=$AB$7),"Vakantie",""))))) | G398: =IF(AND($C398>=$AA$8,$C398<=$AB$8),"Vakantie",IF(AND($C398>=$AA$9,$C398<=$AB$9),"Vakantie",IF(AND($C398>=$AA$10,$C398<=$AB$10),"Vakantie",IF(AND($C398>=$AA$11,$C398<=$AB$11),"Vakantie",IF(AND($C398>=$AA$7,$C398<=$AB$7),"Vakantie",""))))) | H398: =IF(AND($C398>=$AA$13,$C398<=$AB$13),"Vakantie",IF(AND($C398>=$AA$14,$C398<=$AB$14),"Vakantie",IF(AND($C398>=$AA$15,$C398<=$AB$15),"Vakantie",IF(AND($C398>=$AA$16,$C398<=$AB$16),"Vakantie",IF(AND($C398>=$AA$12,$C398<=$AB$12),"Vakantie",""))))) | I398: =+I391+1 -> 4 | J398: =IF(AND(Formulier!$E$44<=C398,Formulier!$O$38>=C398),"Verlof",0) -> 0 | K398: =IF(J398=0,0,IF(F398="",0,1)) -> 0 | L398: =IF(J398=0,0,IF(G398="",0,1)) -> 0 | M398: =IF(J398=0,0,IF(H398="",0,1)) -> 0 | N398: =IF($N$1="Noord",K398,IF($N$1="Midden",L398,M398)) -> 0 | O398: =IF(OR(D398="za",D398="zo"),0,N398) -> 0
A399: =E399&B399&D399 -> 20163wo | B399: =+B392+1 -> 3 | C399: =+C398+1 -> 42389 | D399: =+D392 -> wo | E399: =YEAR(C399) -> 2016 | F399: =IF(AND($C399>=$AA$3,$C399<=$AB$3),"Vakantie",IF(AND($C399>=$AA$4,$C399<=$AB$4),"Vakantie",IF(AND($C399>=$AA$5,$C399<=$AB$5),"Vakantie",IF(AND($C399>=$AA$6,$C399<=$AB$6),"Vakantie",IF(AND($C399>=$AA$7,$C399<=$AB$7),"Vakantie",""))))) | G399: =IF(AND($C399>=$AA$8,$C399<=$AB$8),"Vakantie",IF(AND($C399>=$AA$9,$C399<=$AB$9),"Vakantie",IF(AND($C399>=$AA$10,$C399<=$AB$10),"Vakantie",IF(AND($C399>=$AA$11,$C399<=$AB$11),"Vakantie",IF(AND($C399>=$AA$7,$C399<=$AB$7),"Vakantie",""))))) | H399: =IF(AND($C399>=$AA$13,$C399<=$AB$13),"Vakantie",IF(AND($C399>=$AA$14,$C399<=$AB$14),"Vakantie",IF(AND($C399>=$AA$15,$C399<=$AB$15),"Vakantie",IF(AND($C399>=$AA$16,$C399<=$AB$16),"Vakantie",IF(AND($C399>=$AA$12,$C399<=$AB$12),"Vakantie",""))))) | I399: =+I392+1 -> 4 | J399: =IF(AND(Formulier!$E$44<=C399,Formulier!$O$38>=C399),"Verlof",0) -> 0 | K399: =IF(J399=0,0,IF(F399="",0,1)) -> 0 | L399: =IF(J399=0,0,IF(G399="",0,1)) -> 0 | M399: =IF(J399=0,0,IF(H399="",0,1)) -> 0 | N399: =IF($N$1="Noord",K399,IF($N$1="Midden",L399,M399)) -> 0 | O399: =IF(OR(D399="za",D399="zo"),0,N399) -> 0
A400: =E400&B400&D400 -> 20163do | B400: =+B393+1 -> 3 | C400: =+C399+1 -> 42390 | D400: =+D393 -> do | E400: =YEAR(C400) -> 2016 | F400: =IF(AND($C400>=$AA$3,$C400<=$AB$3),"Vakantie",IF(AND($C400>=$AA$4,$C400<=$AB$4),"Vakantie",IF(AND($C400>=$AA$5,$C400<=$AB$5),"Vakantie",IF(AND($C400>=$AA$6,$C400<=$AB$6),"Vakantie",IF(AND($C400>=$AA$7,$C400<=$AB$7),"Vakantie",""))))) | G400: =IF(AND($C400>=$AA$8,$C400<=$AB$8),"Vakantie",IF(AND($C400>=$AA$9,$C400<=$AB$9),"Vakantie",IF(AND($C400>=$AA$10,$C400<=$AB$10),"Vakantie",IF(AND($C400>=$AA$11,$C400<=$AB$11),"Vakantie",IF(AND($C400>=$AA$7,$C400<=$AB$7),"Vakantie",""))))) | H400: =IF(AND($C400>=$AA$13,$C400<=$AB$13),"Vakantie",IF(AND($C400>=$AA$14,$C400<=$AB$14),"Vakantie",IF(AND($C400>=$AA$15,$C400<=$AB$15),"Vakantie",IF(AND($C400>=$AA$16,$C400<=$AB$16),"Vakantie",IF(AND($C400>=$AA$12,$C400<=$AB$12),"Vakantie",""))))) | I400: =+I393+1 -> 4 | J400: =IF(AND(Formulier!$E$44<=C400,Formulier!$O$38>=C400),"Verlof",0) -> 0 | K400: =IF(J400=0,0,IF(F400="",0,1)) -> 0 | L400: =IF(J400=0,0,IF(G400="",0,1)) -> 0 | M400: =IF(J400=0,0,IF(H400="",0,1)) -> 0 | N400: =IF($N$1="Noord",K400,IF($N$1="Midden",L400,M400)) -> 0 | O400: =IF(OR(D400="za",D400="zo"),0,N400) -> 0
A401: =E401&B401&D401 -> 20163vr | B401: =+B394+1 -> 3 | C401: =+C400+1 -> 42391 | D401: =+D394 -> vr | E401: =YEAR(C401) -> 2016 | F401: =IF(AND($C401>=$AA$3,$C401<=$AB$3),"Vakantie",IF(AND($C401>=$AA$4,$C401<=$AB$4),"Vakantie",IF(AND($C401>=$AA$5,$C401<=$AB$5),"Vakantie",IF(AND($C401>=$AA$6,$C401<=$AB$6),"Vakantie",IF(AND($C401>=$AA$7,$C401<=$AB$7),"Vakantie",""))))) | G401: =IF(AND($C401>=$AA$8,$C401<=$AB$8),"Vakantie",IF(AND($C401>=$AA$9,$C401<=$AB$9),"Vakantie",IF(AND($C401>=$AA$10,$C401<=$AB$10),"Vakantie",IF(AND($C401>=$AA$11,$C401<=$AB$11),"Vakantie",IF(AND($C401>=$AA$7,$C401<=$AB$7),"Vakantie",""))))) | H401: =IF(AND($C401>=$AA$13,$C401<=$AB$13),"Vakantie",IF(AND($C401>=$AA$14,$C401<=$AB$14),"Vakantie",IF(AND($C401>=$AA$15,$C401<=$AB$15),"Vakantie",IF(AND($C401>=$AA$16,$C401<=$AB$16),"Vakantie",IF(AND($C401>=$AA$12,$C401<=$AB$12),"Vakantie",""))))) | I401: =+I394+1 -> 4 | J401: =IF(AND(Formulier!$E$44<=C401,Formulier!$O$38>=C401),"Verlof",0) -> 0 | K401: =IF(J401=0,0,IF(F401="",0,1)) -> 0 | L401: =IF(J401=0,0,IF(G401="",0,1)) -> 0 | M401: =IF(J401=0,0,IF(H401="",0,1)) -> 0 | N401: =IF($N$1="Noord",K401,IF($N$1="Midden",L401,M401)) -> 0 | O401: =IF(OR(D401="za",D401="zo"),0,N401) -> 0
... A493: =E493&B493&D493 -> 201616za | B493: =+B486+1 -> 16 | C493: =+C492+1 -> 42483 | D493: =+D486 -> za | E493: =YEAR(C493) -> 2016 | F493: =IF(AND($C493>=$AA$3,$C493<=$AB$3),"Vakantie",IF(AND($C493>=$AA$4,$C493<=$AB$4),"Vakantie",IF(AND($C493>=$AA$5,$C493<=$AB$5),"Vakantie",IF(AND($C493>=$AA$6,$C493<=$AB$6),"Vakantie",IF(AND($C493>=$AA$7,$C493<=$AB$7),"Vakantie",""))))) | G493: =IF(AND($C493>=$AA$8,$C493<=$AB$8),"Vakantie",IF(AND($C493>=$AA$9,$C493<=$AB$9),"Vakantie",IF(AND($C493>=$AA$10,$C493<=$AB$10),"Vakantie",IF(AND($C493>=$AA$11,$C493<=$AB$11),"Vakantie",IF(AND($C493>=$AA$7,$C493<=$AB$7),"Vakantie",""))))) | H493: =IF(AND($C493>=$AA$13,$C493<=$AB$13),"Vakantie",IF(AND($C493>=$AA$14,$C493<=$AB$14),"Vakantie",IF(AND($C493>=$AA$15,$C493<=$AB$15),"Vakantie",IF(AND($C493>=$AA$16,$C493<=$AB$16),"Vakantie",IF(AND($C493>=$AA$12,$C493<=$AB$12),"Vakantie",""))))) | I493: =+I486+1 -> 17 | J493: =IF(AND(Formulier!$E$44<=C493,Formulier!$O$38>=C493),"Verlof",0) -> 0 | K493: =IF(J493=0,0,IF(F493="",0,1)) -> 0 | L493: =IF(J493=0,0,IF(G493="",0,1)) -> 0 | M493: =IF(J493=0,0,IF(H493="",0,1)) -> 0 | N493: =IF($N$1="Noord",K493,IF($N$1="Midden",L493,M493)) -> 0 | O493: =IF(OR(D493="za",D493="zo"),0,N493) -> 0
A494: =E494&B494&D494 -> 201616zo | B494: =+B487+1 -> 16 | C494: =+C493+1 -> 42484 | D494: =+D487 -> zo | E494: =YEAR(C494) -> 2016 | F494: =IF(AND($C494>=$AA$3,$C494<=$AB$3),"Vakantie",IF(AND($C494>=$AA$4,$C494<=$AB$4),"Vakantie",IF(AND($C494>=$AA$5,$C494<=$AB$5),"Vakantie",IF(AND($C494>=$AA$6,$C494<=$AB$6),"Vakantie",IF(AND($C494>=$AA$7,$C494<=$AB$7),"Vakantie",""))))) | G494: =IF(AND($C494>=$AA$8,$C494<=$AB$8),"Vakantie",IF(AND($C494>=$AA$9,$C494<=$AB$9),"Vakantie",IF(AND($C494>=$AA$10,$C494<=$AB$10),"Vakantie",IF(AND($C494>=$AA$11,$C494<=$AB$11),"Vakantie",IF(AND($C494>=$AA$7,$C494<=$AB$7),"Vakantie",""))))) | H494: =IF(AND($C494>=$AA$13,$C494<=$AB$13),"Vakantie",IF(AND($C494>=$AA$14,$C494<=$AB$14),"Vakantie",IF(AND($C494>=$AA$15,$C494<=$AB$15),"Vakantie",IF(AND($C494>=$AA$16,$C494<=$AB$16),"Vakantie",IF(AND($C494>=$AA$12,$C494<=$AB$12),"Vakantie",""))))) | I494: =+I487+1 -> 17 | J494: =IF(AND(Formulier!$E$44<=C494,Formulier!$O$38>=C494),"Verlof",0) -> 0 | K494: =IF(J494=0,0,IF(F494="",0,1)) -> 0 | L494: =IF(J494=0,0,IF(G494="",0,1)) -> 0 | M494: =IF(J494=0,0,IF(H494="",0,1)) -> 0 | N494: =IF($N$1="Noord",K494,IF($N$1="Midden",L494,M494)) -> 0 | O494: =IF(OR(D494="za",D494="zo"),0,N494) -> 0 | Q494: =IF(AND(Formulier!$E$45<=D494,Formulier!$O$45>=D494,$N$1="Noord",G494="vakantie",E494="ma"),"ja",IF(AND(Formulier!$E$45<=D494,Formulier!$O$45>=D494,$N$1="Midden",H494="vakantie",E494="ma"),"ja",IF(AND(Formulier!$E$45<=D494,Formulier!$O$45>=D494,$N$1="Zuid",I494="vakantie",E494="ma"),"ja","")))
A495: =E495&B495&D495 -> 201617ma | B495: =+B488+1 -> 17 | C495: =+C494+1 -> 42485 | D495: =+D488 -> ma | E495: =YEAR(C495) -> 2016 | F495: =IF(AND($C495>=$AA$3,$C495<=$AB$3),"Vakantie",IF(AND($C495>=$AA$4,$C495<=$AB$4),"Vakantie",IF(AND($C495>=$AA$5,$C495<=$AB$5),"Vakantie",IF(AND($C495>=$AA$6,$C495<=$AB$6),"Vakantie",IF(AND($C495>=$AA$7,$C495<=$AB$7),"Vakantie",""))))) | G495: =IF(AND($C495>=$AA$8,$C495<=$AB$8),"Vakantie",IF(AND($C495>=$AA$9,$C495<=$AB$9),"Vakantie",IF(AND($C495>=$AA$10,$C495<=$AB$10),"Vakantie",IF(AND($C495>=$AA$11,$C495<=$AB$11),"Vakantie",IF(AND($C495>=$AA$7,$C495<=$AB$7),"Vakantie",""))))) | H495: =IF(AND($C495>=$AA$13,$C495<=$AB$13),"Vakantie",IF(AND($C495>=$AA$14,$C495<=$AB$14),"Vakantie",IF(AND($C495>=$AA$15,$C495<=$AB$15),"Vakantie",IF(AND($C495>=$AA$16,$C495<=$AB$16),"Vakantie",IF(AND($C495>=$AA$12,$C495<=$AB$12),"Vakantie",""))))) | I495: =+I488+1 -> 18 | J495: =IF(AND(Formulier!$E$44<=C495,Formulier!$O$38>=C495),"Verlof",0) -> 0 | K495: =IF(J495=0,0,IF(F495="",0,1)) -> 0 | L495: =IF(J495=0,0,IF(G495="",0,1)) -> 0 | M495: =IF(J495=0,0,IF(H495="",0,1)) -> 0 | N495: =IF($N$1="Noord",K495,IF($N$1="Midden",L495,M495)) -> 0 | O495: =IF(OR(D495="za",D495="zo"),0,N495) -> 0 | Q495: =IF(AND(Formulier!$E$45<=D495,Formulier!$O$45>=D495,$N$1="Noord",G495="vakantie",E495="ma"),"ja",IF(AND(Formulier!$E$45<=D495,Formulier!$O$45>=D495,$N$1="Midden",H495="vakantie",E495="ma"),"ja",IF(AND(Formulier!$E$45<=D495,Formulier!$O$45>=D495,$N$1="Zuid",I495="vakantie",E495="ma"),"ja","")))
A496: =E496&B496&D496 -> 201617di | B496: =+B489+1 -> 17 | C496: =+C495+1 -> 42486 | D496: =+D489 -> di | E496: =YEAR(C496) -> 2016 | F496: =IF(AND($C496>=$AA$3,$C496<=$AB$3),"Vakantie",IF(AND($C496>=$AA$4,$C496<=$AB$4),"Vakantie",IF(AND($C496>=$AA$5,$C496<=$AB$5),"Vakantie",IF(AND($C496>=$AA$6,$C496<=$AB$6),"Vakantie",IF(AND($C496>=$AA$7,$C496<=$AB$7),"Vakantie",""))))) | G496: =IF(AND($C496>=$AA$8,$C496<=$AB$8),"Vakantie",IF(AND($C496>=$AA$9,$C496<=$AB$9),"Vakantie",IF(AND($C496>=$AA$10,$C496<=$AB$10),"Vakantie",IF(AND($C496>=$AA$11,$C496<=$AB$11),"Vakantie",IF(AND($C496>=$AA$7,$C496<=$AB$7),"Vakantie",""))))) | H496: =IF(AND($C496>=$AA$13,$C496<=$AB$13),"Vakantie",IF(AND($C496>=$AA$14,$C496<=$AB$14),"Vakantie",IF(AND($C496>=$AA$15,$C496<=$AB$15),"Vakantie",IF(AND($C496>=$AA$16,$C496<=$AB$16),"Vakantie",IF(AND($C496>=$AA$12,$C496<=$AB$12),"Vakantie",""))))) | I496: =+I489+1 -> 18 | J496: =IF(AND(Formulier!$E$44<=C496,Formulier!$O$38>=C496),"Verlof",0) -> 0 | K496: =IF(J496=0,0,IF(F496="",0,1)) -> 0 | L496: =IF(J496=0,0,IF(G496="",0,1)) -> 0 | M496: =IF(J496=0,0,IF(H496="",0,1)) -> 0 | N496: =IF($N$1="Noord",K496,IF($N$1="Midden",L496,M496)) -> 0 | O496: =IF(OR(D496="za",D496="zo"),0,N496) -> 0 | Q496: =IF(AND(Formulier!$E$45<=D496,Formulier!$O$45>=D496,$N$1="Noord",G496="vakantie",E496="ma"),"ja",IF(AND(Formulier!$E$45<=D496,Formulier!$O$45>=D496,$N$1="Midden",H496="vakantie",E496="ma"),"ja",IF(AND(Formulier!$E$45<=D496,Formulier!$O$45>=D496,$N$1="Zuid",I496="vakantie",E496="ma"),"ja","")))
A497: =E497&B497&D497 -> 201617wo | B497: =+B490+1 -> 17 | C497: =+C496+1 -> 42487 | D497: =+D490 -> wo | E497: =YEAR(C497) -> 2016 | F497: =IF(AND($C497>=$AA$3,$C497<=$AB$3),"Vakantie",IF(AND($C497>=$AA$4,$C497<=$AB$4),"Vakantie",IF(AND($C497>=$AA$5,$C497<=$AB$5),"Vakantie",IF(AND($C497>=$AA$6,$C497<=$AB$6),"Vakantie",IF(AND($C497>=$AA$7,$C497<=$AB$7),"Vakantie",""))))) | G497: =IF(AND($C497>=$AA$8,$C497<=$AB$8),"Vakantie",IF(AND($C497>=$AA$9,$C497<=$AB$9),"Vakantie",IF(AND($C497>=$AA$10,$C497<=$AB$10),"Vakantie",IF(AND($C497>=$AA$11,$C497<=$AB$11),"Vakantie",IF(AND($C497>=$AA$7,$C497<=$AB$7),"Vakantie",""))))) | H497: =IF(AND($C497>=$AA$13,$C497<=$AB$13),"Vakantie",IF(AND($C497>=$AA$14,$C497<=$AB$14),"Vakantie",IF(AND($C497>=$AA$15,$C497<=$AB$15),"Vakantie",IF(AND($C497>=$AA$16,$C497<=$AB$16),"Vakantie",IF(AND($C497>=$AA$12,$C497<=$AB$12),"Vakantie",""))))) | I497: =+I490+1 -> 18 | J497: =IF(AND(Formulier!$E$44<=C497,Formulier!$O$38>=C497),"Verlof",0) -> 0 | K497: =IF(J497=0,0,IF(F497="",0,1)) -> 0 | L497: =IF(J497=0,0,IF(G497="",0,1)) -> 0 | M497: =IF(J497=0,0,IF(H497="",0,1)) -> 0 | N497: =IF($N$1="Noord",K497,IF($N$1="Midden",L497,M497)) -> 0 | O497: =IF(OR(D497="za",D497="zo"),0,N497) -> 0 | Q497: =IF(AND(Formulier!$E$45<=D497,Formulier!$O$45>=D497,$N$1="Noord",G497="vakantie",E497="ma"),"ja",IF(AND(Formulier!$E$45<=D497,Formulier!$O$45>=D497,$N$1="Midden",H497="vakantie",E497="ma"),"ja",IF(AND(Formulier!$E$45<=D497,Formulier!$O$45>=D497,$N$1="Zuid",I497="vakantie",E497="ma"),"ja","")))
A498: =E498&B498&D498 -> 201617do | B498: =+B491+1 -> 17 | C498: =+C497+1 -> 42488 | D498: =+D491 -> do | E498: =YEAR(C498) -> 2016 | F498: =IF(AND($C498>=$AA$3,$C498<=$AB$3),"Vakantie",IF(AND($C498>=$AA$4,$C498<=$AB$4),"Vakantie",IF(AND($C498>=$AA$5,$C498<=$AB$5),"Vakantie",IF(AND($C498>=$AA$6,$C498<=$AB$6),"Vakantie",IF(AND($C498>=$AA$7,$C498<=$AB$7),"Vakantie",""))))) | G498: =IF(AND($C498>=$AA$8,$C498<=$AB$8),"Vakantie",IF(AND($C498>=$AA$9,$C498<=$AB$9),"Vakantie",IF(AND($C498>=$AA$10,$C498<=$AB$10),"Vakantie",IF(AND($C498>=$AA$11,$C498<=$AB$11),"Vakantie",IF(AND($C498>=$AA$7,$C498<=$AB$7),"Vakantie",""))))) | H498: =IF(AND($C498>=$AA$13,$C498<=$AB$13),"Vakantie",IF(AND($C498>=$AA$14,$C498<=$AB$14),"Vakantie",IF(AND($C498>=$AA$15,$C498<=$AB$15),"Vakantie",IF(AND($C498>=$AA$16,$C498<=$AB$16),"Vakantie",IF(AND($C498>=$AA$12,$C498<=$AB$12),"Vakantie",""))))) | I498: =+I491+1 -> 18 | J498: =IF(AND(Formulier!$E$44<=C498,Formulier!$O$38>=C498),"Verlof",0) -> 0 | K498: =IF(J498=0,0,IF(F498="",0,1)) -> 0 | L498: =IF(J498=0,0,IF(G498="",0,1)) -> 0 | M498: =IF(J498=0,0,IF(H498="",0,1)) -> 0 | N498: =IF($N$1="Noord",K498,IF($N$1="Midden",L498,M498)) -> 0 | O498: =IF(OR(D498="za",D498="zo"),0,N498) -> 0 | Q498: =IF(AND(Formulier!$E$45<=D498,Formulier!$O$45>=D498,$N$1="Noord",G498="vakantie",E498="ma"),"ja",IF(AND(Formulier!$E$45<=D498,Formulier!$O$45>=D498,$N$1="Midden",H498="vakantie",E498="ma"),"ja",IF(AND(Formulier!$E$45<=D498,Formulier!$O$45>=D498,$N$1="Zuid",I498="vakantie",E498="ma"),"ja","")))
A499: =E499&B499&D499 -> 201617vr | B499: =+B492+1 -> 17 | C499: =+C498+1 -> 42489 | D499: =+D492 -> vr | E499: =YEAR(C499) -> 2016 | F499: =IF(AND($C499>=$AA$3,$C499<=$AB$3),"Vakantie",IF(AND($C499>=$AA$4,$C499<=$AB$4),"Vakantie",IF(AND($C499>=$AA$5,$C499<=$AB$5),"Vakantie",IF(AND($C499>=$AA$6,$C499<=$AB$6),"Vakantie",IF(AND($C499>=$AA$7,$C499<=$AB$7),"Vakantie",""))))) | G499: =IF(AND($C499>=$AA$8,$C499<=$AB$8),"Vakantie",IF(AND($C499>=$AA$9,$C499<=$AB$9),"Vakantie",IF(AND($C499>=$AA$10,$C499<=$AB$10),"Vakantie",IF(AND($C499>=$AA$11,$C499<=$AB$11),"Vakantie",IF(AND($C499>=$AA$7,$C499<=$AB$7),"Vakantie",""))))) | H499: =IF(AND($C499>=$AA$13,$C499<=$AB$13),"Vakantie",IF(AND($C499>=$AA$14,$C499<=$AB$14),"Vakantie",IF(AND($C499>=$AA$15,$C499<=$AB$15),"Vakantie",IF(AND($C499>=$AA$16,$C499<=$AB$16),"Vakantie",IF(AND($C499>=$AA$12,$C499<=$AB$12),"Vakantie",""))))) | I499: =+I492+1 -> 18 | J499: =IF(AND(Formulier!$E$44<=C499,Formulier!$O$38>=C499),"Verlof",0) -> 0 | K499: =IF(J499=0,0,IF(F499="",0,1)) -> 0 | L499: =IF(J499=0,0,IF(G499="",0,1)) -> 0 | M499: =IF(J499=0,0,IF(H499="",0,1)) -> 0 | N499: =IF($N$1="Noord",K499,IF($N$1="Midden",L499,M499)) -> 0 | O499: =IF(OR(D499="za",D499="zo"),0,N499) -> 0 | Q499: =IF(AND(Formulier!$E$45<=D499,Formulier!$O$45>=D499,$N$1="Noord",G499="vakantie",E499="ma"),"ja",IF(AND(Formulier!$E$45<=D499,Formulier!$O$45>=D499,$N$1="Midden",H499="vakantie",E499="ma"),"ja",IF(AND(Formulier!$E$45<=D499,Formulier!$O$45>=D499,$N$1="Zuid",I499="vakantie",E499="ma"),"ja","")))
A500: =E500&B500&D500 -> 201617za | B500: =+B493+1 -> 17 | C500: =+C499+1 -> 42490 | D500: =+D493 -> za | E500: =YEAR(C500) -> 2016 | F500: =IF(AND($C500>=$AA$3,$C500<=$AB$3),"Vakantie",IF(AND($C500>=$AA$4,$C500<=$AB$4),"Vakantie",IF(AND($C500>=$AA$5,$C500<=$AB$5),"Vakantie",IF(AND($C500>=$AA$6,$C500<=$AB$6),"Vakantie",IF(AND($C500>=$AA$7,$C500<=$AB$7),"Vakantie",""))))) | G500: =IF(AND($C500>=$AA$8,$C500<=$AB$8),"Vakantie",IF(AND($C500>=$AA$9,$C500<=$AB$9),"Vakantie",IF(AND($C500>=$AA$10,$C500<=$AB$10),"Vakantie",IF(AND($C500>=$AA$11,$C500<=$AB$11),"Vakantie",IF(AND($C500>=$AA$7,$C500<=$AB$7),"Vakantie",""))))) | H500: =IF(AND($C500>=$AA$13,$C500<=$AB$13),"Vakantie",IF(AND($C500>=$AA$14,$C500<=$AB$14),"Vakantie",IF(AND($C500>=$AA$15,$C500<=$AB$15),"Vakantie",IF(AND($C500>=$AA$16,$C500<=$AB$16),"Vakantie",IF(AND($C500>=$AA$12,$C500<=$AB$12),"Vakantie",""))))) | I500: =+I493+1 -> 18 | J500: =IF(AND(Formulier!$E$44<=C500,Formulier!$O$38>=C500),"Verlof",0) -> 0 | K500: =IF(J500=0,0,IF(F500="",0,1)) -> 0 | L500: =IF(J500=0,0,IF(G500="",0,1)) -> 0 | M500: =IF(J500=0,0,IF(H500="",0,1)) -> 0 | N500: =IF($N$1="Noord",K500,IF($N$1="Midden",L500,M500)) -> 0 | O500: =IF(OR(D500="za",D500="zo"),0,N500) -> 0 | Q500: =IF(AND(Formulier!$E$45<=D500,Formulier!$O$45>=D500,$N$1="Noord",G500="vakantie",E500="ma"),"ja",IF(AND(Formulier!$E$45<=D500,Formulier!$O$45>=D500,$N$1="Midden",H500="vakantie",E500="ma"),"ja",IF(AND(Formulier!$E$45<=D500,Formulier!$O$45>=D500,$N$1="Zuid",I500="vakantie",E500="ma"),"ja","")))
A501: =E501&B501&D501 -> 201617zo | B501: =+B494+1 -> 17 | C501: =+C500+1 -> 42491 | D501: =+D494 -> zo | E501: =YEAR(C501) -> 2016 | F501: =IF(AND($C501>=$AA$3,$C501<=$AB$3),"Vakantie",IF(AND($C501>=$AA$4,$C501<=$AB$4),"Vakantie",IF(AND($C501>=$AA$5,$C501<=$AB$5),"Vakantie",IF(AND($C501>=$AA$6,$C501<=$AB$6),"Vakantie",IF(AND($C501>=$AA$7,$C501<=$AB$7),"Vakantie",""))))) | G501: =IF(AND($C501>=$AA$8,$C501<=$AB$8),"Vakantie",IF(AND($C501>=$AA$9,$C501<=$AB$9),"Vakantie",IF(AND($C501>=$AA$10,$C501<=$AB$10),"Vakantie",IF(AND($C501>=$AA$11,$C501<=$AB$11),"Vakantie",IF(AND($C501>=$AA$7,$C501<=$AB$7),"Vakantie",""))))) | H501: =IF(AND($C501>=$AA$13,$C501<=$AB$13),"Vakantie",IF(AND($C501>=$AA$14,$C501<=$AB$14),"Vakantie",IF(AND($C501>=$AA$15,$C501<=$AB$15),"Vakantie",IF(AND($C501>=$AA$16,$C501<=$AB$16),"Vakantie",IF(AND($C501>=$AA$12,$C501<=$AB$12),"Vakantie",""))))) | I501: =+I494+1 -> 18 | J501: =IF(AND(Formulier!$E$44<=C501,Formulier!$O$38>=C501),"Verlof",0) -> 0 | K501: =IF(J501=0,0,IF(F501="",0,1)) -> 0 | L501: =IF(J501=0,0,IF(G501="",0,1)) -> 0 | M501: =IF(J501=0,0,IF(H501="",0,1)) -> 0 | N501: =IF($N$1="Noord",K501,IF($N$1="Midden",L501,M501)) -> 0 | O501: =IF(OR(D501="za",D501="zo"),0,N501) -> 0 | Q501: =IF(AND(Formulier!$E$45<=D501,Formulier!$O$45>=D501,$N$1="Noord",G501="vakantie",E501="ma"),"ja",IF(AND(Formulier!$E$45<=D501,Formulier!$O$45>=D501,$N$1="Midden",H501="vakantie",E501="ma"),"ja",IF(AND(Formulier!$E$45<=D501,Formulier!$O$45>=D501,$N$1="Zuid",I501="vakantie",E501="ma"),"ja","")))
A502: =E502&B502&D502 -> 201618ma | B502: =+B495+1 -> 18 | C502: =+C501+1 -> 42492 | D502: =+D495 -> ma | E502: =YEAR(C502) -> 2016 | F502: =IF(AND($C502>=$AA$3,$C502<=$AB$3),"Vakantie",IF(AND($C502>=$AA$4,$C502<=$AB$4),"Vakantie",IF(AND($C502>=$AA$5,$C502<=$AB$5),"Vakantie",IF(AND($C502>=$AA$6,$C502<=$AB$6),"Vakantie",IF(AND($C502>=$AA$7,$C502<=$AB$7),"Vakantie",""))))) | G502: =IF(AND($C502>=$AA$8,$C502<=$AB$8),"Vakantie",IF(AND($C502>=$AA$9,$C502<=$AB$9),"Vakantie",IF(AND($C502>=$AA$10,$C502<=$AB$10),"Vakantie",IF(AND($C502>=$AA$11,$C502<=$AB$11),"Vakantie",IF(AND($C502>=$AA$7,$C502<=$AB$7),"Vakantie",""))))) | H502: =IF(AND($C502>=$AA$13,$C502<=$AB$13),"Vakantie",IF(AND($C502>=$AA$14,$C502<=$AB$14),"Vakantie",IF(AND($C502>=$AA$15,$C502<=$AB$15),"Vakantie",IF(AND($C502>=$AA$16,$C502<=$AB$16),"Vakantie",IF(AND($C502>=$AA$12,$C502<=$AB$12),"Vakantie",""))))) | I502: =+I495+1 -> 19 | J502: =IF(AND(Formulier!$E$44<=C502,Formulier!$O$38>=C502),"Verlof",0) -> 0 | K502: =IF(J502=0,0,IF(F502="",0,1)) -> 0 | L502: =IF(J502=0,0,IF(G502="",0,1)) -> 0 | M502: =IF(J502=0,0,IF(H502="",0,1)) -> 0 | N502: =IF($N$1="Noord",K502,IF($N$1="Midden",L502,M502)) -> 0 | O502: =IF(OR(D502="za",D502="zo"),0,N502) -> 0
A503: =E503&B503&D503 -> 201618di | B503: =+B496+1 -> 18 | C503: =+C502+1 -> 42493 | D503: =+D496 -> di | E503: =YEAR(C503) -> 2016 | F503: =IF(AND($C503>=$AA$3,$C503<=$AB$3),"Vakantie",IF(AND($C503>=$AA$4,$C503<=$AB$4),"Vakantie",IF(AND($C503>=$AA$5,$C503<=$AB$5),"Vakantie",IF(AND($C503>=$AA$6,$C503<=$AB$6),"Vakantie",IF(AND($C503>=$AA$7,$C503<=$AB$7),"Vakantie",""))))) | G503: =IF(AND($C503>=$AA$8,$C503<=$AB$8),"Vakantie",IF(AND($C503>=$AA$9,$C503<=$AB$9),"Vakantie",IF(AND($C503>=$AA$10,$C503<=$AB$10),"Vakantie",IF(AND($C503>=$AA$11,$C503<=$AB$11),"Vakantie",IF(AND($C503>=$AA$7,$C503<=$AB$7),"Vakantie",""))))) | H503: =IF(AND($C503>=$AA$13,$C503<=$AB$13),"Vakantie",IF(AND($C503>=$AA$14,$C503<=$AB$14),"Vakantie",IF(AND($C503>=$AA$15,$C503<=$AB$15),"Vakantie",IF(AND($C503>=$AA$16,$C503<=$AB$16),"Vakantie",IF(AND($C503>=$AA$12,$C503<=$AB$12),"Vakantie",""))))) | I503: =+I496+1 -> 19 | J503: =IF(AND(Formulier!$E$44<=C503,Formulier!$O$38>=C503),"Verlof",0) -> 0 | K503: =IF(J503=0,0,IF(F503="",0,1)) -> 0 | L503: =IF(J503=0,0,IF(G503="",0,1)) -> 0 | M503: =IF(J503=0,0,IF(H503="",0,1)) -> 0 | N503: =IF($N$1="Noord",K503,IF($N$1="Midden",L503,M503)) -> 0 | O503: =IF(OR(D503="za",D503="zo"),0,N503) -> 0
A504: =E504&B504&D504 -> 201618wo | B504: =+B497+1 -> 18 | C504: =+C503+1 -> 42494 | D504: =+D497 -> wo | E504: =YEAR(C504) -> 2016 | F504: =IF(AND($C504>=$AA$3,$C504<=$AB$3),"Vakantie",IF(AND($C504>=$AA$4,$C504<=$AB$4),"Vakantie",IF(AND($C504>=$AA$5,$C504<=$AB$5),"Vakantie",IF(AND($C504>=$AA$6,$C504<=$AB$6),"Vakantie",IF(AND($C504>=$AA$7,$C504<=$AB$7),"Vakantie",""))))) | G504: =IF(AND($C504>=$AA$8,$C504<=$AB$8),"Vakantie",IF(AND($C504>=$AA$9,$C504<=$AB$9),"Vakantie",IF(AND($C504>=$AA$10,$C504<=$AB$10),"Vakantie",IF(AND($C504>=$AA$11,$C504<=$AB$11),"Vakantie",IF(AND($C504>=$AA$7,$C504<=$AB$7),"Vakantie",""))))) | H504: =IF(AND($C504>=$AA$13,$C504<=$AB$13),"Vakantie",IF(AND($C504>=$AA$14,$C504<=$AB$14),"Vakantie",IF(AND($C504>=$AA$15,$C504<=$AB$15),"Vakantie",IF(AND($C504>=$AA$16,$C504<=$AB$16),"Vakantie",IF(AND($C504>=$AA$12,$C504<=$AB$12),"Vakantie",""))))) | I504: =+I497+1 -> 19 | J504: =IF(AND(Formulier!$E$44<=C504,Formulier!$O$38>=C504),"Verlof",0) -> 0 | K504: =IF(J504=0,0,IF(F504="",0,1)) -> 0 | L504: =IF(J504=0,0,IF(G504="",0,1)) -> 0 | M504: =IF(J504=0,0,IF(H504="",0,1)) -> 0 | N504: =IF($N$1="Noord",K504,IF($N$1="Midden",L504,M504)) -> 0 | O504: =IF(OR(D504="za",D504="zo"),0,N504) -> 0
A505: =E505&B505&D505 -> 201618do | B505: =+B498+1 -> 18 | C505: =+C504+1 -> 42495 | D505: =+D498 -> do | E505: =YEAR(C505) -> 2016 | F505: =IF(AND($C505>=$AA$3,$C505<=$AB$3),"Vakantie",IF(AND($C505>=$AA$4,$C505<=$AB$4),"Vakantie",IF(AND($C505>=$AA$5,$C505<=$AB$5),"Vakantie",IF(AND($C505>=$AA$6,$C505<=$AB$6),"Vakantie",IF(AND($C505>=$AA$7,$C505<=$AB$7),"Vakantie",""))))) | G505: =IF(AND($C505>=$AA$8,$C505<=$AB$8),"Vakantie",IF(AND($C505>=$AA$9,$C505<=$AB$9),"Vakantie",IF(AND($C505>=$AA$10,$C505<=$AB$10),"Vakantie",IF(AND($C505>=$AA$11,$C505<=$AB$11),"Vakantie",IF(AND($C505>=$AA$7,$C505<=$AB$7),"Vakantie",""))))) | H505: =IF(AND($C505>=$AA$13,$C505<=$AB$13),"Vakantie",IF(AND($C505>=$AA$14,$C505<=$AB$14),"Vakantie",IF(AND($C505>=$AA$15,$C505<=$AB$15),"Vakantie",IF(AND($C505>=$AA$16,$C505<=$AB$16),"Vakantie",IF(AND($C505>=$AA$12,$C505<=$AB$12),"Vakantie",""))))) | I505: =+I498+1 -> 19 | J505: =IF(AND(Formulier!$E$44<=C505,Formulier!$O$38>=C505),"Verlof",0) -> 0 | K505: =IF(J505=0,0,IF(F505="",0,1)) -> 0 | L505: =IF(J505=0,0,IF(G505="",0,1)) -> 0 | M505: =IF(J505=0,0,IF(H505="",0,1)) -> 0 | N505: =IF($N$1="Noord",K505,IF($N$1="Midden",L505,M505)) -> 0 | O505: =IF(OR(D505="za",D505="zo"),0,N505) -> 0
A506: =E506&B506&D506 -> 201618vr | B506: =+B499+1 -> 18 | C506: =+C505+1 -> 42496 | D506: =+D499 -> vr | E506: =YEAR(C506) -> 2016 | F506: =IF(AND($C506>=$AA$3,$C506<=$AB$3),"Vakantie",IF(AND($C506>=$AA$4,$C506<=$AB$4),"Vakantie",IF(AND($C506>=$AA$5,$C506<=$AB$5),"Vakantie",IF(AND($C506>=$AA$6,$C506<=$AB$6),"Vakantie",IF(AND($C506>=$AA$7,$C506<=$AB$7),"Vakantie",""))))) | G506: =IF(AND($C506>=$AA$8,$C506<=$AB$8),"Vakantie",IF(AND($C506>=$AA$9,$C506<=$AB$9),"Vakantie",IF(AND($C506>=$AA$10,$C506<=$AB$10),"Vakantie",IF(AND($C506>=$AA$11,$C506<=$AB$11),"Vakantie",IF(AND($C506>=$AA$7,$C506<=$AB$7),"Vakantie",""))))) | H506: =IF(AND($C506>=$AA$13,$C506<=$AB$13),"Vakantie",IF(AND($C506>=$AA$14,$C506<=$AB$14),"Vakantie",IF(AND($C506>=$AA$15,$C506<=$AB$15),"Vakantie",IF(AND($C506>=$AA$16,$C506<=$AB$16),"Vakantie",IF(AND($C506>=$AA$12,$C506<=$AB$12),"Vakantie",""))))) | I506: =+I499+1 -> 19 | J506: =IF(AND(Formulier!$E$44<=C506,Formulier!$O$38>=C506),"Verlof",0) -> 0 | K506: =IF(J506=0,0,IF(F506="",0,1)) -> 0 | L506: =IF(J506=0,0,IF(G506="",0,1)) -> 0 | M506: =IF(J506=0,0,IF(H506="",0,1)) -> 0 | N506: =IF($N$1="Noord",K506,IF($N$1="Midden",L506,M506)) -> 0 | O506: =IF(OR(D506="za",D506="zo"),0,N506) -> 0
A507: =E507&B507&D507 -> 201618za | B507: =+B500+1 -> 18 | C507: =+C506+1 -> 42497 | D507: =+D500 -> za | E507: =YEAR(C507) -> 2016 | F507: =IF(AND($C507>=$AA$3,$C507<=$AB$3),"Vakantie",IF(AND($C507>=$AA$4,$C507<=$AB$4),"Vakantie",IF(AND($C507>=$AA$5,$C507<=$AB$5),"Vakantie",IF(AND($C507>=$AA$6,$C507<=$AB$6),"Vakantie",IF(AND($C507>=$AA$7,$C507<=$AB$7),"Vakantie",""))))) | G507: =IF(AND($C507>=$AA$8,$C507<=$AB$8),"Vakantie",IF(AND($C507>=$AA$9,$C507<=$AB$9),"Vakantie",IF(AND($C507>=$AA$10,$C507<=$AB$10),"Vakantie",IF(AND($C507>=$AA$11,$C507<=$AB$11),"Vakantie",IF(AND($C507>=$AA$7,$C507<=$AB$7),"Vakantie",""))))) | H507: =IF(AND($C507>=$AA$13,$C507<=$AB$13),"Vakantie",IF(AND($C507>=$AA$14,$C507<=$AB$14),"Vakantie",IF(AND($C507>=$AA$15,$C507<=$AB$15),"Vakantie",IF(AND($C507>=$AA$16,$C507<=$AB$16),"Vakantie",IF(AND($C507>=$AA$12,$C507<=$AB$12),"Vakantie",""))))) | I507: =+I500+1 -> 19 | J507: =IF(AND(Formulier!$E$44<=C507,Formulier!$O$38>=C507),"Verlof",0) -> 0 | K507: =IF(J507=0,0,IF(F507="",0,1)) -> 0 | L507: =IF(J507=0,0,IF(G507="",0,1)) -> 0 | M507: =IF(J507=0,0,IF(H507="",0,1)) -> 0 | N507: =IF($N$1="Noord",K507,IF($N$1="Midden",L507,M507)) -> 0 | O507: =IF(OR(D507="za",D507="zo"),0,N507) -> 0
A508: =E508&B508&D508 -> 201618zo | B508: =+B501+1 -> 18 | C508: =+C507+1 -> 42498 | D508: =+D501 -> zo | E508: =YEAR(C508) -> 2016 | F508: =IF(AND($C508>=$AA$3,$C508<=$AB$3),"Vakantie",IF(AND($C508>=$AA$4,$C508<=$AB$4),"Vakantie",IF(AND($C508>=$AA$5,$C508<=$AB$5),"Vakantie",IF(AND($C508>=$AA$6,$C508<=$AB$6),"Vakantie",IF(AND($C508>=$AA$7,$C508<=$AB$7),"Vakantie",""))))) | G508: =IF(AND($C508>=$AA$8,$C508<=$AB$8),"Vakantie",IF(AND($C508>=$AA$9,$C508<=$AB$9),"Vakantie",IF(AND($C508>=$AA$10,$C508<=$AB$10),"Vakantie",IF(AND($C508>=$AA$11,$C508<=$AB$11),"Vakantie",IF(AND($C508>=$AA$7,$C508<=$AB$7),"Vakantie",""))))) | H508: =IF(AND($C508>=$AA$13,$C508<=$AB$13),"Vakantie",IF(AND($C508>=$AA$14,$C508<=$AB$14),"Vakantie",IF(AND($C508>=$AA$15,$C508<=$AB$15),"Vakantie",IF(AND($C508>=$AA$16,$C508<=$AB$16),"Vakantie",IF(AND($C508>=$AA$12,$C508<=$AB$12),"Vakantie",""))))) | I508: =+I501+1 -> 19 | J508: =IF(AND(Formulier!$E$44<=C508,Formulier!$O$38>=C508),"Verlof",0) -> 0 | K508: =IF(J508=0,0,IF(F508="",0,1)) -> 0 | L508: =IF(J508=0,0,IF(G508="",0,1)) -> 0 | M508: =IF(J508=0,0,IF(H508="",0,1)) -> 0 | N508: =IF($N$1="Noord",K508,IF($N$1="Midden",L508,M508)) -> 0 | O508: =IF(OR(D508="za",D508="zo"),0,N508) -> 0
A509: =E509&B509&D509 -> 201619ma | B509: =+B502+1 -> 19 | C509: =+C508+1 -> 42499 | D509: =+D502 -> ma | E509: =YEAR(C509) -> 2016 | F509: =IF(AND($C509>=$AA$3,$C509<=$AB$3),"Vakantie",IF(AND($C509>=$AA$4,$C509<=$AB$4),"Vakantie",IF(AND($C509>=$AA$5,$C509<=$AB$5),"Vakantie",IF(AND($C509>=$AA$6,$C509<=$AB$6),"Vakantie",IF(AND($C509>=$AA$7,$C509<=$AB$7),"Vakantie",""))))) | G509: =IF(AND($C509>=$AA$8,$C509<=$AB$8),"Vakantie",IF(AND($C509>=$AA$9,$C509<=$AB$9),"Vakantie",IF(AND($C509>=$AA$10,$C509<=$AB$10),"Vakantie",IF(AND($C509>=$AA$11,$C509<=$AB$11),"Vakantie",IF(AND($C509>=$AA$7,$C509<=$AB$7),"Vakantie",""))))) | H509: =IF(AND($C509>=$AA$13,$C509<=$AB$13),"Vakantie",IF(AND($C509>=$AA$14,$C509<=$AB$14),"Vakantie",IF(AND($C509>=$AA$15,$C509<=$AB$15),"Vakantie",IF(AND($C509>=$AA$16,$C509<=$AB$16),"Vakantie",IF(AND($C509>=$AA$12,$C509<=$AB$12),"Vakantie",""))))) | I509: =+I502+1 -> 20 | J509: =IF(AND(Formulier!$E$44<=C509,Formulier!$O$38>=C509),"Verlof",0) -> 0 | K509: =IF(J509=0,0,IF(F509="",0,1)) -> 0 | L509: =IF(J509=0,0,IF(G509="",0,1)) -> 0 | M509: =IF(J509=0,0,IF(H509="",0,1)) -> 0 | N509: =IF($N$1="Noord",K509,IF($N$1="Midden",L509,M509)) -> 0 | O509: =IF(OR(D509="za",D509="zo"),0,N509) -> 0
A510: =E510&B510&D510 -> 201619di | B510: =+B503+1 -> 19 | C510: =+C509+1 -> 42500 | D510: =+D503 -> di | E510: =YEAR(C510) -> 2016 | F510: =IF(AND($C510>=$AA$3,$C510<=$AB$3),"Vakantie",IF(AND($C510>=$AA$4,$C510<=$AB$4),"Vakantie",IF(AND($C510>=$AA$5,$C510<=$AB$5),"Vakantie",IF(AND($C510>=$AA$6,$C510<=$AB$6),"Vakantie",IF(AND($C510>=$AA$7,$C510<=$AB$7),"Vakantie",""))))) | G510: =IF(AND($C510>=$AA$8,$C510<=$AB$8),"Vakantie",IF(AND($C510>=$AA$9,$C510<=$AB$9),"Vakantie",IF(AND($C510>=$AA$10,$C510<=$AB$10),"Vakantie",IF(AND($C510>=$AA$11,$C510<=$AB$11),"Vakantie",IF(AND($C510>=$AA$7,$C510<=$AB$7),"Vakantie",""))))) | H510: =IF(AND($C510>=$AA$13,$C510<=$AB$13),"Vakantie",IF(AND($C510>=$AA$14,$C510<=$AB$14),"Vakantie",IF(AND($C510>=$AA$15,$C510<=$AB$15),"Vakantie",IF(AND($C510>=$AA$16,$C510<=$AB$16),"Vakantie",IF(AND($C510>=$AA$12,$C510<=$AB$12),"Vakantie",""))))) | I510: =+I503+1 -> 20 | J510: =IF(AND(Formulier!$E$44<=C510,Formulier!$O$38>=C510),"Verlof",0) -> 0 | K510: =IF(J510=0,0,IF(F510="",0,1)) -> 0 | L510: =IF(J510=0,0,IF(G510="",0,1)) -> 0 | M510: =IF(J510=0,0,IF(H510="",0,1)) -> 0 | N510: =IF($N$1="Noord",K510,IF($N$1="Midden",L510,M510)) -> 0 | O510: =IF(OR(D510="za",D510="zo"),0,N510) -> 0
A511: =E511&B511&D511 -> 201619wo | B511: =+B504+1 -> 19 | C511: =+C510+1 -> 42501 | D511: =+D504 -> wo | E511: =YEAR(C511) -> 2016 | F511: =IF(AND($C511>=$AA$3,$C511<=$AB$3),"Vakantie",IF(AND($C511>=$AA$4,$C511<=$AB$4),"Vakantie",IF(AND($C511>=$AA$5,$C511<=$AB$5),"Vakantie",IF(AND($C511>=$AA$6,$C511<=$AB$6),"Vakantie",IF(AND($C511>=$AA$7,$C511<=$AB$7),"Vakantie",""))))) | G511: =IF(AND($C511>=$AA$8,$C511<=$AB$8),"Vakantie",IF(AND($C511>=$AA$9,$C511<=$AB$9),"Vakantie",IF(AND($C511>=$AA$10,$C511<=$AB$10),"Vakantie",IF(AND($C511>=$AA$11,$C511<=$AB$11),"Vakantie",IF(AND($C511>=$AA$7,$C511<=$AB$7),"Vakantie",""))))) | H511: =IF(AND($C511>=$AA$13,$C511<=$AB$13),"Vakantie",IF(AND($C511>=$AA$14,$C511<=$AB$14),"Vakantie",IF(AND($C511>=$AA$15,$C511<=$AB$15),"Vakantie",IF(AND($C511>=$AA$16,$C511<=$AB$16),"Vakantie",IF(AND($C511>=$AA$12,$C511<=$AB$12),"Vakantie",""))))) | I511: =+I504+1 -> 20 | J511: =IF(AND(Formulier!$E$44<=C511,Formulier!$O$38>=C511),"Verlof",0) -> 0 | K511: =IF(J511=0,0,IF(F511="",0,1)) -> 0 | L511: =IF(J511=0,0,IF(G511="",0,1)) -> 0 | M511: =IF(J511=0,0,IF(H511="",0,1)) -> 0 | N511: =IF($N$1="Noord",K511,IF($N$1="Midden",L511,M511)) -> 0 | O511: =IF(OR(D511="za",D511="zo"),0,N511) -> 0
A512: =E512&B512&D512 -> 201619do | B512: =+B505+1 -> 19 | C512: =+C511+1 -> 42502 | D512: =+D505 -> do | E512: =YEAR(C512) -> 2016 | F512: =IF(AND($C512>=$AA$3,$C512<=$AB$3),"Vakantie",IF(AND($C512>=$AA$4,$C512<=$AB$4),"Vakantie",IF(AND($C512>=$AA$5,$C512<=$AB$5),"Vakantie",IF(AND($C512>=$AA$6,$C512<=$AB$6),"Vakantie",IF(AND($C512>=$AA$7,$C512<=$AB$7),"Vakantie",""))))) | G512: =IF(AND($C512>=$AA$8,$C512<=$AB$8),"Vakantie",IF(AND($C512>=$AA$9,$C512<=$AB$9),"Vakantie",IF(AND($C512>=$AA$10,$C512<=$AB$10),"Vakantie",IF(AND($C512>=$AA$11,$C512<=$AB$11),"Vakantie",IF(AND($C512>=$AA$7,$C512<=$AB$7),"Vakantie",""))))) | H512: =IF(AND($C512>=$AA$13,$C512<=$AB$13),"Vakantie",IF(AND($C512>=$AA$14,$C512<=$AB$14),"Vakantie",IF(AND($C512>=$AA$15,$C512<=$AB$15),"Vakantie",IF(AND($C512>=$AA$16,$C512<=$AB$16),"Vakantie",IF(AND($C512>=$AA$12,$C512<=$AB$12),"Vakantie",""))))) | I512: =+I505+1 -> 20 | J512: =IF(AND(Formulier!$E$44<=C512,Formulier!$O$38>=C512),"Verlof",0) -> 0 | K512: =IF(J512=0,0,IF(F512="",0,1)) -> 0 | L512: =IF(J512=0,0,IF(G512="",0,1)) -> 0 | M512: =IF(J512=0,0,IF(H512="",0,1)) -> 0 | N512: =IF($N$1="Noord",K512,IF($N$1="Midden",L512,M512)) -> 0 | O512: =IF(OR(D512="za",D512="zo"),0,N512) -> 0
A513: =E513&B513&D513 -> 201619vr | B513: =+B506+1 -> 19 | C513: =+C512+1 -> 42503 | D513: =+D506 -> vr | E513: =YEAR(C513) -> 2016 | F513: =IF(AND($C513>=$AA$3,$C513<=$AB$3),"Vakantie",IF(AND($C513>=$AA$4,$C513<=$AB$4),"Vakantie",IF(AND($C513>=$AA$5,$C513<=$AB$5),"Vakantie",IF(AND($C513>=$AA$6,$C513<=$AB$6),"Vakantie",IF(AND($C513>=$AA$7,$C513<=$AB$7),"Vakantie",""))))) | G513: =IF(AND($C513>=$AA$8,$C513<=$AB$8),"Vakantie",IF(AND($C513>=$AA$9,$C513<=$AB$9),"Vakantie",IF(AND($C513>=$AA$10,$C513<=$AB$10),"Vakantie",IF(AND($C513>=$AA$11,$C513<=$AB$11),"Vakantie",IF(AND($C513>=$AA$7,$C513<=$AB$7),"Vakantie",""))))) | H513: =IF(AND($C513>=$AA$13,$C513<=$AB$13),"Vakantie",IF(AND($C513>=$AA$14,$C513<=$AB$14),"Vakantie",IF(AND($C513>=$AA$15,$C513<=$AB$15),"Vakantie",IF(AND($C513>=$AA$16,$C513<=$AB$16),"Vakantie",IF(AND($C513>=$AA$12,$C513<=$AB$12),"Vakantie",""))))) | I513: =+I506+1 -> 20 | J513: =IF(AND(Formulier!$E$44<=C513,Formulier!$O$38>=C513),"Verlof",0) -> 0 | K513: =IF(J513=0,0,IF(F513="",0,1)) -> 0 | L513: =IF(J513=0,0,IF(G513="",0,1)) -> 0 | M513: =IF(J513=0,0,IF(H513="",0,1)) -> 0 | N513: =IF($N$1="Noord",K513,IF($N$1="Midden",L513,M513)) -> 0 | O513: =IF(OR(D513="za",D513="zo"),0,N513) -> 0
... A746: =E746&B746&D746 -> 201752zo | B746: =+B739+1 -> 52 | C746: =+C745+1 -> 42736 | D746: =+D739 -> zo | E746: =YEAR(C746) -> 2017 | F746: =IF(AND($C746>=$AA$3,$C746<=$AB$3),"Vakantie",IF(AND($C746>=$AA$4,$C746<=$AB$4),"Vakantie",IF(AND($C746>=$AA$5,$C746<=$AB$5),"Vakantie",IF(AND($C746>=$AA$6,$C746<=$AB$6),"Vakantie",IF(AND($C746>=$AA$7,$C746<=$AB$7),"Vakantie",""))))) | G746: =IF(AND($C746>=$AA$8,$C746<=$AB$8),"Vakantie",IF(AND($C746>=$AA$9,$C746<=$AB$9),"Vakantie",IF(AND($C746>=$AA$10,$C746<=$AB$10),"Vakantie",IF(AND($C746>=$AA$11,$C746<=$AB$11),"Vakantie",IF(AND($C746>=$AA$7,$C746<=$AB$7),"Vakantie",""))))) | H746: =IF(AND($C746>=$AA$13,$C746<=$AB$13),"Vakantie",IF(AND($C746>=$AA$14,$C746<=$AB$14),"Vakantie",IF(AND($C746>=$AA$15,$C746<=$AB$15),"Vakantie",IF(AND($C746>=$AA$16,$C746<=$AB$16),"Vakantie",IF(AND($C746>=$AA$12,$C746<=$AB$12),"Vakantie",""))))) | I746: =+I739+1 -> 53 | J746: =IF(AND(Formulier!$E$44<=C746,Formulier!$O$38>=C746),"Verlof",0) -> 0 | K746: =IF(J746=0,0,IF(F746="",0,1)) -> 0 | L746: =IF(J746=0,0,IF(G746="",0,1)) -> 0 | M746: =IF(J746=0,0,IF(H746="",0,1)) -> 0 | N746: =IF($N$1="Noord",K746,IF($N$1="Midden",L746,M746)) -> 0 | O746: =IF(OR(D746="za",D746="zo"),0,N746) -> 0
A747: =E747&B747&D747 -> 20171ma | B747: 1 | C747: =+C746+1 -> 42737 | D747: =+D740 -> ma | E747: =YEAR(C747) -> 2017 | F747: =IF(AND($C747>=$AA$3,$C747<=$AB$3),"Vakantie",IF(AND($C747>=$AA$4,$C747<=$AB$4),"Vakantie",IF(AND($C747>=$AA$5,$C747<=$AB$5),"Vakantie",IF(AND($C747>=$AA$6,$C747<=$AB$6),"Vakantie",IF(AND($C747>=$AA$7,$C747<=$AB$7),"Vakantie",""))))) | G747: =IF(AND($C747>=$AA$8,$C747<=$AB$8),"Vakantie",IF(AND($C747>=$AA$9,$C747<=$AB$9),"Vakantie",IF(AND($C747>=$AA$10,$C747<=$AB$10),"Vakantie",IF(AND($C747>=$AA$11,$C747<=$AB$11),"Vakantie",IF(AND($C747>=$AA$7,$C747<=$AB$7),"Vakantie",""))))) | H747: =IF(AND($C747>=$AA$13,$C747<=$AB$13),"Vakantie",IF(AND($C747>=$AA$14,$C747<=$AB$14),"Vakantie",IF(AND($C747>=$AA$15,$C747<=$AB$15),"Vakantie",IF(AND($C747>=$AA$16,$C747<=$AB$16),"Vakantie",IF(AND($C747>=$AA$12,$C747<=$AB$12),"Vakantie",""))))) | I747: 1 | J747: =IF(AND(Formulier!$E$44<=C747,Formulier!$O$38>=C747),"Verlof",0) -> 0 | K747: =IF(J747=0,0,IF(F747="",0,1)) -> 0 | L747: =IF(J747=0,0,IF(G747="",0,1)) -> 0 | M747: =IF(J747=0,0,IF(H747="",0,1)) -> 0 | N747: =IF($N$1="Noord",K747,IF($N$1="Midden",L747,M747)) -> 0 | O747: =IF(OR(D747="za",D747="zo"),0,N747) -> 0
A748: =E748&B748&D748 -> 20171di | B748: 1 | C748: =+C747+1 -> 42738 | D748: =+D741 -> di | E748: =YEAR(C748) -> 2017 | F748: =IF(AND($C748>=$AA$3,$C748<=$AB$3),"Vakantie",IF(AND($C748>=$AA$4,$C748<=$AB$4),"Vakantie",IF(AND($C748>=$AA$5,$C748<=$AB$5),"Vakantie",IF(AND($C748>=$AA$6,$C748<=$AB$6),"Vakantie",IF(AND($C748>=$AA$7,$C748<=$AB$7),"Vakantie",""))))) | G748: =IF(AND($C748>=$AA$8,$C748<=$AB$8),"Vakantie",IF(AND($C748>=$AA$9,$C748<=$AB$9),"Vakantie",IF(AND($C748>=$AA$10,$C748<=$AB$10),"Vakantie",IF(AND($C748>=$AA$11,$C748<=$AB$11),"Vakantie",IF(AND($C748>=$AA$7,$C748<=$AB$7),"Vakantie",""))))) | H748: =IF(AND($C748>=$AA$13,$C748<=$AB$13),"Vakantie",IF(AND($C748>=$AA$14,$C748<=$AB$14),"Vakantie",IF(AND($C748>=$AA$15,$C748<=$AB$15),"Vakantie",IF(AND($C748>=$AA$16,$C748<=$AB$16),"Vakantie",IF(AND($C748>=$AA$12,$C748<=$AB$12),"Vakantie",""))))) | I748: 1 | J748: =IF(AND(Formulier!$E$44<=C748,Formulier!$O$38>=C748),"Verlof",0) -> 0 | K748: =IF(J748=0,0,IF(F748="",0,1)) -> 0 | L748: =IF(J748=0,0,IF(G748="",0,1)) -> 0 | M748: =IF(J748=0,0,IF(H748="",0,1)) -> 0 | N748: =IF($N$1="Noord",K748,IF($N$1="Midden",L748,M748)) -> 0 | O748: =IF(OR(D748="za",D748="zo"),0,N748) -> 0
A749: =E749&B749&D749 -> 20171wo | B749: 1 | C749: =+C748+1 -> 42739 | D749: =+D742 -> wo | E749: =YEAR(C749) -> 2017 | F749: =IF(AND($C749>=$AA$3,$C749<=$AB$3),"Vakantie",IF(AND($C749>=$AA$4,$C749<=$AB$4),"Vakantie",IF(AND($C749>=$AA$5,$C749<=$AB$5),"Vakantie",IF(AND($C749>=$AA$6,$C749<=$AB$6),"Vakantie",IF(AND($C749>=$AA$7,$C749<=$AB$7),"Vakantie",""))))) | G749: =IF(AND($C749>=$AA$8,$C749<=$AB$8),"Vakantie",IF(AND($C749>=$AA$9,$C749<=$AB$9),"Vakantie",IF(AND($C749>=$AA$10,$C749<=$AB$10),"Vakantie",IF(AND($C749>=$AA$11,$C749<=$AB$11),"Vakantie",IF(AND($C749>=$AA$7,$C749<=$AB$7),"Vakantie",""))))) | H749: =IF(AND($C749>=$AA$13,$C749<=$AB$13),"Vakantie",IF(AND($C749>=$AA$14,$C749<=$AB$14),"Vakantie",IF(AND($C749>=$AA$15,$C749<=$AB$15),"Vakantie",IF(AND($C749>=$AA$16,$C749<=$AB$16),"Vakantie",IF(AND($C749>=$AA$12,$C749<=$AB$12),"Vakantie",""))))) | I749: 1 | J749: =IF(AND(Formulier!$E$44<=C749,Formulier!$O$38>=C749),"Verlof",0) -> 0 | K749: =IF(J749=0,0,IF(F749="",0,1)) -> 0 | L749: =IF(J749=0,0,IF(G749="",0,1)) -> 0 | M749: =IF(J749=0,0,IF(H749="",0,1)) -> 0 | N749: =IF($N$1="Noord",K749,IF($N$1="Midden",L749,M749)) -> 0 | O749: =IF(OR(D749="za",D749="zo"),0,N749) -> 0
A750: =E750&B750&D750 -> 20171do | B750: 1 | C750: =+C749+1 -> 42740 | D750: =+D743 -> do | E750: =YEAR(C750) -> 2017 | F750: =IF(AND($C750>=$AA$3,$C750<=$AB$3),"Vakantie",IF(AND($C750>=$AA$4,$C750<=$AB$4),"Vakantie",IF(AND($C750>=$AA$5,$C750<=$AB$5),"Vakantie",IF(AND($C750>=$AA$6,$C750<=$AB$6),"Vakantie",IF(AND($C750>=$AA$7,$C750<=$AB$7),"Vakantie",""))))) | G750: =IF(AND($C750>=$AA$8,$C750<=$AB$8),"Vakantie",IF(AND($C750>=$AA$9,$C750<=$AB$9),"Vakantie",IF(AND($C750>=$AA$10,$C750<=$AB$10),"Vakantie",IF(AND($C750>=$AA$11,$C750<=$AB$11),"Vakantie",IF(AND($C750>=$AA$7,$C750<=$AB$7),"Vakantie",""))))) | H750: =IF(AND($C750>=$AA$13,$C750<=$AB$13),"Vakantie",IF(AND($C750>=$AA$14,$C750<=$AB$14),"Vakantie",IF(AND($C750>=$AA$15,$C750<=$AB$15),"Vakantie",IF(AND($C750>=$AA$16,$C750<=$AB$16),"Vakantie",IF(AND($C750>=$AA$12,$C750<=$AB$12),"Vakantie",""))))) | I750: 1 | J750: =IF(AND(Formulier!$E$44<=C750,Formulier!$O$38>=C750),"Verlof",0) -> 0 | K750: =IF(J750=0,0,IF(F750="",0,1)) -> 0 | L750: =IF(J750=0,0,IF(G750="",0,1)) -> 0 | M750: =IF(J750=0,0,IF(H750="",0,1)) -> 0 | N750: =IF($N$1="Noord",K750,IF($N$1="Midden",L750,M750)) -> 0 | O750: =IF(OR(D750="za",D750="zo"),0,N750) -> 0
A751: =E751&B751&D751 -> 20171vr | B751: 1 | C751: =+C750+1 -> 42741 | D751: =+D744 -> vr | E751: =YEAR(C751) -> 2017 | F751: =IF(AND($C751>=$AA$3,$C751<=$AB$3),"Vakantie",IF(AND($C751>=$AA$4,$C751<=$AB$4),"Vakantie",IF(AND($C751>=$AA$5,$C751<=$AB$5),"Vakantie",IF(AND($C751>=$AA$6,$C751<=$AB$6),"Vakantie",IF(AND($C751>=$AA$7,$C751<=$AB$7),"Vakantie",""))))) | G751: =IF(AND($C751>=$AA$8,$C751<=$AB$8),"Vakantie",IF(AND($C751>=$AA$9,$C751<=$AB$9),"Vakantie",IF(AND($C751>=$AA$10,$C751<=$AB$10),"Vakantie",IF(AND($C751>=$AA$11,$C751<=$AB$11),"Vakantie",IF(AND($C751>=$AA$7,$C751<=$AB$7),"Vakantie",""))))) | H751: =IF(AND($C751>=$AA$13,$C751<=$AB$13),"Vakantie",IF(AND($C751>=$AA$14,$C751<=$AB$14),"Vakantie",IF(AND($C751>=$AA$15,$C751<=$AB$15),"Vakantie",IF(AND($C751>=$AA$16,$C751<=$AB$16),"Vakantie",IF(AND($C751>=$AA$12,$C751<=$AB$12),"Vakantie",""))))) | I751: 1 | J751: =IF(AND(Formulier!$E$44<=C751,Formulier!$O$38>=C751),"Verlof",0) -> 0 | K751: =IF(J751=0,0,IF(F751="",0,1)) -> 0 | L751: =IF(J751=0,0,IF(G751="",0,1)) -> 0 | M751: =IF(J751=0,0,IF(H751="",0,1)) -> 0 | N751: =IF($N$1="Noord",K751,IF($N$1="Midden",L751,M751)) -> 0 | O751: =IF(OR(D751="za",D751="zo"),0,N751) -> 0
A752: =E752&B752&D752 -> 20171za | B752: 1 | C752: =+C751+1 -> 42742 | D752: =+D745 -> za | E752: =YEAR(C752) -> 2017 | F752: =IF(AND($C752>=$AA$3,$C752<=$AB$3),"Vakantie",IF(AND($C752>=$AA$4,$C752<=$AB$4),"Vakantie",IF(AND($C752>=$AA$5,$C752<=$AB$5),"Vakantie",IF(AND($C752>=$AA$6,$C752<=$AB$6),"Vakantie",IF(AND($C752>=$AA$7,$C752<=$AB$7),"Vakantie",""))))) | G752: =IF(AND($C752>=$AA$8,$C752<=$AB$8),"Vakantie",IF(AND($C752>=$AA$9,$C752<=$AB$9),"Vakantie",IF(AND($C752>=$AA$10,$C752<=$AB$10),"Vakantie",IF(AND($C752>=$AA$11,$C752<=$AB$11),"Vakantie",IF(AND($C752>=$AA$7,$C752<=$AB$7),"Vakantie",""))))) | H752: =IF(AND($C752>=$AA$13,$C752<=$AB$13),"Vakantie",IF(AND($C752>=$AA$14,$C752<=$AB$14),"Vakantie",IF(AND($C752>=$AA$15,$C752<=$AB$15),"Vakantie",IF(AND($C752>=$AA$16,$C752<=$AB$16),"Vakantie",IF(AND($C752>=$AA$12,$C752<=$AB$12),"Vakantie",""))))) | I752: 1 | J752: =IF(AND(Formulier!$E$44<=C752,Formulier!$O$38>=C752),"Verlof",0) -> 0 | K752: =IF(J752=0,0,IF(F752="",0,1)) -> 0 | L752: =IF(J752=0,0,IF(G752="",0,1)) -> 0 | M752: =IF(J752=0,0,IF(H752="",0,1)) -> 0 | N752: =IF($N$1="Noord",K752,IF($N$1="Midden",L752,M752)) -> 0 | O752: =IF(OR(D752="za",D752="zo"),0,N752) -> 0
A753: =E753&B753&D753 -> 20171zo | B753: 1 | C753: =+C752+1 -> 42743 | D753: =+D746 -> zo | E753: =YEAR(C753) -> 2017 | F753: =IF(AND($C753>=$AA$3,$C753<=$AB$3),"Vakantie",IF(AND($C753>=$AA$4,$C753<=$AB$4),"Vakantie",IF(AND($C753>=$AA$5,$C753<=$AB$5),"Vakantie",IF(AND($C753>=$AA$6,$C753<=$AB$6),"Vakantie",IF(AND($C753>=$AA$7,$C753<=$AB$7),"Vakantie",""))))) | G753: =IF(AND($C753>=$AA$8,$C753<=$AB$8),"Vakantie",IF(AND($C753>=$AA$9,$C753<=$AB$9),"Vakantie",IF(AND($C753>=$AA$10,$C753<=$AB$10),"Vakantie",IF(AND($C753>=$AA$11,$C753<=$AB$11),"Vakantie",IF(AND($C753>=$AA$7,$C753<=$AB$7),"Vakantie",""))))) | H753: =IF(AND($C753>=$AA$13,$C753<=$AB$13),"Vakantie",IF(AND($C753>=$AA$14,$C753<=$AB$14),"Vakantie",IF(AND($C753>=$AA$15,$C753<=$AB$15),"Vakantie",IF(AND($C753>=$AA$16,$C753<=$AB$16),"Vakantie",IF(AND($C753>=$AA$12,$C753<=$AB$12),"Vakantie",""))))) | I753: 1 | J753: =IF(AND(Formulier!$E$44<=C753,Formulier!$O$38>=C753),"Verlof",0) -> 0 | K753: =IF(J753=0,0,IF(F753="",0,1)) -> 0 | L753: =IF(J753=0,0,IF(G753="",0,1)) -> 0 | M753: =IF(J753=0,0,IF(H753="",0,1)) -> 0 | N753: =IF($N$1="Noord",K753,IF($N$1="Midden",L753,M753)) -> 0 | O753: =IF(OR(D753="za",D753="zo"),0,N753) -> 0
A754: =E754&B754&D754 -> 20172ma | B754: =+B747+1 -> 2 | C754: =+C753+1 -> 42744 | D754: =+D747 -> ma | E754: =YEAR(C754) -> 2017 | F754: =IF(AND($C754>=$AD$3,$C754<=$AE$3),"Vakantie",IF(AND($C754>=$AD$4,$C754<=$AE$4),"Vakantie",IF(AND($C754>=$AD$5,$C754<=$AE$5),"Vakantie",IF(AND($C754>=$AD$6,$C754<=$AE$6),"Vakantie",IF(AND($C754>=$AD$7,$C754<=$AE$7),"Vakantie",IF($C754=$AD$23,"Vakantie",IF($C754=$AD$24,"Vakantie",IF($C754=$AD$25,"Vakantie",IF($C754=$AD$26,"Vakantie",""))))))))) | G754: =IF(AND($C754>=$AD$8,$C754<=$AE$8),"Vakantie",IF(AND($C754>=$AD$9,$C754<=$AE$9),"Vakantie",IF(AND($C754>=$AD$10,$C754<=$AE$10),"Vakantie",IF(AND($C754>=$AD$11,$C754<=$AE$11),"Vakantie",IF(AND($C754>=$AD$12,$C754<=$AE$12),"Vakantie",IF($C754=$AD$23,"Vakantie",IF($C754=$AD$24,"Vakantie",IF($C754=$AD$25,"Vakantie",IF($C754=$AD$26,"Vakantie",""))))))))) | H754: =IF(AND($C754>=$AD$13,$C754<=$AE$13),"Vakantie",IF(AND($C754>=$AD$14,$C754<=$AE$14),"Vakantie",IF(AND($C754>=$AD$15,$C754<=$AE$15),"Vakantie",IF(AND($C754>=$AD$16,$C754<=$AE$16),"Vakantie",IF(AND($C754>=$AD$17,$C754<=$AE$17),"Vakantie",IF($C754=$AD$23,"Vakantie",IF($C754=$AD$24,"Vakantie",IF($C754=$AD$25,"Vakantie",IF($C754=$AD$26,"Vakantie",""))))))))) | I754: =+I747+1 -> 2 | J754: =IF(AND(Formulier!$E$44<=C754,Formulier!$O$38>=C754),"Verlof",0) -> 0 | K754: =IF(J754=0,0,IF(F754="",0,1)) -> 0 | L754: =IF(J754=0,0,IF(G754="",0,1)) -> 0 | M754: =IF(J754=0,0,IF(H754="",0,1)) -> 0 | N754: =IF($N$1="Noord",K754,IF($N$1="Midden",L754,M754)) -> 0 | O754: =IF(OR(D754="za",D754="zo"),0,N754) -> 0
A755: =E755&B755&D755 -> 20172di | B755: =+B748+1 -> 2 | C755: =+C754+1 -> 42745 | D755: =+D748 -> di | E755: =YEAR(C755) -> 2017 | F755: =IF(AND($C755>=$AD$3,$C755<=$AE$3),"Vakantie",IF(AND($C755>=$AD$4,$C755<=$AE$4),"Vakantie",IF(AND($C755>=$AD$5,$C755<=$AE$5),"Vakantie",IF(AND($C755>=$AD$6,$C755<=$AE$6),"Vakantie",IF(AND($C755>=$AD$7,$C755<=$AE$7),"Vakantie",IF($C755=$AD$23,"Vakantie",IF($C755=$AD$24,"Vakantie",IF($C755=$AD$25,"Vakantie",IF($C755=$AD$26,"Vakantie",""))))))))) | G755: =IF(AND($C755>=$AD$8,$C755<=$AE$8),"Vakantie",IF(AND($C755>=$AD$9,$C755<=$AE$9),"Vakantie",IF(AND($C755>=$AD$10,$C755<=$AE$10),"Vakantie",IF(AND($C755>=$AD$11,$C755<=$AE$11),"Vakantie",IF(AND($C755>=$AD$12,$C755<=$AE$12),"Vakantie",IF($C755=$AD$23,"Vakantie",IF($C755=$AD$24,"Vakantie",IF($C755=$AD$25,"Vakantie",IF($C755=$AD$26,"Vakantie",""))))))))) | H755: =IF(AND($C755>=$AD$13,$C755<=$AE$13),"Vakantie",IF(AND($C755>=$AD$14,$C755<=$AE$14),"Vakantie",IF(AND($C755>=$AD$15,$C755<=$AE$15),"Vakantie",IF(AND($C755>=$AD$16,$C755<=$AE$16),"Vakantie",IF(AND($C755>=$AD$17,$C755<=$AE$17),"Vakantie",IF($C755=$AD$23,"Vakantie",IF($C755=$AD$24,"Vakantie",IF($C755=$AD$25,"Vakantie",IF($C755=$AD$26,"Vakantie",""))))))))) | I755: =+I748+1 -> 2 | J755: =IF(AND(Formulier!$E$44<=C755,Formulier!$O$38>=C755),"Verlof",0) -> 0 | K755: =IF(J755=0,0,IF(F755="",0,1)) -> 0 | L755: =IF(J755=0,0,IF(G755="",0,1)) -> 0 | M755: =IF(J755=0,0,IF(H755="",0,1)) -> 0 | N755: =IF($N$1="Noord",K755,IF($N$1="Midden",L755,M755)) -> 0 | O755: =IF(OR(D755="za",D755="zo"),0,N755) -> 0
A756: =E756&B756&D756 -> 20172wo | B756: =+B749+1 -> 2 | C756: =+C755+1 -> 42746 | D756: =+D749 -> wo | E756: =YEAR(C756) -> 2017 | F756: =IF(AND($C756>=$AD$3,$C756<=$AE$3),"Vakantie",IF(AND($C756>=$AD$4,$C756<=$AE$4),"Vakantie",IF(AND($C756>=$AD$5,$C756<=$AE$5),"Vakantie",IF(AND($C756>=$AD$6,$C756<=$AE$6),"Vakantie",IF(AND($C756>=$AD$7,$C756<=$AE$7),"Vakantie",IF($C756=$AD$23,"Vakantie",IF($C756=$AD$24,"Vakantie",IF($C756=$AD$25,"Vakantie",IF($C756=$AD$26,"Vakantie",""))))))))) | G756: =IF(AND($C756>=$AD$8,$C756<=$AE$8),"Vakantie",IF(AND($C756>=$AD$9,$C756<=$AE$9),"Vakantie",IF(AND($C756>=$AD$10,$C756<=$AE$10),"Vakantie",IF(AND($C756>=$AD$11,$C756<=$AE$11),"Vakantie",IF(AND($C756>=$AD$12,$C756<=$AE$12),"Vakantie",IF($C756=$AD$23,"Vakantie",IF($C756=$AD$24,"Vakantie",IF($C756=$AD$25,"Vakantie",IF($C756=$AD$26,"Vakantie",""))))))))) | H756: =IF(AND($C756>=$AD$13,$C756<=$AE$13),"Vakantie",IF(AND($C756>=$AD$14,$C756<=$AE$14),"Vakantie",IF(AND($C756>=$AD$15,$C756<=$AE$15),"Vakantie",IF(AND($C756>=$AD$16,$C756<=$AE$16),"Vakantie",IF(AND($C756>=$AD$17,$C756<=$AE$17),"Vakantie",IF($C756=$AD$23,"Vakantie",IF($C756=$AD$24,"Vakantie",IF($C756=$AD$25,"Vakantie",IF($C756=$AD$26,"Vakantie",""))))))))) | I756: =+I749+1 -> 2 | J756: =IF(AND(Formulier!$E$44<=C756,Formulier!$O$38>=C756),"Verlof",0) -> 0 | K756: =IF(J756=0,0,IF(F756="",0,1)) -> 0 | L756: =IF(J756=0,0,IF(G756="",0,1)) -> 0 | M756: =IF(J756=0,0,IF(H756="",0,1)) -> 0 | N756: =IF($N$1="Noord",K756,IF($N$1="Midden",L756,M756)) -> 0 | O756: =IF(OR(D756="za",D756="zo"),0,N756) -> 0
A757: =E757&B757&D757 -> 20172do | B757: =+B750+1 -> 2 | C757: =+C756+1 -> 42747 | D757: =+D750 -> do | E757: =YEAR(C757) -> 2017 | F757: =IF(AND($C757>=$AD$3,$C757<=$AE$3),"Vakantie",IF(AND($C757>=$AD$4,$C757<=$AE$4),"Vakantie",IF(AND($C757>=$AD$5,$C757<=$AE$5),"Vakantie",IF(AND($C757>=$AD$6,$C757<=$AE$6),"Vakantie",IF(AND($C757>=$AD$7,$C757<=$AE$7),"Vakantie",IF($C757=$AD$23,"Vakantie",IF($C757=$AD$24,"Vakantie",IF($C757=$AD$25,"Vakantie",IF($C757=$AD$26,"Vakantie",""))))))))) | G757: =IF(AND($C757>=$AD$8,$C757<=$AE$8),"Vakantie",IF(AND($C757>=$AD$9,$C757<=$AE$9),"Vakantie",IF(AND($C757>=$AD$10,$C757<=$AE$10),"Vakantie",IF(AND($C757>=$AD$11,$C757<=$AE$11),"Vakantie",IF(AND($C757>=$AD$12,$C757<=$AE$12),"Vakantie",IF($C757=$AD$23,"Vakantie",IF($C757=$AD$24,"Vakantie",IF($C757=$AD$25,"Vakantie",IF($C757=$AD$26,"Vakantie",""))))))))) | H757: =IF(AND($C757>=$AD$13,$C757<=$AE$13),"Vakantie",IF(AND($C757>=$AD$14,$C757<=$AE$14),"Vakantie",IF(AND($C757>=$AD$15,$C757<=$AE$15),"Vakantie",IF(AND($C757>=$AD$16,$C757<=$AE$16),"Vakantie",IF(AND($C757>=$AD$17,$C757<=$AE$17),"Vakantie",IF($C757=$AD$23,"Vakantie",IF($C757=$AD$24,"Vakantie",IF($C757=$AD$25,"Vakantie",IF($C757=$AD$26,"Vakantie",""))))))))) | I757: =+I750+1 -> 2 | J757: =IF(AND(Formulier!$E$44<=C757,Formulier!$O$38>=C757),"Verlof",0) -> 0 | K757: =IF(J757=0,0,IF(F757="",0,1)) -> 0 | L757: =IF(J757=0,0,IF(G757="",0,1)) -> 0 | M757: =IF(J757=0,0,IF(H757="",0,1)) -> 0 | N757: =IF($N$1="Noord",K757,IF($N$1="Midden",L757,M757)) -> 0 | O757: =IF(OR(D757="za",D757="zo"),0,N757) -> 0
A758: =E758&B758&D758 -> 20172vr | B758: =+B751+1 -> 2 | C758: =+C757+1 -> 42748 | D758: =+D751 -> vr | E758: =YEAR(C758) -> 2017 | F758: =IF(AND($C758>=$AD$3,$C758<=$AE$3),"Vakantie",IF(AND($C758>=$AD$4,$C758<=$AE$4),"Vakantie",IF(AND($C758>=$AD$5,$C758<=$AE$5),"Vakantie",IF(AND($C758>=$AD$6,$C758<=$AE$6),"Vakantie",IF(AND($C758>=$AD$7,$C758<=$AE$7),"Vakantie",IF($C758=$AD$23,"Vakantie",IF($C758=$AD$24,"Vakantie",IF($C758=$AD$25,"Vakantie",IF($C758=$AD$26,"Vakantie",""))))))))) | G758: =IF(AND($C758>=$AD$8,$C758<=$AE$8),"Vakantie",IF(AND($C758>=$AD$9,$C758<=$AE$9),"Vakantie",IF(AND($C758>=$AD$10,$C758<=$AE$10),"Vakantie",IF(AND($C758>=$AD$11,$C758<=$AE$11),"Vakantie",IF(AND($C758>=$AD$12,$C758<=$AE$12),"Vakantie",IF($C758=$AD$23,"Vakantie",IF($C758=$AD$24,"Vakantie",IF($C758=$AD$25,"Vakantie",IF($C758=$AD$26,"Vakantie",""))))))))) | H758: =IF(AND($C758>=$AD$13,$C758<=$AE$13),"Vakantie",IF(AND($C758>=$AD$14,$C758<=$AE$14),"Vakantie",IF(AND($C758>=$AD$15,$C758<=$AE$15),"Vakantie",IF(AND($C758>=$AD$16,$C758<=$AE$16),"Vakantie",IF(AND($C758>=$AD$17,$C758<=$AE$17),"Vakantie",IF($C758=$AD$23,"Vakantie",IF($C758=$AD$24,"Vakantie",IF($C758=$AD$25,"Vakantie",IF($C758=$AD$26,"Vakantie",""))))))))) | I758: =+I751+1 -> 2 | J758: =IF(AND(Formulier!$E$44<=C758,Formulier!$O$38>=C758),"Verlof",0) -> 0 | K758: =IF(J758=0,0,IF(F758="",0,1)) -> 0 | L758: =IF(J758=0,0,IF(G758="",0,1)) -> 0 | M758: =IF(J758=0,0,IF(H758="",0,1)) -> 0 | N758: =IF($N$1="Noord",K758,IF($N$1="Midden",L758,M758)) -> 0 | O758: =IF(OR(D758="za",D758="zo"),0,N758) -> 0
...

Sheet Data
A1: Wknr | B1: Wknr | C1: Datum | D1: dag | E1: Jaar | F1: Vakantie Noord | G1: Vakantie Midden | H1: Vakantie Zuid | I1: Wknr | J1: Zwangerschapsverlof | K1: Vakantie Noord | L1: Vakantie Midden | M1: Vakantie Zuid | N1: =Formulier!G33 -> Noord | O1: dagen | P1: Vakantie tijdens vakantie-verlof?
A2: =E2&B2&D2 -> 20231ma | B2: 1 | C2: 44928 | D2: ma | E2: =YEAR(C2) -> 2023 | F2: Vakantie | G2: Vakantie | H2: Vakantie | I2: 1 | J2: =IF(AND(Formulier!$E$44<=C2,Formulier!$O$38>=C2),"Verlof",0) -> 0 | K2: =IF(J2=0,0,IF(F2="",0,1)) -> 0 | L2: =IF(J2=0,0,IF(G2="",0,1)) -> 0 | M2: =IF(J2=0,0,IF(H2="",0,1)) -> 0 | N2: =IF($N$1="Noord",K2,IF($N$1="Midden",L2,M2)) -> 0 | O2: =IF(OR(D2="za",D2="zo"),0,N2) -> 0
A3: =E3&B3&D3 -> 20231di | B3: 1 | C3: 44929 | D3: di | E3: =YEAR(C3) -> 2023 | F3: Vakantie | G3: Vakantie | H3: Vakantie | I3: 1 | J3: =IF(AND(Formulier!$E$44<=C3,Formulier!$O$38>=C3),"Verlof",0) -> 0 | K3: =IF(J3=0,0,IF(F3="",0,1)) -> 0 | L3: =IF(J3=0,0,IF(G3="",0,1)) -> 0 | M3: =IF(J3=0,0,IF(H3="",0,1)) -> 0 | N3: =IF($N$1="Noord",K3,IF($N$1="Midden",L3,M3)) -> 0 | O3: =IF(OR(D3="za",D3="zo"),0,N3) -> 0 | S3: Regio | T3: Noord | U3: Van | V3: Tot en met | X3: Regio | Y3: Midden | Z3: Van | AA3: Tot en met | AC3: Regio | AD3: Zuid | AE3: Van | AF3: Tot en met
A4: =E4&B4&D4 -> 20231wo | B4: 1 | C4: 44930 | D4: wo | E4: =YEAR(C4) -> 2023 | F4: Vakantie | G4: Vakantie | H4: Vakantie | I4: 1 | J4: =IF(AND(Formulier!$E$44<=C4,Formulier!$O$38>=C4),"Verlof",0) -> 0 | K4: =IF(J4=0,0,IF(F4="",0,1)) -> 0 | L4: =IF(J4=0,0,IF(G4="",0,1)) -> 0 | M4: =IF(J4=0,0,IF(H4="",0,1)) -> 0 | N4: =IF($N$1="Noord",K4,IF($N$1="Midden",L4,M4)) -> 0 | O4: =IF(OR(D4="za",D4="zo"),0,N4) -> 0 | S4: 2025 | T4: Zomervakantie | U4: 45850 | V4: 45893 | X4: 2025 | Y4: Zomervakantie | Z4: 45857 | AA4: 45900 | AC4: 2025 | AD4: Zomervakantie | AE4: 45845 | AF4: 45886
A5: =E5&B5&D5 -> 20231do | B5: 1 | C5: 44931 | D5: do | E5: =YEAR(C5) -> 2023 | F5: Vakantie | G5: Vakantie | H5: Vakantie | I5: 1 | J5: =IF(AND(Formulier!$E$44<=C5,Formulier!$O$38>=C5),"Verlof",0) -> 0 | K5: =IF(J5=0,0,IF(F5="",0,1)) -> 0 | L5: =IF(J5=0,0,IF(G5="",0,1)) -> 0 | M5: =IF(J5=0,0,IF(H5="",0,1)) -> 0 | N5: =IF($N$1="Noord",K5,IF($N$1="Midden",L5,M5)) -> 0 | O5: =IF(OR(D5="za",D5="zo"),0,N5) -> 0 | T5: Voorjaarsvakantie | U5: 45703 | V5: 45711 | Y5: Voorjaarsvakantie | Z5: 45710 | AA5: 45718 | AD5: Voorjaarsvakantie | AE5: 45710 | AF5: 45718
A6: =E6&B6&D6 -> 20231vr | B6: 1 | C6: 44932 | D6: vr | E6: =YEAR(C6) -> 2023 | F6: Vakantie | G6: Vakantie | H6: Vakantie | I6: 1 | J6: =IF(AND(Formulier!$E$44<=C6,Formulier!$O$38>=C6),"Verlof",0) -> 0 | K6: =IF(J6=0,0,IF(F6="",0,1)) -> 0 | L6: =IF(J6=0,0,IF(G6="",0,1)) -> 0 | M6: =IF(J6=0,0,IF(H6="",0,1)) -> 0 | N6: =IF($N$1="Noord",K6,IF($N$1="Midden",L6,M6)) -> 0 | O6: =IF(OR(D6="za",D6="zo"),0,N6) -> 0 | T6: Meivakantie | U6: 45773 | V6: 45781 | Y6: Meivakantie | Z6: 45773 | AA6: 45781 | AD6: Meivakantie | AE6: 45773 | AF6: 45781
A7: =E7&B7&D7 -> 20231za | B7: 1 | C7: 44933 | D7: za | E7: =YEAR(C7) -> 2023 | F7: Vakantie | G7: Vakantie | H7: Vakantie | I7: 1 | J7: =IF(AND(Formulier!$E$44<=C7,Formulier!$O$38>=C7),"Verlof",0) -> 0 | K7: =IF(J7=0,0,IF(F7="",0,1)) -> 0 | L7: =IF(J7=0,0,IF(G7="",0,1)) -> 0 | M7: =IF(J7=0,0,IF(H7="",0,1)) -> 0 | N7: =IF($N$1="Noord",K7,IF($N$1="Midden",L7,M7)) -> 0 | O7: =IF(OR(D7="za",D7="zo"),0,N7) -> 0 | T7: Herfstvakantie | U7: 45948 | V7: 45956 | Y7: Herfstvakantie | Z7: 45948 | AA7: 45956 | AD7: Herfstvakantie | AE7: 45943 | AF7: 45949
A8: =E8&B8&D8 -> 20231zo | B8: 1 | C8: 44934 | D8: zo | E8: =YEAR(C8) -> 2023 | F8: Vakantie | G8: Vakantie | H8: Vakantie | I8: 1 | J8: =IF(AND(Formulier!$E$44<=C8,Formulier!$O$38>=C8),"Verlof",0) -> 0 | K8: =IF(J8=0,0,IF(F8="",0,1)) -> 0 | L8: =IF(J8=0,0,IF(G8="",0,1)) -> 0 | M8: =IF(J8=0,0,IF(H8="",0,1)) -> 0 | N8: =IF($N$1="Noord",K8,IF($N$1="Midden",L8,M8)) -> 0 | O8: =IF(OR(D8="za",D8="zo"),0,N8) -> 0 | T8: Kerstvakantie | U8: 46011 | V8: 46026 | Y8: Kerstvakantie | Z8: 46011 | AA8: 46026 | AD8: Kerstvakantie | AE8: 46011 | AF8: 46026
A9: =E9&B9&D9 -> 20232ma | B9: =B2+1 -> 2 | C9: =C8+1 -> 44935 | D9: =+D2 -> ma | E9: =YEAR(C9) -> 2023 | I9: =+I2+1 -> 2 | J9: =IF(AND(Formulier!$E$44<=C9,Formulier!$O$38>=C9),"Verlof",0) -> 0 | K9: =IF(J9=0,0,IF(F9="",0,1)) -> 0 | L9: =IF(J9=0,0,IF(G9="",0,1)) -> 0 | M9: =IF(J9=0,0,IF(H9="",0,1)) -> 0 | N9: =IF($N$1="Noord",K9,IF($N$1="Midden",L9,M9)) -> 0 | O9: =IF(OR(D9="za",D9="zo"),0,N9) -> 0 | T9: Goede vrijdag | U9: 45765 | V9: 45765 | Y9: Goede vrijdag | Z9: 45765 | AA9: 45765 | AD9: Goede vrijdag | AE9: 45765 | AF9: 45765
A10: =E10&B10&D10 -> 20232di | B10: =B3+1 -> 2 | C10: =C9+1 -> 44936 | D10: =+D3 -> di | E10: =YEAR(C10) -> 2023 | I10: =+I3+1 -> 2 | J10: =IF(AND(Formulier!$E$44<=C10,Formulier!$O$38>=C10),"Verlof",0) -> 0 | K10: =IF(J10=0,0,IF(F10="",0,1)) -> 0 | L10: =IF(J10=0,0,IF(G10="",0,1)) -> 0 | M10: =IF(J10=0,0,IF(H10="",0,1)) -> 0 | N10: =IF($N$1="Noord",K10,IF($N$1="Midden",L10,M10)) -> 0 | O10: =IF(OR(D10="za",D10="zo"),0,N10) -> 0 | T10: 2e Paasdag | U10: 45768 | V10: 45768 | Y10: 2e Paasdag | Z10: 45768 | AA10: 45768 | AD10: 2e Paasdag | AE10: 45768 | AF10: 45768
A11: =E11&B11&D11 -> 20232wo | B11: =B4+1 -> 2 | C11: =C10+1 -> 44937 | D11: =+D4 -> wo | E11: =YEAR(C11) -> 2023 | I11: =+I4+1 -> 2 | J11: =IF(AND(Formulier!$E$44<=C11,Formulier!$O$38>=C11),"Verlof",0) -> 0 | K11: =IF(J11=0,0,IF(F11="",0,1)) -> 0 | L11: =IF(J11=0,0,IF(G11="",0,1)) -> 0 | M11: =IF(J11=0,0,IF(H11="",0,1)) -> 0 | N11: =IF($N$1="Noord",K11,IF($N$1="Midden",L11,M11)) -> 0 | O11: =IF(OR(D11="za",D11="zo"),0,N11) -> 0 | T11: Koningsdag | U11: 45773 | V11: 45773 | Y11: Koningsdag | Z11: 45773 | AA11: 45773 | AD11: Koningsdag | AE11: 45773 | AF11: 45773
A12: =E12&B12&D12 -> 20232do | B12: =B5+1 -> 2 | C12: =C11+1 -> 44938 | D12: =+D5 -> do | E12: =YEAR(C12) -> 2023 | I12: =+I5+1 -> 2 | J12: =IF(AND(Formulier!$E$44<=C12,Formulier!$O$38>=C12),"Verlof",0) -> 0 | K12: =IF(J12=0,0,IF(F12="",0,1)) -> 0 | L12: =IF(J12=0,0,IF(G12="",0,1)) -> 0 | M12: =IF(J12=0,0,IF(H12="",0,1)) -> 0 | N12: =IF($N$1="Noord",K12,IF($N$1="Midden",L12,M12)) -> 0 | O12: =IF(OR(D12="za",D12="zo"),0,N12) -> 0 | T12: Bevrijdingsdag | U12: 45782 | V12: 45782 | Y12: Bevrijdingsdag | Z12: 45782 | AA12: 45782 | AD12: Bevrijdingsdag | AE12: 45782 | AF12: 45782
A13: =E13&B13&D13 -> 20232vr | B13: =B6+1 -> 2 | C13: =C12+1 -> 44939 | D13: =+D6 -> vr | E13: =YEAR(C13) -> 2023 | I13: =+I6+1 -> 2 | J13: =IF(AND(Formulier!$E$44<=C13,Formulier!$O$38>=C13),"Verlof",0) -> 0 | K13: =IF(J13=0,0,IF(F13="",0,1)) -> 0 | L13: =IF(J13=0,0,IF(G13="",0,1)) -> 0 | M13: =IF(J13=0,0,IF(H13="",0,1)) -> 0 | N13: =IF($N$1="Noord",K13,IF($N$1="Midden",L13,M13)) -> 0 | O13: =IF(OR(D13="za",D13="zo"),0,N13) -> 0 | T13: Hemelvaartsdag | U13: 45806 | V13: 45806 | Y13: Hemelvaartsdag | Z13: 45806 | AA13: 45806 | AD13: Hemelvaartsdag | AE13: 45806 | AF13: 45806
A14: =E14&B14&D14 -> 20232za | B14: =B7+1 -> 2 | C14: =C13+1 -> 44940 | D14: =+D7 -> za | E14: =YEAR(C14) -> 2023 | I14: =+I7+1 -> 2 | J14: =IF(AND(Formulier!$E$44<=C14,Formulier!$O$38>=C14),"Verlof",0) -> 0 | K14: =IF(J14=0,0,IF(F14="",0,1)) -> 0 | L14: =IF(J14=0,0,IF(G14="",0,1)) -> 0 | M14: =IF(J14=0,0,IF(H14="",0,1)) -> 0 | N14: =IF($N$1="Noord",K14,IF($N$1="Midden",L14,M14)) -> 0 | O14: =IF(OR(D14="za",D14="zo"),0,N14) -> 0 | T14: 2e Pinksterdag | U14: 45817 | V14: 45817 | Y14: 2e Pinksterdag | Z14: 45817 | AA14: 45817 | AD14: 2e Pinksterdag | AE14: 45817 | AF14: 45817
A15: =E15&B15&D15 -> 20232zo | B15: =B8+1 -> 2 | C15: =C14+1 -> 44941 | D15: =+D8 -> zo | E15: =YEAR(C15) -> 2023 | I15: =+I8+1 -> 2 | J15: =IF(AND(Formulier!$E$44<=C15,Formulier!$O$38>=C15),"Verlof",0) -> 0 | K15: =IF(J15=0,0,IF(F15="",0,1)) -> 0 | L15: =IF(J15=0,0,IF(G15="",0,1)) -> 0 | M15: =IF(J15=0,0,IF(H15="",0,1)) -> 0 | N15: =IF($N$1="Noord",K15,IF($N$1="Midden",L15,M15)) -> 0 | O15: =IF(OR(D15="za",D15="zo"),0,N15) -> 0 | T15: Extra vrij 1 | U15: =+Kalender!$C$75 -> 0 | V15: =+Kalender!$D$75 -> 0 | Y15: Extra vrij 1 | Z15: =+Kalender!$C$75 -> 0 | AA15: =+Kalender!$D$75 -> 0 | AD15: Extra vrij 1 | AE15: =+Kalender!$C$75 -> 0 | AF15: =+Kalender!$D$75 -> 0
A16: =E16&B16&D16 -> 20233ma | B16: =B9+1 -> 3 | C16: =C15+1 -> 44942 | D16: =+D9 -> ma | E16: =YEAR(C16) -> 2023 | I16: =+I9+1 -> 3 | J16: =IF(AND(Formulier!$E$44<=C16,Formulier!$O$38>=C16),"Verlof",0) -> 0 | K16: =IF(J16=0,0,IF(F16="",0,1)) -> 0 | L16: =IF(J16=0,0,IF(G16="",0,1)) -> 0 | M16: =IF(J16=0,0,IF(H16="",0,1)) -> 0 | N16: =IF($N$1="Noord",K16,IF($N$1="Midden",L16,M16)) -> 0 | O16: =IF(OR(D16="za",D16="zo"),0,N16) -> 0 | T16: Extra vrij 2 | U16: =+Kalender!$C$76 -> 0 | V16: =+Kalender!$D$76 -> 0 | Y16: Extra vrij 2 | Z16: =+Kalender!$C$76 -> 0 | AA16: =+Kalender!$D$76 -> 0 | AD16: Extra vrij 2 | AE16: =+Kalender!$C$76 -> 0 | AF16: =+Kalender!$D$76 -> 0
A17: =E17&B17&D17 -> 20233di | B17: =B10+1 -> 3 | C17: =C16+1 -> 44943 | D17: =+D10 -> di | E17: =YEAR(C17) -> 2023 | I17: =+I10+1 -> 3 | J17: =IF(AND(Formulier!$E$44<=C17,Formulier!$O$38>=C17),"Verlof",0) -> 0 | K17: =IF(J17=0,0,IF(F17="",0,1)) -> 0 | L17: =IF(J17=0,0,IF(G17="",0,1)) -> 0 | M17: =IF(J17=0,0,IF(H17="",0,1)) -> 0 | N17: =IF($N$1="Noord",K17,IF($N$1="Midden",L17,M17)) -> 0 | O17: =IF(OR(D17="za",D17="zo"),0,N17) -> 0 | T17: Extra vrij 3 | U17: =+Kalender!$C$77 -> 0 | V17: =+Kalender!$D$77 -> 0 | Y17: Extra vrij 3 | Z17: =+Kalender!$C$77 -> 0 | AA17: =+Kalender!$D$77 -> 0 | AD17: Extra vrij 3 | AE17: =+Kalender!$C$77 -> 0 | AF17: =+Kalender!$D$77 -> 0
A18: =E18&B18&D18 -> 20233wo | B18: =B11+1 -> 3 | C18: =C17+1 -> 44944 | D18: =+D11 -> wo | E18: =YEAR(C18) -> 2023 | I18: =+I11+1 -> 3 | J18: =IF(AND(Formulier!$E$44<=C18,Formulier!$O$38>=C18),"Verlof",0) -> 0 | K18: =IF(J18=0,0,IF(F18="",0,1)) -> 0 | L18: =IF(J18=0,0,IF(G18="",0,1)) -> 0 | M18: =IF(J18=0,0,IF(H18="",0,1)) -> 0 | N18: =IF($N$1="Noord",K18,IF($N$1="Midden",L18,M18)) -> 0 | O18: =IF(OR(D18="za",D18="zo"),0,N18) -> 0 | S18: 2026 | T18: Zomervakantie | U18: 46209 | V18: 46250 | X18: 2026 | Y18: Zomervakantie | Z18: 46223 | AA18: 46264 | AC18: 2026 | AD18: Zomervakantie | AE18: 46216 | AF18: 46257
A19: =E19&B19&D19 -> 20233do | B19: =B12+1 -> 3 | C19: =C18+1 -> 44945 | D19: =+D12 -> do | E19: =YEAR(C19) -> 2023 | I19: =+I12+1 -> 3 | J19: =IF(AND(Formulier!$E$44<=C19,Formulier!$O$38>=C19),"Verlof",0) -> 0 | K19: =IF(J19=0,0,IF(F19="",0,1)) -> 0 | L19: =IF(J19=0,0,IF(G19="",0,1)) -> 0 | M19: =IF(J19=0,0,IF(H19="",0,1)) -> 0 | N19: =IF($N$1="Noord",K19,IF($N$1="Midden",L19,M19)) -> 0 | O19: =IF(OR(D19="za",D19="zo"),0,N19) -> 0 | T19: Voorjaarsvakantie | U19: 46076 | V19: 46082 | Y19: Voorjaarsvakantie | Z19: 46069 | AA19: 46075 | AD19: Voorjaarsvakantie | AE19: 46069 | AF19: 46075
A20: =E20&B20&D20 -> 20233vr | B20: =B13+1 -> 3 | C20: =C19+1 -> 44946 | D20: =+D13 -> vr | E20: =YEAR(C20) -> 2023 | I20: =+I13+1 -> 3 | J20: =IF(AND(Formulier!$E$44<=C20,Formulier!$O$38>=C20),"Verlof",0) -> 0 | K20: =IF(J20=0,0,IF(F20="",0,1)) -> 0 | L20: =IF(J20=0,0,IF(G20="",0,1)) -> 0 | M20: =IF(J20=0,0,IF(H20="",0,1)) -> 0 | N20: =IF($N$1="Noord",K20,IF($N$1="Midden",L20,M20)) -> 0 | O20: =IF(OR(D20="za",D20="zo"),0,N20) -> 0 | T20: Meivakantie | U20: 46139 | V20: 46145 | Y20: Meivakantie | Z20: 46139 | AA20: 46145 | AD20: Meivakantie | AE20: 46139 | AF20: 46145
A21: =E21&B21&D21 -> 20233za | B21: =B14+1 -> 3 | C21: =C20+1 -> 44947 | D21: =+D14 -> za | E21: =YEAR(C21) -> 2023 | I21: =+I14+1 -> 3 | J21: =IF(AND(Formulier!$E$44<=C21,Formulier!$O$38>=C21),"Verlof",0) -> 0 | K21: =IF(J21=0,0,IF(F21="",0,1)) -> 0 | L21: =IF(J21=0,0,IF(G21="",0,1)) -> 0 | M21: =IF(J21=0,0,IF(H21="",0,1)) -> 0 | N21: =IF($N$1="Noord",K21,IF($N$1="Midden",L21,M21)) -> 0 | O21: =IF(OR(D21="za",D21="zo"),0,N21) -> 0 | T21: Herfstvakantie | U21: 46307 | V21: 46313 | Y21: Herfstvakantie | Z21: 46314 | AA21: 46320 | AD21: Herfstvakantie | AE21: 46314 | AF21: 46320
A22: =E22&B22&D22 -> 20233zo | B22: =B15+1 -> 3 | C22: =C21+1 -> 44948 | D22: =+D15 -> zo | E22: =YEAR(C22) -> 2023 | I22: =+I15+1 -> 3 | J22: =IF(AND(Formulier!$E$44<=C22,Formulier!$O$38>=C22),"Verlof",0) -> 0 | K22: =IF(J22=0,0,IF(F22="",0,1)) -> 0 | L22: =IF(J22=0,0,IF(G22="",0,1)) -> 0 | M22: =IF(J22=0,0,IF(H22="",0,1)) -> 0 | N22: =IF($N$1="Noord",K22,IF($N$1="Midden",L22,M22)) -> 0 | O22: =IF(OR(D22="za",D22="zo"),0,N22) -> 0 | T22: Kerstvakantie | U22: 46377 | V22: 46390 | Y22: Kerstvakantie | Z22: 46377 | AA22: 46390 | AD22: Kerstvakantie | AE22: 46377 | AF22: 46390
A23: =E23&B23&D23 -> 20234ma | B23: =B16+1 -> 4 | C23: =C22+1 -> 44949 | D23: =+D16 -> ma | E23: =YEAR(C23) -> 2023 | I23: =+I16+1 -> 4 | J23: =IF(AND(Formulier!$E$44<=C23,Formulier!$O$38>=C23),"Verlof",0) -> 0 | K23: =IF(J23=0,0,IF(F23="",0,1)) -> 0 | L23: =IF(J23=0,0,IF(G23="",0,1)) -> 0 | M23: =IF(J23=0,0,IF(H23="",0,1)) -> 0 | N23: =IF($N$1="Noord",K23,IF($N$1="Midden",L23,M23)) -> 0 | O23: =IF(OR(D23="za",D23="zo"),0,N23) -> 0 | T23: Goede vrijdag | U23: 46115 | V23: 46115 | Y23: Goede vrijdag | Z23: 46115 | AA23: 46115 | AD23: Goede vrijdag | AE23: 46115 | AF23: 46115
A24: =E24&B24&D24 -> 20234di | B24: =B17+1 -> 4 | C24: =C23+1 -> 44950 | D24: =+D17 -> di | E24: =YEAR(C24) -> 2023 | I24: =+I17+1 -> 4 | J24: =IF(AND(Formulier!$E$44<=C24,Formulier!$O$38>=C24),"Verlof",0) -> 0 | K24: =IF(J24=0,0,IF(F24="",0,1)) -> 0 | L24: =IF(J24=0,0,IF(G24="",0,1)) -> 0 | M24: =IF(J24=0,0,IF(H24="",0,1)) -> 0 | N24: =IF($N$1="Noord",K24,IF($N$1="Midden",L24,M24)) -> 0 | O24: =IF(OR(D24="za",D24="zo"),0,N24) -> 0 | T24: 2e Paasdag | U24: 46118 | V24: 46118 | Y24: 2e Paasdag | Z24: 46118 | AA24: 46118 | AD24: 2e Paasdag | AE24: 46118 | AF24: 46118
A25: =E25&B25&D25 -> 20234wo | B25: =B18+1 -> 4 | C25: =C24+1 -> 44951 | D25: =+D18 -> wo | E25: =YEAR(C25) -> 2023 | I25: =+I18+1 -> 4 | J25: =IF(AND(Formulier!$E$44<=C25,Formulier!$O$38>=C25),"Verlof",0) -> 0 | K25: =IF(J25=0,0,IF(F25="",0,1)) -> 0 | L25: =IF(J25=0,0,IF(G25="",0,1)) -> 0 | M25: =IF(J25=0,0,IF(H25="",0,1)) -> 0 | N25: =IF($N$1="Noord",K25,IF($N$1="Midden",L25,M25)) -> 0 | O25: =IF(OR(D25="za",D25="zo"),0,N25) -> 0 | T25: Koningsdag | U25: 46139 | V25: 46139 | Y25: Koningsdag | Z25: 46139 | AA25: 46139 | AD25: Koningsdag | AE25: 46139 | AF25: 46139
A26: =E26&B26&D26 -> 20234do | B26: =B19+1 -> 4 | C26: =C25+1 -> 44952 | D26: =+D19 -> do | E26: =YEAR(C26) -> 2023 | I26: =+I19+1 -> 4 | J26: =IF(AND(Formulier!$E$44<=C26,Formulier!$O$38>=C26),"Verlof",0) -> 0 | K26: =IF(J26=0,0,IF(F26="",0,1)) -> 0 | L26: =IF(J26=0,0,IF(G26="",0,1)) -> 0 | M26: =IF(J26=0,0,IF(H26="",0,1)) -> 0 | N26: =IF($N$1="Noord",K26,IF($N$1="Midden",L26,M26)) -> 0 | O26: =IF(OR(D26="za",D26="zo"),0,N26) -> 0 | T26: Bevrijdingsdag | U26: 46147 | V26: 46147 | Y26: Bevrijdingsdag | Z26: 46147 | AA26: 46147 | AD26: Bevrijdingsdag | AE26: 46147 | AF26: 46147
A27: =E27&B27&D27 -> 20234vr | B27: =B20+1 -> 4 | C27: =C26+1 -> 44953 | D27: =+D20 -> vr | E27: =YEAR(C27) -> 2023 | I27: =+I20+1 -> 4 | J27: =IF(AND(Formulier!$E$44<=C27,Formulier!$O$38>=C27),"Verlof",0) -> 0 | K27: =IF(J27=0,0,IF(F27="",0,1)) -> 0 | L27: =IF(J27=0,0,IF(G27="",0,1)) -> 0 | M27: =IF(J27=0,0,IF(H27="",0,1)) -> 0 | N27: =IF($N$1="Noord",K27,IF($N$1="Midden",L27,M27)) -> 0 | O27: =IF(OR(D27="za",D27="zo"),0,N27) -> 0 | T27: Hemelvaartsdag | U27: 46156 | V27: 46156 | Y27: Hemelvaartsdag | Z27: 46156 | AA27: 46156 | AD27: Hemelvaartsdag | AE27: 46156 | AF27: 46156
A28: =E28&B28&D28 -> 20234za | B28: =B21+1 -> 4 | C28: =C27+1 -> 44954 | D28: =+D21 -> za | E28: =YEAR(C28) -> 2023 | I28: =+I21+1 -> 4 | J28: =IF(AND(Formulier!$E$44<=C28,Formulier!$O$38>=C28),"Verlof",0) -> 0 | K28: =IF(J28=0,0,IF(F28="",0,1)) -> 0 | L28: =IF(J28=0,0,IF(G28="",0,1)) -> 0 | M28: =IF(J28=0,0,IF(H28="",0,1)) -> 0 | N28: =IF($N$1="Noord",K28,IF($N$1="Midden",L28,M28)) -> 0 | O28: =IF(OR(D28="za",D28="zo"),0,N28) -> 0 | T28: 2e Pinksterdag | U28: 46167 | V28: 46167 | Y28: 2e Pinksterdag | Z28: 46167 | AA28: 46167 | AD28: 2e Pinksterdag | AE28: 46167 | AF28: 46167
A29: =E29&B29&D29 -> 20234zo | B29: =B22+1 -> 4 | C29: =C28+1 -> 44955 | D29: =+D22 -> zo | E29: =YEAR(C29) -> 2023 | I29: =+I22+1 -> 4 | J29: =IF(AND(Formulier!$E$44<=C29,Formulier!$O$38>=C29),"Verlof",0) -> 0 | K29: =IF(J29=0,0,IF(F29="",0,1)) -> 0 | L29: =IF(J29=0,0,IF(G29="",0,1)) -> 0 | M29: =IF(J29=0,0,IF(H29="",0,1)) -> 0 | N29: =IF($N$1="Noord",K29,IF($N$1="Midden",L29,M29)) -> 0 | O29: =IF(OR(D29="za",D29="zo"),0,N29) -> 0 | T29: Extra vrij 1 | U29: =+Kalender!$M$75 -> 0 | V29: =+Kalender!$N$75 -> 0 | Y29: Extra vrij 1 | Z29: =+Kalender!$M$75 -> 0 | AA29: =+Kalender!$N$75 -> 0 | AD29: Extra vrij 1 | AE29: =+Kalender!$M$75 -> 0 | AF29: =+Kalender!$N$75 -> 0
A30: =E30&B30&D30 -> 20235ma | B30: =B23+1 -> 5 | C30: =C29+1 -> 44956 | D30: =+D23 -> ma | E30: =YEAR(C30) -> 2023 | I30: =+I23+1 -> 5 | J30: =IF(AND(Formulier!$E$44<=C30,Formulier!$O$38>=C30),"Verlof",0) -> 0 | K30: =IF(J30=0,0,IF(F30="",0,1)) -> 0 | L30: =IF(J30=0,0,IF(G30="",0,1)) -> 0 | M30: =IF(J30=0,0,IF(H30="",0,1)) -> 0 | N30: =IF($N$1="Noord",K30,IF($N$1="Midden",L30,M30)) -> 0 | O30: =IF(OR(D30="za",D30="zo"),0,N30) -> 0 | T30: Extra vrij 2 | U30: =+Kalender!$M$76 -> 0 | V30: =+Kalender!$N$76 -> 0 | Y30: Extra vrij 2 | Z30: =+Kalender!$M$76 -> 0 | AA30: =+Kalender!$N$76 -> 0 | AD30: Extra vrij 2 | AE30: =+Kalender!$M$76 -> 0 | AF30: =+Kalender!$N$76 -> 0
A31: =E31&B31&D31 -> 20235di | B31: =B24+1 -> 5 | C31: =C30+1 -> 44957 | D31: =+D24 -> di | E31: =YEAR(C31) -> 2023 | I31: =+I24+1 -> 5 | J31: =IF(AND(Formulier!$E$44<=C31,Formulier!$O$38>=C31),"Verlof",0) -> 0 | K31: =IF(J31=0,0,IF(F31="",0,1)) -> 0 | L31: =IF(J31=0,0,IF(G31="",0,1)) -> 0 | M31: =IF(J31=0,0,IF(H31="",0,1)) -> 0 | N31: =IF($N$1="Noord",K31,IF($N$1="Midden",L31,M31)) -> 0 | O31: =IF(OR(D31="za",D31="zo"),0,N31) -> 0 | T31: Extra vrij 3 | U31: =+Kalender!$M$77 -> 0 | V31: =+Kalender!$N$77 -> 0 | Y31: Extra vrij 3 | Z31: =+Kalender!$M$77 -> 0 | AA31: =+Kalender!$N$77 -> 0 | AD31: Extra vrij 3 | AE31: =+Kalender!$M$77 -> 0 | AF31: =+Kalender!$N$77 -> 0
A32: =E32&B32&D32 -> 20235wo | B32: =B25+1 -> 5 | C32: =C31+1 -> 44958 | D32: =+D25 -> wo | E32: =YEAR(C32) -> 2023 | I32: =+I25+1 -> 5 | J32: =IF(AND(Formulier!$E$44<=C32,Formulier!$O$38>=C32),"Verlof",0) -> 0 | K32: =IF(J32=0,0,IF(F32="",0,1)) -> 0 | L32: =IF(J32=0,0,IF(G32="",0,1)) -> 0 | M32: =IF(J32=0,0,IF(H32="",0,1)) -> 0 | N32: =IF($N$1="Noord",K32,IF($N$1="Midden",L32,M32)) -> 0 | O32: =IF(OR(D32="za",D32="zo"),0,N32) -> 0 | S32: 2027 | T32: Zomervakantie | U32: 46580 | V32: 46621 | X32: 2027 | Y32: Zomervakantie | Z32: 46587 | AA32: 46628 | AC32: 2027 | AD32: Zomervakantie | AE32: 46594 | AF32: 46635
A33: =E33&B33&D33 -> 20235do | B33: =B26+1 -> 5 | C33: =C32+1 -> 44959 | D33: =+D26 -> do | E33: =YEAR(C33) -> 2023 | I33: =+I26+1 -> 5 | J33: =IF(AND(Formulier!$E$44<=C33,Formulier!$O$38>=C33),"Verlof",0) -> 0 | K33: =IF(J33=0,0,IF(F33="",0,1)) -> 0 | L33: =IF(J33=0,0,IF(G33="",0,1)) -> 0 | M33: =IF(J33=0,0,IF(H33="",0,1)) -> 0 | N33: =IF($N$1="Noord",K33,IF($N$1="Midden",L33,M33)) -> 0 | O33: =IF(OR(D33="za",D33="zo"),0,N33) -> 0 | T33: Voorjaarsvakantie | U33: 46440 | V33: 46446 | Y33: Voorjaarsvakantie | Z33: 46440 | AA33: 46446 | AD33: Voorjaarsvakantie | AE33: 46433 | AF33: 46439
A34: =E34&B34&D34 -> 20235vr | B34: =B27+1 -> 5 | C34: =C33+1 -> 44960 | D34: =+D27 -> vr | E34: =YEAR(C34) -> 2023 | I34: =+I27+1 -> 5 | J34: =IF(AND(Formulier!$E$44<=C34,Formulier!$O$38>=C34),"Verlof",0) -> 0 | K34: =IF(J34=0,0,IF(F34="",0,1)) -> 0 | L34: =IF(J34=0,0,IF(G34="",0,1)) -> 0 | M34: =IF(J34=0,0,IF(H34="",0,1)) -> 0 | N34: =IF($N$1="Noord",K34,IF($N$1="Midden",L34,M34)) -> 0 | O34: =IF(OR(D34="za",D34="zo"),0,N34) -> 0 | T34: Meivakantie | U34: 46503 | V34: 46509 | Y34: Meivakantie | Z34: 46503 | AA34: 46509 | AD34: Meivakantie | AE34: 46503 | AF34: 46509
A35: =E35&B35&D35 -> 20235za | B35: =B28+1 -> 5 | C35: =C34+1 -> 44961 | D35: =+D28 -> za | E35: =YEAR(C35) -> 2023 | I35: =+I28+1 -> 5 | J35: =IF(AND(Formulier!$E$44<=C35,Formulier!$O$38>=C35),"Verlof",0) -> 0 | K35: =IF(J35=0,0,IF(F35="",0,1)) -> 0 | L35: =IF(J35=0,0,IF(G35="",0,1)) -> 0 | M35: =IF(J35=0,0,IF(H35="",0,1)) -> 0 | N35: =IF($N$1="Noord",K35,IF($N$1="Midden",L35,M35)) -> 0 | O35: =IF(OR(D35="za",D35="zo"),0,N35) -> 0 | T35: Herfstvakantie | U35: 46678 | V35: 46684 | Y35: Herfstvakantie | Z35: 46678 | AA35: 46684 | AD35: Herfstvakantie | AE35: 46685 | AF35: 46691
A36: =E36&B36&D36 -> 20235zo | B36: =B29+1 -> 5 | C36: =C35+1 -> 44962 | D36: =+D29 -> zo | E36: =YEAR(C36) -> 2023 | I36: =+I29+1 -> 5 | J36: =IF(AND(Formulier!$E$44<=C36,Formulier!$O$38>=C36),"Verlof",0) -> 0 | K36: =IF(J36=0,0,IF(F36="",0,1)) -> 0 | L36: =IF(J36=0,0,IF(G36="",0,1)) -> 0 | M36: =IF(J36=0,0,IF(H36="",0,1)) -> 0 | N36: =IF($N$1="Noord",K36,IF($N$1="Midden",L36,M36)) -> 0 | O36: =IF(OR(D36="za",D36="zo"),0,N36) -> 0 | T36: Kerstvakantie | U36: 46748 | V36: 46761 | Y36: Kerstvakantie | Z36: 46748 | AA36: 46761 | AD36: Kerstvakantie | AE36: 46748 | AF36: 46761
A37: =E37&B37&D37 -> 20236ma | B37: =B30+1 -> 6 | C37: =C36+1 -> 44963 | D37: =+D30 -> ma | E37: =YEAR(C37) -> 2023 | I37: =+I30+1 -> 6 | J37: =IF(AND(Formulier!$E$44<=C37,Formulier!$O$38>=C37),"Verlof",0) -> 0 | K37: =IF(J37=0,0,IF(F37="",0,1)) -> 0 | L37: =IF(J37=0,0,IF(G37="",0,1)) -> 0 | M37: =IF(J37=0,0,IF(H37="",0,1)) -> 0 | N37: =IF($N$1="Noord",K37,IF($N$1="Midden",L37,M37)) -> 0 | O37: =IF(OR(D37="za",D37="zo"),0,N37) -> 0 | T37: Goede vrijdag | U37: 46472 | V37: 46472 | Y37: Goede vrijdag | Z37: 46472 | AA37: 46472 | AD37: Goede vrijdag | AE37: 46472 | AF37: 46472
A38: =E38&B38&D38 -> 20236di | B38: =B31+1 -> 6 | C38: =C37+1 -> 44964 | D38: =+D31 -> di | E38: =YEAR(C38) -> 2023 | I38: =+I31+1 -> 6 | J38: =IF(AND(Formulier!$E$44<=C38,Formulier!$O$38>=C38),"Verlof",0) -> 0 | K38: =IF(J38=0,0,IF(F38="",0,1)) -> 0 | L38: =IF(J38=0,0,IF(G38="",0,1)) -> 0 | M38: =IF(J38=0,0,IF(H38="",0,1)) -> 0 | N38: =IF($N$1="Noord",K38,IF($N$1="Midden",L38,M38)) -> 0 | O38: =IF(OR(D38="za",D38="zo"),0,N38) -> 0 | T38: 2e Paasdag | U38: 46475 | V38: 46475 | Y38: 2e Paasdag | Z38: 46475 | AA38: 46475 | AD38: 2e Paasdag | AE38: 46475 | AF38: 46475
A39: =E39&B39&D39 -> 20236wo | B39: =B32+1 -> 6 | C39: =C38+1 -> 44965 | D39: =+D32 -> wo | E39: =YEAR(C39) -> 2023 | I39: =+I32+1 -> 6 | J39: =IF(AND(Formulier!$E$44<=C39,Formulier!$O$38>=C39),"Verlof",0) -> 0 | K39: =IF(J39=0,0,IF(F39="",0,1)) -> 0 | L39: =IF(J39=0,0,IF(G39="",0,1)) -> 0 | M39: =IF(J39=0,0,IF(H39="",0,1)) -> 0 | N39: =IF($N$1="Noord",K39,IF($N$1="Midden",L39,M39)) -> 0 | O39: =IF(OR(D39="za",D39="zo"),0,N39) -> 0 | T39: Koningsdag | U39: 46504 | V39: 46504 | Y39: Koningsdag | Z39: 46504 | AA39: 46504 | AD39: Koningsdag | AE39: 46504 | AF39: 46504
A40: =E40&B40&D40 -> 20236do | B40: =B33+1 -> 6 | C40: =C39+1 -> 44966 | D40: =+D33 -> do | E40: =YEAR(C40) -> 2023 | I40: =+I33+1 -> 6 | J40: =IF(AND(Formulier!$E$44<=C40,Formulier!$O$38>=C40),"Verlof",0) -> 0 | K40: =IF(J40=0,0,IF(F40="",0,1)) -> 0 | L40: =IF(J40=0,0,IF(G40="",0,1)) -> 0 | M40: =IF(J40=0,0,IF(H40="",0,1)) -> 0 | N40: =IF($N$1="Noord",K40,IF($N$1="Midden",L40,M40)) -> 0 | O40: =IF(OR(D40="za",D40="zo"),0,N40) -> 0 | T40: Bevrijdingsdag | U40: 46512 | V40: 46512 | Y40: Bevrijdingsdag | Z40: 46512 | AA40: 46512 | AD40: Bevrijdingsdag | AE40: 46512 | AF40: 46512
A41: =E41&B41&D41 -> 20236vr | B41: =B34+1 -> 6 | C41: =C40+1 -> 44967 | D41: =+D34 -> vr | E41: =YEAR(C41) -> 2023 | I41: =+I34+1 -> 6 | J41: =IF(AND(Formulier!$E$44<=C41,Formulier!$O$38>=C41),"Verlof",0) -> 0 | K41: =IF(J41=0,0,IF(F41="",0,1)) -> 0 | L41: =IF(J41=0,0,IF(G41="",0,1)) -> 0 | M41: =IF(J41=0,0,IF(H41="",0,1)) -> 0 | N41: =IF($N$1="Noord",K41,IF($N$1="Midden",L41,M41)) -> 0 | O41: =IF(OR(D41="za",D41="zo"),0,N41) -> 0 | T41: Hemelvaartsdag | U41: 46513 | V41: 46513 | Y41: Hemelvaartsdag | Z41: 46513 | AA41: 46513 | AD41: Hemelvaartsdag | AE41: 46513 | AF41: 46513
A42: =E42&B42&D42 -> 20236za | B42: =B35+1 -> 6 | C42: =C41+1 -> 44968 | D42: =+D35 -> za | E42: =YEAR(C42) -> 2023 | I42: =+I35+1 -> 6 | J42: =IF(AND(Formulier!$E$44<=C42,Formulier!$O$38>=C42),"Verlof",0) -> 0 | K42: =IF(J42=0,0,IF(F42="",0,1)) -> 0 | L42: =IF(J42=0,0,IF(G42="",0,1)) -> 0 | M42: =IF(J42=0,0,IF(H42="",0,1)) -> 0 | N42: =IF($N$1="Noord",K42,IF($N$1="Midden",L42,M42)) -> 0 | O42: =IF(OR(D42="za",D42="zo"),0,N42) -> 0 | T42: 2e Pinksterdag | U42: 46524 | V42: 46524 | Y42: 2e Pinksterdag | Z42: 46524 | AA42: 46524 | AD42: 2e Pinksterdag | AE42: 46524 | AF42: 46524
A43: =E43&B43&D43 -> 20236zo | B43: =B36+1 -> 6 | C43: =C42+1 -> 44969 | D43: =+D36 -> zo | E43: =YEAR(C43) -> 2023 | I43: =+I36+1 -> 6 | J43: =IF(AND(Formulier!$E$44<=C43,Formulier!$O$38>=C43),"Verlof",0) -> 0 | K43: =IF(J43=0,0,IF(F43="",0,1)) -> 0 | L43: =IF(J43=0,0,IF(G43="",0,1)) -> 0 | M43: =IF(J43=0,0,IF(H43="",0,1)) -> 0 | N43: =IF($N$1="Noord",K43,IF($N$1="Midden",L43,M43)) -> 0 | O43: =IF(OR(D43="za",D43="zo"),0,N43) -> 0 | T43: Extra vrij 1 | U43: =+Kalender!$W$75 -> 0 | V43: =+Kalender!$X$75 -> 0 | Y43: Extra vrij 1 | Z43: =+Kalender!$W$75 -> 0 | AA43: =+Kalender!$X$75 -> 0 | AD43: Extra vrij 1 | AE43: =+Kalender!$W$75 -> 0 | AF43: =+Kalender!$X$75 -> 0
A44: =E44&B44&D44 -> 20237ma | B44: =B37+1 -> 7 | C44: =C43+1 -> 44970 | D44: =+D37 -> ma | E44: =YEAR(C44) -> 2023 | I44: =+I37+1 -> 7 | J44: =IF(AND(Formulier!$E$44<=C44,Formulier!$O$38>=C44),"Verlof",0) -> 0 | K44: =IF(J44=0,0,IF(F44="",0,1)) -> 0 | L44: =IF(J44=0,0,IF(G44="",0,1)) -> 0 | M44: =IF(J44=0,0,IF(H44="",0,1)) -> 0 | N44: =IF($N$1="Noord",K44,IF($N$1="Midden",L44,M44)) -> 0 | O44: =IF(OR(D44="za",D44="zo"),0,N44) -> 0 | T44: Extra vrij 2 | U44: =+Kalender!$W$76 -> 0 | V44: =+Kalender!$X$76 -> 0 | Y44: Extra vrij 2 | Z44: =+Kalender!$W$76 -> 0 | AA44: =+Kalender!$X$76 -> 0 | AD44: Extra vrij 2 | AE44: =+Kalender!$W$76 -> 0 | AF44: =+Kalender!$X$76 -> 0
A45: =E45&B45&D45 -> 20237di | B45: =B38+1 -> 7 | C45: =C44+1 -> 44971 | D45: =+D38 -> di | E45: =YEAR(C45) -> 2023 | I45: =+I38+1 -> 7 | J45: =IF(AND(Formulier!$E$44<=C45,Formulier!$O$38>=C45),"Verlof",0) -> 0 | K45: =IF(J45=0,0,IF(F45="",0,1)) -> 0 | L45: =IF(J45=0,0,IF(G45="",0,1)) -> 0 | M45: =IF(J45=0,0,IF(H45="",0,1)) -> 0 | N45: =IF($N$1="Noord",K45,IF($N$1="Midden",L45,M45)) -> 0 | O45: =IF(OR(D45="za",D45="zo"),0,N45) -> 0 | T45: Extra vrij 3 | U45: =+Kalender!$W$77 -> 0 | V45: =+Kalender!$X$77 -> 0 | Y45: Extra vrij 3 | Z45: =+Kalender!$W$77 -> 0 | AA45: =+Kalender!$X$77 -> 0 | AD45: Extra vrij 3 | AE45: =+Kalender!$W$77 -> 0 | AF45: =+Kalender!$X$77 -> 0
A46: =E46&B46&D46 -> 20237wo | B46: =B39+1 -> 7 | C46: =C45+1 -> 44972 | D46: =+D39 -> wo | E46: =YEAR(C46) -> 2023 | I46: =+I39+1 -> 7 | J46: =IF(AND(Formulier!$E$44<=C46,Formulier!$O$38>=C46),"Verlof",0) -> 0 | K46: =IF(J46=0,0,IF(F46="",0,1)) -> 0 | L46: =IF(J46=0,0,IF(G46="",0,1)) -> 0 | M46: =IF(J46=0,0,IF(H46="",0,1)) -> 0 | N46: =IF($N$1="Noord",K46,IF($N$1="Midden",L46,M46)) -> 0 | O46: =IF(OR(D46="za",D46="zo"),0,N46) -> 0
A47: =E47&B47&D47 -> 20237do | B47: =B40+1 -> 7 | C47: =C46+1 -> 44973 | D47: =+D40 -> do | E47: =YEAR(C47) -> 2023 | I47: =+I40+1 -> 7 | J47: =IF(AND(Formulier!$E$44<=C47,Formulier!$O$38>=C47),"Verlof",0) -> 0 | K47: =IF(J47=0,0,IF(F47="",0,1)) -> 0 | L47: =IF(J47=0,0,IF(G47="",0,1)) -> 0 | M47: =IF(J47=0,0,IF(H47="",0,1)) -> 0 | N47: =IF($N$1="Noord",K47,IF($N$1="Midden",L47,M47)) -> 0 | O47: =IF(OR(D47="za",D47="zo"),0,N47) -> 0
A48: =E48&B48&D48 -> 20237vr | B48: =B41+1 -> 7 | C48: =C47+1 -> 44974 | D48: =+D41 -> vr | E48: =YEAR(C48) -> 2023 | I48: =+I41+1 -> 7 | J48: =IF(AND(Formulier!$E$44<=C48,Formulier!$O$38>=C48),"Verlof",0) -> 0 | K48: =IF(J48=0,0,IF(F48="",0,1)) -> 0 | L48: =IF(J48=0,0,IF(G48="",0,1)) -> 0 | M48: =IF(J48=0,0,IF(H48="",0,1)) -> 0 | N48: =IF($N$1="Noord",K48,IF($N$1="Midden",L48,M48)) -> 0 | O48: =IF(OR(D48="za",D48="zo"),0,N48) -> 0
A49: =E49&B49&D49 -> 20237za | B49: =B42+1 -> 7 | C49: =C48+1 -> 44975 | D49: =+D42 -> za | E49: =YEAR(C49) -> 2023 | I49: =+I42+1 -> 7 | J49: =IF(AND(Formulier!$E$44<=C49,Formulier!$O$38>=C49),"Verlof",0) -> 0 | K49: =IF(J49=0,0,IF(F49="",0,1)) -> 0 | L49: =IF(J49=0,0,IF(G49="",0,1)) -> 0 | M49: =IF(J49=0,0,IF(H49="",0,1)) -> 0 | N49: =IF($N$1="Noord",K49,IF($N$1="Midden",L49,M49)) -> 0 | O49: =IF(OR(D49="za",D49="zo"),0,N49) -> 0
A50: =E50&B50&D50 -> 20237zo | B50: =B43+1 -> 7 | C50: =C49+1 -> 44976 | D50: =+D43 -> zo | E50: =YEAR(C50) -> 2023 | I50: =+I43+1 -> 7 | J50: =IF(AND(Formulier!$E$44<=C50,Formulier!$O$38>=C50),"Verlof",0) -> 0 | K50: =IF(J50=0,0,IF(F50="",0,1)) -> 0 | L50: =IF(J50=0,0,IF(G50="",0,1)) -> 0 | M50: =IF(J50=0,0,IF(H50="",0,1)) -> 0 | N50: =IF($N$1="Noord",K50,IF($N$1="Midden",L50,M50)) -> 0 | O50: =IF(OR(D50="za",D50="zo"),0,N50) -> 0
A51: =E51&B51&D51 -> 20238ma | B51: =B44+1 -> 8 | C51: =C50+1 -> 44977 | D51: =+D44 -> ma | E51: =YEAR(C51) -> 2023 | H51: Vakantie | I51: =+I44+1 -> 8 | J51: =IF(AND(Formulier!$E$44<=C51,Formulier!$O$38>=C51),"Verlof",0) -> 0 | K51: =IF(J51=0,0,IF(F51="",0,1)) -> 0 | L51: =IF(J51=0,0,IF(G51="",0,1)) -> 0 | M51: =IF(J51=0,0,IF(H51="",0,1)) -> 0 | N51: =IF($N$1="Noord",K51,IF($N$1="Midden",L51,M51)) -> 0 | O51: =IF(OR(D51="za",D51="zo"),0,N51) -> 0
A52: =E52&B52&D52 -> 20238di | B52: =B45+1 -> 8 | C52: =C51+1 -> 44978 | D52: =+D45 -> di | E52: =YEAR(C52) -> 2023 | H52: Vakantie | I52: =+I45+1 -> 8 | J52: =IF(AND(Formulier!$E$44<=C52,Formulier!$O$38>=C52),"Verlof",0) -> 0 | K52: =IF(J52=0,0,IF(F52="",0,1)) -> 0 | L52: =IF(J52=0,0,IF(G52="",0,1)) -> 0 | M52: =IF(J52=0,0,IF(H52="",0,1)) -> 0 | N52: =IF($N$1="Noord",K52,IF($N$1="Midden",L52,M52)) -> 0 | O52: =IF(OR(D52="za",D52="zo"),0,N52) -> 0
A53: =E53&B53&D53 -> 20238wo | B53: =B46+1 -> 8 | C53: =C52+1 -> 44979 | D53: =+D46 -> wo | E53: =YEAR(C53) -> 2023 | H53: Vakantie | I53: =+I46+1 -> 8 | J53: =IF(AND(Formulier!$E$44<=C53,Formulier!$O$38>=C53),"Verlof",0) -> 0 | K53: =IF(J53=0,0,IF(F53="",0,1)) -> 0 | L53: =IF(J53=0,0,IF(G53="",0,1)) -> 0 | M53: =IF(J53=0,0,IF(H53="",0,1)) -> 0 | N53: =IF($N$1="Noord",K53,IF($N$1="Midden",L53,M53)) -> 0 | O53: =IF(OR(D53="za",D53="zo"),0,N53) -> 0
A54: =E54&B54&D54 -> 20238do | B54: =B47+1 -> 8 | C54: =C53+1 -> 44980 | D54: =+D47 -> do | E54: =YEAR(C54) -> 2023 | H54: Vakantie | I54: =+I47+1 -> 8 | J54: =IF(AND(Formulier!$E$44<=C54,Formulier!$O$38>=C54),"Verlof",0) -> 0 | K54: =IF(J54=0,0,IF(F54="",0,1)) -> 0 | L54: =IF(J54=0,0,IF(G54="",0,1)) -> 0 | M54: =IF(J54=0,0,IF(H54="",0,1)) -> 0 | N54: =IF($N$1="Noord",K54,IF($N$1="Midden",L54,M54)) -> 0 | O54: =IF(OR(D54="za",D54="zo"),0,N54) -> 0
A55: =E55&B55&D55 -> 20238vr | B55: =B48+1 -> 8 | C55: =C54+1 -> 44981 | D55: =+D48 -> vr | E55: =YEAR(C55) -> 2023 | H55: Vakantie | I55: =+I48+1 -> 8 | J55: =IF(AND(Formulier!$E$44<=C55,Formulier!$O$38>=C55),"Verlof",0) -> 0 | K55: =IF(J55=0,0,IF(F55="",0,1)) -> 0 | L55: =IF(J55=0,0,IF(G55="",0,1)) -> 0 | M55: =IF(J55=0,0,IF(H55="",0,1)) -> 0 | N55: =IF($N$1="Noord",K55,IF($N$1="Midden",L55,M55)) -> 0 | O55: =IF(OR(D55="za",D55="zo"),0,N55) -> 0
A56: =E56&B56&D56 -> 20238za | B56: =B49+1 -> 8 | C56: =C55+1 -> 44982 | D56: =+D49 -> za | E56: =YEAR(C56) -> 2023 | H56: Vakantie | I56: =+I49+1 -> 8 | J56: =IF(AND(Formulier!$E$44<=C56,Formulier!$O$38>=C56),"Verlof",0) -> 0 | K56: =IF(J56=0,0,IF(F56="",0,1)) -> 0 | L56: =IF(J56=0,0,IF(G56="",0,1)) -> 0 | M56: =IF(J56=0,0,IF(H56="",0,1)) -> 0 | N56: =IF($N$1="Noord",K56,IF($N$1="Midden",L56,M56)) -> 0 | O56: =IF(OR(D56="za",D56="zo"),0,N56) -> 0
A57: =E57&B57&D57 -> 20238zo | B57: =B50+1 -> 8 | C57: =C56+1 -> 44983 | D57: =+D50 -> zo | E57: =YEAR(C57) -> 2023 | H57: Vakantie | I57: =+I50+1 -> 8 | J57: =IF(AND(Formulier!$E$44<=C57,Formulier!$O$38>=C57),"Verlof",0) -> 0 | K57: =IF(J57=0,0,IF(F57="",0,1)) -> 0 | L57: =IF(J57=0,0,IF(G57="",0,1)) -> 0 | M57: =IF(J57=0,0,IF(H57="",0,1)) -> 0 | N57: =IF($N$1="Noord",K57,IF($N$1="Midden",L57,M57)) -> 0 | O57: =IF(OR(D57="za",D57="zo"),0,N57) -> 0
A58: =E58&B58&D58 -> 20239ma | B58: =B51+1 -> 9 | C58: =C57+1 -> 44984 | D58: =+D51 -> ma | E58: =YEAR(C58) -> 2023 | F58: Vakantie | G58: Vakantie | I58: =+I51+1 -> 9 | J58: =IF(AND(Formulier!$E$44<=C58,Formulier!$O$38>=C58),"Verlof",0) -> 0 | K58: =IF(J58=0,0,IF(F58="",0,1)) -> 0 | L58: =IF(J58=0,0,IF(G58="",0,1)) -> 0 | M58: =IF(J58=0,0,IF(H58="",0,1)) -> 0 | N58: =IF($N$1="Noord",K58,IF($N$1="Midden",L58,M58)) -> 0 | O58: =IF(OR(D58="za",D58="zo"),0,N58) -> 0
A59: =E59&B59&D59 -> 20239di | B59: =B52+1 -> 9 | C59: =C58+1 -> 44985 | D59: =+D52 -> di | E59: =YEAR(C59) -> 2023 | F59: Vakantie | G59: Vakantie | I59: =+I52+1 -> 9 | J59: =IF(AND(Formulier!$E$44<=C59,Formulier!$O$38>=C59),"Verlof",0) -> 0 | K59: =IF(J59=0,0,IF(F59="",0,1)) -> 0 | L59: =IF(J59=0,0,IF(G59="",0,1)) -> 0 | M59: =IF(J59=0,0,IF(H59="",0,1)) -> 0 | N59: =IF($N$1="Noord",K59,IF($N$1="Midden",L59,M59)) -> 0 | O59: =IF(OR(D59="za",D59="zo"),0,N59) -> 0
A60: =E60&B60&D60 -> 20239wo | B60: =B53+1 -> 9 | C60: =C59+1 -> 44986 | D60: =+D53 -> wo | E60: =YEAR(C60) -> 2023 | F60: Vakantie | G60: Vakantie | I60: =+I53+1 -> 9 | J60: =IF(AND(Formulier!$E$44<=C60,Formulier!$O$38>=C60),"Verlof",0) -> 0 | K60: =IF(J60=0,0,IF(F60="",0,1)) -> 0 | L60: =IF(J60=0,0,IF(G60="",0,1)) -> 0 | M60: =IF(J60=0,0,IF(H60="",0,1)) -> 0 | N60: =IF($N$1="Noord",K60,IF($N$1="Midden",L60,M60)) -> 0 | O60: =IF(OR(D60="za",D60="zo"),0,N60) -> 0
A61: =E61&B61&D61 -> 20239do | B61: =B54+1 -> 9 | C61: =C60+1 -> 44987 | D61: =+D54 -> do | E61: =YEAR(C61) -> 2023 | F61: Vakantie | G61: Vakantie | I61: =+I54+1 -> 9 | J61: =IF(AND(Formulier!$E$44<=C61,Formulier!$O$38>=C61),"Verlof",0) -> 0 | K61: =IF(J61=0,0,IF(F61="",0,1)) -> 0 | L61: =IF(J61=0,0,IF(G61="",0,1)) -> 0 | M61: =IF(J61=0,0,IF(H61="",0,1)) -> 0 | N61: =IF($N$1="Noord",K61,IF($N$1="Midden",L61,M61)) -> 0 | O61: =IF(OR(D61="za",D61="zo"),0,N61) -> 0
A62: =E62&B62&D62 -> 20239vr | B62: =B55+1 -> 9 | C62: =C61+1 -> 44988 | D62: =+D55 -> vr | E62: =YEAR(C62) -> 2023 | F62: Vakantie | G62: Vakantie | I62: =+I55+1 -> 9 | J62: =IF(AND(Formulier!$E$44<=C62,Formulier!$O$38>=C62),"Verlof",0) -> 0 | K62: =IF(J62=0,0,IF(F62="",0,1)) -> 0 | L62: =IF(J62=0,0,IF(G62="",0,1)) -> 0 | M62: =IF(J62=0,0,IF(H62="",0,1)) -> 0 | N62: =IF($N$1="Noord",K62,IF($N$1="Midden",L62,M62)) -> 0 | O62: =IF(OR(D62="za",D62="zo"),0,N62) -> 0
A63: =E63&B63&D63 -> 20239za | B63: =B56+1 -> 9 | C63: =C62+1 -> 44989 | D63: =+D56 -> za | E63: =YEAR(C63) -> 2023 | F63: Vakantie | G63: Vakantie | I63: =+I56+1 -> 9 | J63: =IF(AND(Formulier!$E$44<=C63,Formulier!$O$38>=C63),"Verlof",0) -> 0 | K63: =IF(J63=0,0,IF(F63="",0,1)) -> 0 | L63: =IF(J63=0,0,IF(G63="",0,1)) -> 0 | M63: =IF(J63=0,0,IF(H63="",0,1)) -> 0 | N63: =IF($N$1="Noord",K63,IF($N$1="Midden",L63,M63)) -> 0 | O63: =IF(OR(D63="za",D63="zo"),0,N63) -> 0
A64: =E64&B64&D64 -> 20239zo | B64: =B57+1 -> 9 | C64: =C63+1 -> 44990 | D64: =+D57 -> zo | E64: =YEAR(C64) -> 2023 | F64: Vakantie | G64: Vakantie | I64: =+I57+1 -> 9 | J64: =IF(AND(Formulier!$E$44<=C64,Formulier!$O$38>=C64),"Verlof",0) -> 0 | K64: =IF(J64=0,0,IF(F64="",0,1)) -> 0 | L64: =IF(J64=0,0,IF(G64="",0,1)) -> 0 | M64: =IF(J64=0,0,IF(H64="",0,1)) -> 0 | N64: =IF($N$1="Noord",K64,IF($N$1="Midden",L64,M64)) -> 0 | O64: =IF(OR(D64="za",D64="zo"),0,N64) -> 0
A65: =E65&B65&D65 -> 202310ma | B65: =B58+1 -> 10 | C65: =C64+1 -> 44991 | D65: =+D58 -> ma | E65: =YEAR(C65) -> 2023 | I65: =+I58+1 -> 10 | J65: =IF(AND(Formulier!$E$44<=C65,Formulier!$O$38>=C65),"Verlof",0) -> 0 | K65: =IF(J65=0,0,IF(F65="",0,1)) -> 0 | L65: =IF(J65=0,0,IF(G65="",0,1)) -> 0 | M65: =IF(J65=0,0,IF(H65="",0,1)) -> 0 | N65: =IF($N$1="Noord",K65,IF($N$1="Midden",L65,M65)) -> 0 | O65: =IF(OR(D65="za",D65="zo"),0,N65) -> 0
A66: =E66&B66&D66 -> 202310di | B66: =B59+1 -> 10 | C66: =C65+1 -> 44992 | D66: =+D59 -> di | E66: =YEAR(C66) -> 2023 | I66: =+I59+1 -> 10 | J66: =IF(AND(Formulier!$E$44<=C66,Formulier!$O$38>=C66),"Verlof",0) -> 0 | K66: =IF(J66=0,0,IF(F66="",0,1)) -> 0 | L66: =IF(J66=0,0,IF(G66="",0,1)) -> 0 | M66: =IF(J66=0,0,IF(H66="",0,1)) -> 0 | N66: =IF($N$1="Noord",K66,IF($N$1="Midden",L66,M66)) -> 0 | O66: =IF(OR(D66="za",D66="zo"),0,N66) -> 0
A67: =E67&B67&D67 -> 202310wo | B67: =B60+1 -> 10 | C67: =C66+1 -> 44993 | D67: =+D60 -> wo | E67: =YEAR(C67) -> 2023 | I67: =+I60+1 -> 10 | J67: =IF(AND(Formulier!$E$44<=C67,Formulier!$O$38>=C67),"Verlof",0) -> 0 | K67: =IF(J67=0,0,IF(F67="",0,1)) -> 0 | L67: =IF(J67=0,0,IF(G67="",0,1)) -> 0 | M67: =IF(J67=0,0,IF(H67="",0,1)) -> 0 | N67: =IF($N$1="Noord",K67,IF($N$1="Midden",L67,M67)) -> 0 | O67: =IF(OR(D67="za",D67="zo"),0,N67) -> 0
A68: =E68&B68&D68 -> 202310do | B68: =B61+1 -> 10 | C68: =C67+1 -> 44994 | D68: =+D61 -> do | E68: =YEAR(C68) -> 2023 | I68: =+I61+1 -> 10 | J68: =IF(AND(Formulier!$E$44<=C68,Formulier!$O$38>=C68),"Verlof",0) -> 0 | K68: =IF(J68=0,0,IF(F68="",0,1)) -> 0 | L68: =IF(J68=0,0,IF(G68="",0,1)) -> 0 | M68: =IF(J68=0,0,IF(H68="",0,1)) -> 0 | N68: =IF($N$1="Noord",K68,IF($N$1="Midden",L68,M68)) -> 0 | O68: =IF(OR(D68="za",D68="zo"),0,N68) -> 0
A69: =E69&B69&D69 -> 202310vr | B69: =B62+1 -> 10 | C69: =C68+1 -> 44995 | D69: =+D62 -> vr | E69: =YEAR(C69) -> 2023 | I69: =+I62+1 -> 10 | J69: =IF(AND(Formulier!$E$44<=C69,Formulier!$O$38>=C69),"Verlof",0) -> 0 | K69: =IF(J69=0,0,IF(F69="",0,1)) -> 0 | L69: =IF(J69=0,0,IF(G69="",0,1)) -> 0 | M69: =IF(J69=0,0,IF(H69="",0,1)) -> 0 | N69: =IF($N$1="Noord",K69,IF($N$1="Midden",L69,M69)) -> 0 | O69: =IF(OR(D69="za",D69="zo"),0,N69) -> 0
A70: =E70&B70&D70 -> 202310za | B70: =B63+1 -> 10 | C70: =C69+1 -> 44996 | D70: =+D63 -> za | E70: =YEAR(C70) -> 2023 | I70: =+I63+1 -> 10 | J70: =IF(AND(Formulier!$E$44<=C70,Formulier!$O$38>=C70),"Verlof",0) -> 0 | K70: =IF(J70=0,0,IF(F70="",0,1)) -> 0 | L70: =IF(J70=0,0,IF(G70="",0,1)) -> 0 | M70: =IF(J70=0,0,IF(H70="",0,1)) -> 0 | N70: =IF($N$1="Noord",K70,IF($N$1="Midden",L70,M70)) -> 0 | O70: =IF(OR(D70="za",D70="zo"),0,N70) -> 0
A71: =E71&B71&D71 -> 202310zo | B71: =B64+1 -> 10 | C71: =C70+1 -> 44997 | D71: =+D64 -> zo | E71: =YEAR(C71) -> 2023 | I71: =+I64+1 -> 10 | J71: =IF(AND(Formulier!$E$44<=C71,Formulier!$O$38>=C71),"Verlof",0) -> 0 | K71: =IF(J71=0,0,IF(F71="",0,1)) -> 0 | L71: =IF(J71=0,0,IF(G71="",0,1)) -> 0 | M71: =IF(J71=0,0,IF(H71="",0,1)) -> 0 | N71: =IF($N$1="Noord",K71,IF($N$1="Midden",L71,M71)) -> 0 | O71: =IF(OR(D71="za",D71="zo"),0,N71) -> 0
A72: =E72&B72&D72 -> 202311ma | B72: =B65+1 -> 11 | C72: =C71+1 -> 44998 | D72: =+D65 -> ma | E72: =YEAR(C72) -> 2023 | I72: =+I65+1 -> 11 | J72: =IF(AND(Formulier!$E$44<=C72,Formulier!$O$38>=C72),"Verlof",0) -> 0 | K72: =IF(J72=0,0,IF(F72="",0,1)) -> 0 | L72: =IF(J72=0,0,IF(G72="",0,1)) -> 0 | M72: =IF(J72=0,0,IF(H72="",0,1)) -> 0 | N72: =IF($N$1="Noord",K72,IF($N$1="Midden",L72,M72)) -> 0 | O72: =IF(OR(D72="za",D72="zo"),0,N72) -> 0
A73: =E73&B73&D73 -> 202311di | B73: =B66+1 -> 11 | C73: =C72+1 -> 44999 | D73: =+D66 -> di | E73: =YEAR(C73) -> 2023 | I73: =+I66+1 -> 11 | J73: =IF(AND(Formulier!$E$44<=C73,Formulier!$O$38>=C73),"Verlof",0) -> 0 | K73: =IF(J73=0,0,IF(F73="",0,1)) -> 0 | L73: =IF(J73=0,0,IF(G73="",0,1)) -> 0 | M73: =IF(J73=0,0,IF(H73="",0,1)) -> 0 | N73: =IF($N$1="Noord",K73,IF($N$1="Midden",L73,M73)) -> 0 | O73: =IF(OR(D73="za",D73="zo"),0,N73) -> 0
A74: =E74&B74&D74 -> 202311wo | B74: =B67+1 -> 11 | C74: =C73+1 -> 45000 | D74: =+D67 -> wo | E74: =YEAR(C74) -> 2023 | I74: =+I67+1 -> 11 | J74: =IF(AND(Formulier!$E$44<=C74,Formulier!$O$38>=C74),"Verlof",0) -> 0 | K74: =IF(J74=0,0,IF(F74="",0,1)) -> 0 | L74: =IF(J74=0,0,IF(G74="",0,1)) -> 0 | M74: =IF(J74=0,0,IF(H74="",0,1)) -> 0 | N74: =IF($N$1="Noord",K74,IF($N$1="Midden",L74,M74)) -> 0 | O74: =IF(OR(D74="za",D74="zo"),0,N74) -> 0
A75: =E75&B75&D75 -> 202311do | B75: =B68+1 -> 11 | C75: =C74+1 -> 45001 | D75: =+D68 -> do | E75: =YEAR(C75) -> 2023 | I75: =+I68+1 -> 11 | J75: =IF(AND(Formulier!$E$44<=C75,Formulier!$O$38>=C75),"Verlof",0) -> 0 | K75: =IF(J75=0,0,IF(F75="",0,1)) -> 0 | L75: =IF(J75=0,0,IF(G75="",0,1)) -> 0 | M75: =IF(J75=0,0,IF(H75="",0,1)) -> 0 | N75: =IF($N$1="Noord",K75,IF($N$1="Midden",L75,M75)) -> 0 | O75: =IF(OR(D75="za",D75="zo"),0,N75) -> 0
A76: =E76&B76&D76 -> 202311vr | B76: =B69+1 -> 11 | C76: =C75+1 -> 45002 | D76: =+D69 -> vr | E76: =YEAR(C76) -> 2023 | I76: =+I69+1 -> 11 | J76: =IF(AND(Formulier!$E$44<=C76,Formulier!$O$38>=C76),"Verlof",0) -> 0 | K76: =IF(J76=0,0,IF(F76="",0,1)) -> 0 | L76: =IF(J76=0,0,IF(G76="",0,1)) -> 0 | M76: =IF(J76=0,0,IF(H76="",0,1)) -> 0 | N76: =IF($N$1="Noord",K76,IF($N$1="Midden",L76,M76)) -> 0 | O76: =IF(OR(D76="za",D76="zo"),0,N76) -> 0
... A96: =E96&B96&D96 -> 202314do | B96: =B89+1 -> 14 | C96: =C95+1 -> 45022 | D96: =+D89 -> do | E96: =YEAR(C96) -> 2023 | I96: =+I89+1 -> 14 | J96: =IF(AND(Formulier!$E$44<=C96,Formulier!$O$38>=C96),"Verlof",0) -> 0 | K96: =IF(J96=0,0,IF(F96="",0,1)) -> 0 | L96: =IF(J96=0,0,IF(G96="",0,1)) -> 0 | M96: =IF(J96=0,0,IF(H96="",0,1)) -> 0 | N96: =IF($N$1="Noord",K96,IF($N$1="Midden",L96,M96)) -> 0 | O96: =IF(OR(D96="za",D96="zo"),0,N96) -> 0
A97: =E97&B97&D97 -> 202314vr | B97: =B90+1 -> 14 | C97: =C96+1 -> 45023 | D97: =+D90 -> vr | E97: =YEAR(C97) -> 2023 | F97: Vakantie | G97: Vakantie | H97: Vakantie | I97: =+I90+1 -> 14 | J97: =IF(AND(Formulier!$E$44<=C97,Formulier!$O$38>=C97),"Verlof",0) -> 0 | K97: =IF(J97=0,0,IF(F97="",0,1)) -> 0 | L97: =IF(J97=0,0,IF(G97="",0,1)) -> 0 | M97: =IF(J97=0,0,IF(H97="",0,1)) -> 0 | N97: =IF($N$1="Noord",K97,IF($N$1="Midden",L97,M97)) -> 0 | O97: =IF(OR(D97="za",D97="zo"),0,N97) -> 0
A98: =E98&B98&D98 -> 202314za | B98: =B91+1 -> 14 | C98: =C97+1 -> 45024 | D98: =+D91 -> za | E98: =YEAR(C98) -> 2023 | I98: =+I91+1 -> 14 | J98: =IF(AND(Formulier!$E$44<=C98,Formulier!$O$38>=C98),"Verlof",0) -> 0 | K98: =IF(J98=0,0,IF(F98="",0,1)) -> 0 | L98: =IF(J98=0,0,IF(G98="",0,1)) -> 0 | M98: =IF(J98=0,0,IF(H98="",0,1)) -> 0 | N98: =IF($N$1="Noord",K98,IF($N$1="Midden",L98,M98)) -> 0 | O98: =IF(OR(D98="za",D98="zo"),0,N98) -> 0
A99: =E99&B99&D99 -> 202314zo | B99: =B92+1 -> 14 | C99: =C98+1 -> 45025 | D99: =+D92 -> zo | E99: =YEAR(C99) -> 2023 | I99: =+I92+1 -> 14 | J99: =IF(AND(Formulier!$E$44<=C99,Formulier!$O$38>=C99),"Verlof",0) -> 0 | K99: =IF(J99=0,0,IF(F99="",0,1)) -> 0 | L99: =IF(J99=0,0,IF(G99="",0,1)) -> 0 | M99: =IF(J99=0,0,IF(H99="",0,1)) -> 0 | N99: =IF($N$1="Noord",K99,IF($N$1="Midden",L99,M99)) -> 0 | O99: =IF(OR(D99="za",D99="zo"),0,N99) -> 0
A100: =E100&B100&D100 -> 202315ma | B100: =B93+1 -> 15 | C100: =C99+1 -> 45026 | D100: =+D93 -> ma | E100: =YEAR(C100) -> 2023 | F100: Vakantie | G100: Vakantie | H100: Vakantie | I100: =+I93+1 -> 15 | J100: =IF(AND(Formulier!$E$44<=C100,Formulier!$O$38>=C100),"Verlof",0) -> 0 | K100: =IF(J100=0,0,IF(F100="",0,1)) -> 0 | L100: =IF(J100=0,0,IF(G100="",0,1)) -> 0 | M100: =IF(J100=0,0,IF(H100="",0,1)) -> 0 | N100: =IF($N$1="Noord",K100,IF($N$1="Midden",L100,M100)) -> 0 | O100: =IF(OR(D100="za",D100="zo"),0,N100) -> 0
A101: =E101&B101&D101 -> 202315di | B101: =B94+1 -> 15 | C101: =C100+1 -> 45027 | D101: =+D94 -> di | E101: =YEAR(C101) -> 2023 | I101: =+I94+1 -> 15 | J101: =IF(AND(Formulier!$E$44<=C101,Formulier!$O$38>=C101),"Verlof",0) -> 0 | K101: =IF(J101=0,0,IF(F101="",0,1)) -> 0 | L101: =IF(J101=0,0,IF(G101="",0,1)) -> 0 | M101: =IF(J101=0,0,IF(H101="",0,1)) -> 0 | N101: =IF($N$1="Noord",K101,IF($N$1="Midden",L101,M101)) -> 0 | O101: =IF(OR(D101="za",D101="zo"),0,N101) -> 0
A102: =E102&B102&D102 -> 202315wo | B102: =B95+1 -> 15 | C102: =C101+1 -> 45028 | D102: =+D95 -> wo | E102: =YEAR(C102) -> 2023 | I102: =+I95+1 -> 15 | J102: =IF(AND(Formulier!$E$44<=C102,Formulier!$O$38>=C102),"Verlof",0) -> 0 | K102: =IF(J102=0,0,IF(F102="",0,1)) -> 0 | L102: =IF(J102=0,0,IF(G102="",0,1)) -> 0 | M102: =IF(J102=0,0,IF(H102="",0,1)) -> 0 | N102: =IF($N$1="Noord",K102,IF($N$1="Midden",L102,M102)) -> 0 | O102: =IF(OR(D102="za",D102="zo"),0,N102) -> 0
A103: =E103&B103&D103 -> 202315do | B103: =B96+1 -> 15 | C103: =C102+1 -> 45029 | D103: =+D96 -> do | E103: =YEAR(C103) -> 2023 | I103: =+I96+1 -> 15 | J103: =IF(AND(Formulier!$E$44<=C103,Formulier!$O$38>=C103),"Verlof",0) -> 0 | K103: =IF(J103=0,0,IF(F103="",0,1)) -> 0 | L103: =IF(J103=0,0,IF(G103="",0,1)) -> 0 | M103: =IF(J103=0,0,IF(H103="",0,1)) -> 0 | N103: =IF($N$1="Noord",K103,IF($N$1="Midden",L103,M103)) -> 0 | O103: =IF(OR(D103="za",D103="zo"),0,N103) -> 0
A104: =E104&B104&D104 -> 202315vr | B104: =B97+1 -> 15 | C104: =C103+1 -> 45030 | D104: =+D97 -> vr | E104: =YEAR(C104) -> 2023 | I104: =+I97+1 -> 15 | J104: =IF(AND(Formulier!$E$44<=C104,Formulier!$O$38>=C104),"Verlof",0) -> 0 | K104: =IF(J104=0,0,IF(F104="",0,1)) -> 0 | L104: =IF(J104=0,0,IF(G104="",0,1)) -> 0 | M104: =IF(J104=0,0,IF(H104="",0,1)) -> 0 | N104: =IF($N$1="Noord",K104,IF($N$1="Midden",L104,M104)) -> 0 | O104: =IF(OR(D104="za",D104="zo"),0,N104) -> 0
A105: =E105&B105&D105 -> 202315za | B105: =B98+1 -> 15 | C105: =C104+1 -> 45031 | D105: =+D98 -> za | E105: =YEAR(C105) -> 2023 | I105: =+I98+1 -> 15 | J105: =IF(AND(Formulier!$E$44<=C105,Formulier!$O$38>=C105),"Verlof",0) -> 0 | K105: =IF(J105=0,0,IF(F105="",0,1)) -> 0 | L105: =IF(J105=0,0,IF(G105="",0,1)) -> 0 | M105: =IF(J105=0,0,IF(H105="",0,1)) -> 0 | N105: =IF($N$1="Noord",K105,IF($N$1="Midden",L105,M105)) -> 0 | O105: =IF(OR(D105="za",D105="zo"),0,N105) -> 0
A106: =E106&B106&D106 -> 202315zo | B106: =B99+1 -> 15 | C106: =C105+1 -> 45032 | D106: =+D99 -> zo | E106: =YEAR(C106) -> 2023 | I106: =+I99+1 -> 15 | J106: =IF(AND(Formulier!$E$44<=C106,Formulier!$O$38>=C106),"Verlof",0) -> 0 | K106: =IF(J106=0,0,IF(F106="",0,1)) -> 0 | L106: =IF(J106=0,0,IF(G106="",0,1)) -> 0 | M106: =IF(J106=0,0,IF(H106="",0,1)) -> 0 | N106: =IF($N$1="Noord",K106,IF($N$1="Midden",L106,M106)) -> 0 | O106: =IF(OR(D106="za",D106="zo"),0,N106) -> 0
A107: =E107&B107&D107 -> 202316ma | B107: =B100+1 -> 16 | C107: =C106+1 -> 45033 | D107: =+D100 -> ma | E107: =YEAR(C107) -> 2023 | I107: =+I100+1 -> 16 | J107: =IF(AND(Formulier!$E$44<=C107,Formulier!$O$38>=C107),"Verlof",0) -> 0 | K107: =IF(J107=0,0,IF(F107="",0,1)) -> 0 | L107: =IF(J107=0,0,IF(G107="",0,1)) -> 0 | M107: =IF(J107=0,0,IF(H107="",0,1)) -> 0 | N107: =IF($N$1="Noord",K107,IF($N$1="Midden",L107,M107)) -> 0 | O107: =IF(OR(D107="za",D107="zo"),0,N107) -> 0
A108: =E108&B108&D108 -> 202316di | B108: =B101+1 -> 16 | C108: =C107+1 -> 45034 | D108: =+D101 -> di | E108: =YEAR(C108) -> 2023 | I108: =+I101+1 -> 16 | J108: =IF(AND(Formulier!$E$44<=C108,Formulier!$O$38>=C108),"Verlof",0) -> 0 | K108: =IF(J108=0,0,IF(F108="",0,1)) -> 0 | L108: =IF(J108=0,0,IF(G108="",0,1)) -> 0 | M108: =IF(J108=0,0,IF(H108="",0,1)) -> 0 | N108: =IF($N$1="Noord",K108,IF($N$1="Midden",L108,M108)) -> 0 | O108: =IF(OR(D108="za",D108="zo"),0,N108) -> 0
A109: =E109&B109&D109 -> 202316wo | B109: =B102+1 -> 16 | C109: =C108+1 -> 45035 | D109: =+D102 -> wo | E109: =YEAR(C109) -> 2023 | I109: =+I102+1 -> 16 | J109: =IF(AND(Formulier!$E$44<=C109,Formulier!$O$38>=C109),"Verlof",0) -> 0 | K109: =IF(J109=0,0,IF(F109="",0,1)) -> 0 | L109: =IF(J109=0,0,IF(G109="",0,1)) -> 0 | M109: =IF(J109=0,0,IF(H109="",0,1)) -> 0 | N109: =IF($N$1="Noord",K109,IF($N$1="Midden",L109,M109)) -> 0 | O109: =IF(OR(D109="za",D109="zo"),0,N109) -> 0
A110: =E110&B110&D110 -> 202316do | B110: =B103+1 -> 16 | C110: =C109+1 -> 45036 | D110: =+D103 -> do | E110: =YEAR(C110) -> 2023 | I110: =+I103+1 -> 16 | J110: =IF(AND(Formulier!$E$44<=C110,Formulier!$O$38>=C110),"Verlof",0) -> 0 | K110: =IF(J110=0,0,IF(F110="",0,1)) -> 0 | L110: =IF(J110=0,0,IF(G110="",0,1)) -> 0 | M110: =IF(J110=0,0,IF(H110="",0,1)) -> 0 | N110: =IF($N$1="Noord",K110,IF($N$1="Midden",L110,M110)) -> 0 | O110: =IF(OR(D110="za",D110="zo"),0,N110) -> 0
A111: =E111&B111&D111 -> 202316vr | B111: =B104+1 -> 16 | C111: =C110+1 -> 45037 | D111: =+D104 -> vr | E111: =YEAR(C111) -> 2023 | I111: =+I104+1 -> 16 | J111: =IF(AND(Formulier!$E$44<=C111,Formulier!$O$38>=C111),"Verlof",0) -> 0 | K111: =IF(J111=0,0,IF(F111="",0,1)) -> 0 | L111: =IF(J111=0,0,IF(G111="",0,1)) -> 0 | M111: =IF(J111=0,0,IF(H111="",0,1)) -> 0 | N111: =IF($N$1="Noord",K111,IF($N$1="Midden",L111,M111)) -> 0 | O111: =IF(OR(D111="za",D111="zo"),0,N111) -> 0
A112: =E112&B112&D112 -> 202316za | B112: =B105+1 -> 16 | C112: =C111+1 -> 45038 | D112: =+D105 -> za | E112: =YEAR(C112) -> 2023 | I112: =+I105+1 -> 16 | J112: =IF(AND(Formulier!$E$44<=C112,Formulier!$O$38>=C112),"Verlof",0) -> 0 | K112: =IF(J112=0,0,IF(F112="",0,1)) -> 0 | L112: =IF(J112=0,0,IF(G112="",0,1)) -> 0 | M112: =IF(J112=0,0,IF(H112="",0,1)) -> 0 | N112: =IF($N$1="Noord",K112,IF($N$1="Midden",L112,M112)) -> 0 | O112: =IF(OR(D112="za",D112="zo"),0,N112) -> 0
... A116: =E116&B116&D116 -> 202317wo | B116: =B109+1 -> 17 | C116: =C115+1 -> 45042 | D116: =+D109 -> wo | E116: =YEAR(C116) -> 2023 | I116: =+I109+1 -> 17 | J116: =IF(AND(Formulier!$E$44<=C116,Formulier!$O$38>=C116),"Verlof",0) -> 0 | K116: =IF(J116=0,0,IF(F116="",0,1)) -> 0 | L116: =IF(J116=0,0,IF(G116="",0,1)) -> 0 | M116: =IF(J116=0,0,IF(H116="",0,1)) -> 0 | N116: =IF($N$1="Noord",K116,IF($N$1="Midden",L116,M116)) -> 0 | O116: =IF(OR(D116="za",D116="zo"),0,N116) -> 0
A117: =E117&B117&D117 -> 202317do | B117: =B110+1 -> 17 | C117: =C116+1 -> 45043 | D117: =+D110 -> do | E117: =YEAR(C117) -> 2023 | F117: Vakantie | G117: Vakantie | H117: Vakantie | I117: =+I110+1 -> 17 | J117: =IF(AND(Formulier!$E$44<=C117,Formulier!$O$38>=C117),"Verlof",0) -> 0 | K117: =IF(J117=0,0,IF(F117="",0,1)) -> 0 | L117: =IF(J117=0,0,IF(G117="",0,1)) -> 0 | M117: =IF(J117=0,0,IF(H117="",0,1)) -> 0 | N117: =IF($N$1="Noord",K117,IF($N$1="Midden",L117,M117)) -> 0 | O117: =IF(OR(D117="za",D117="zo"),0,N117) -> 0
A118: =E118&B118&D118 -> 202317vr | B118: =B111+1 -> 17 | C118: =C117+1 -> 45044 | D118: =+D111 -> vr | E118: =YEAR(C118) -> 2023 | I118: =+I111+1 -> 17 | J118: =IF(AND(Formulier!$E$44<=C118,Formulier!$O$38>=C118),"Verlof",0) -> 0 | K118: =IF(J118=0,0,IF(F118="",0,1)) -> 0 | L118: =IF(J118=0,0,IF(G118="",0,1)) -> 0 | M118: =IF(J118=0,0,IF(H118="",0,1)) -> 0 | N118: =IF($N$1="Noord",K118,IF($N$1="Midden",L118,M118)) -> 0 | O118: =IF(OR(D118="za",D118="zo"),0,N118) -> 0
A119: =E119&B119&D119 -> 202317za | B119: =B112+1 -> 17 | C119: =C118+1 -> 45045 | D119: =+D112 -> za | E119: =YEAR(C119) -> 2023 | I119: =+I112+1 -> 17 | J119: =IF(AND(Formulier!$E$44<=C119,Formulier!$O$38>=C119),"Verlof",0) -> 0 | K119: =IF(J119=0,0,IF(F119="",0,1)) -> 0 | L119: =IF(J119=0,0,IF(G119="",0,1)) -> 0 | M119: =IF(J119=0,0,IF(H119="",0,1)) -> 0 | N119: =IF($N$1="Noord",K119,IF($N$1="Midden",L119,M119)) -> 0 | O119: =IF(OR(D119="za",D119="zo"),0,N119) -> 0
A120: =E120&B120&D120 -> 202317zo | B120: =B113+1 -> 17 | C120: =C119+1 -> 45046 | D120: =+D113 -> zo | E120: =YEAR(C120) -> 2023 | I120: =+I113+1 -> 17 | J120: =IF(AND(Formulier!$E$44<=C120,Formulier!$O$38>=C120),"Verlof",0) -> 0 | K120: =IF(J120=0,0,IF(F120="",0,1)) -> 0 | L120: =IF(J120=0,0,IF(G120="",0,1)) -> 0 | M120: =IF(J120=0,0,IF(H120="",0,1)) -> 0 | N120: =IF($N$1="Noord",K120,IF($N$1="Midden",L120,M120)) -> 0 | O120: =IF(OR(D120="za",D120="zo"),0,N120) -> 0
A121: =E121&B121&D121 -> 202318ma | B121: =B114+1 -> 18 | C121: =C120+1 -> 45047 | D121: =+D114 -> ma | E121: =YEAR(C121) -> 2023 | F121: Vakantie | G121: Vakantie | H121: Vakantie | I121: =+I114+1 -> 18 | J121: =IF(AND(Formulier!$E$44<=C121,Formulier!$O$38>=C121),"Verlof",0) -> 0 | K121: =IF(J121=0,0,IF(F121="",0,1)) -> 0 | L121: =IF(J121=0,0,IF(G121="",0,1)) -> 0 | M121: =IF(J121=0,0,IF(H121="",0,1)) -> 0 | N121: =IF($N$1="Noord",K121,IF($N$1="Midden",L121,M121)) -> 0 | O121: =IF(OR(D121="za",D121="zo"),0,N121) -> 0
A122: =E122&B122&D122 -> 202318di | B122: =B115+1 -> 18 | C122: =C121+1 -> 45048 | D122: =+D115 -> di | E122: =YEAR(C122) -> 2023 | F122: Vakantie | G122: Vakantie | H122: Vakantie | I122: =+I115+1 -> 18 | J122: =IF(AND(Formulier!$E$44<=C122,Formulier!$O$38>=C122),"Verlof",0) -> 0 | K122: =IF(J122=0,0,IF(F122="",0,1)) -> 0 | L122: =IF(J122=0,0,IF(G122="",0,1)) -> 0 | M122: =IF(J122=0,0,IF(H122="",0,1)) -> 0 | N122: =IF($N$1="Noord",K122,IF($N$1="Midden",L122,M122)) -> 0 | O122: =IF(OR(D122="za",D122="zo"),0,N122) -> 0
...

Sheet Vakantie
J3: Regio | K3: Noord | L3: Van | M3: Tot en met | O3: Regio | P3: Midden | Q3: Van | R3: Tot en met | T3: Regio | U3: Zuid | V3: Van | W3: Tot en met
J4: 2025 | K4: Zomervakantie | L4: 45850 | M4: 45893 | O4: 2025 | P4: Zomervakantie | Q4: 45857 | R4: 45900 | T4: 2025 | U4: Zomervakantie | V4: 45845 | W4: 45886
K5: Voorjaarsvakantie | L5: 45703 | M5: 45711 | P5: Voorjaarsvakantie | Q5: 45710 | R5: 45718 | U5: Voorjaarsvakantie | V5: 45710 | W5: 45718
K6: Meivakantie | L6: 45773 | M6: 45781 | P6: Meivakantie | Q6: 45773 | R6: 45781 | U6: Meivakantie | V6: 45773 | W6: 45781
K7: Herfstvakantie | L7: 45948 | M7: 45956 | P7: Herfstvakantie | Q7: 45948 | R7: 45956 | U7: Herfstvakantie | V7: 45943 | W7: 45949
K8: Kerstvakantie | L8: 46011 | M8: 46026 | P8: Kerstvakantie | Q8: 46011 | R8: 46026 | U8: Kerstvakantie | V8: 46011 | W8: 46026
K9: Goede vrijdag | L9: 45765 | M9: 45765 | P9: Goede vrijdag | Q9: 45765 | R9: 45765 | U9: Goede vrijdag | V9: 45765 | W9: 45765
K10: 2e Paasdag | L10: 45768 | M10: 45768 | P10: 2e Paasdag | Q10: 45768 | R10: 45768 | U10: 2e Paasdag | V10: 45768 | W10: 45768
K11: Koningsdag | L11: 45773 | M11: 45773 | P11: Koningsdag | Q11: 45773 | R11: 45773 | U11: Koningsdag | V11: 45773 | W11: 45773
K12: Bevrijdingsdag | L12: 45782 | M12: 45782 | P12: Bevrijdingsdag | Q12: 45782 | R12: 45782 | U12: Bevrijdingsdag | V12: 45782 | W12: 45782
K13: Hemelvaartsdag | L13: 45806 | M13: 45806 | P13: Hemelvaartsdag | Q13: 45806 | R13: 45806 | U13: Hemelvaartsdag | V13: 45806 | W13: 45806
K14: 2e Pinksterdag | L14: 45817 | M14: 45817 | P14: 2e Pinksterdag | Q14: 45817 | R14: 45817 | U14: 2e Pinksterdag | V14: 45817 | W14: 45817
K15: Extra vrij 1 | P15: Extra vrij 1 | U15: Extra vrij 1
K16: Extra vrij 2 | P16: Extra vrij 2 | U16: Extra vrij 2
K17: Extra vrij 3 | P17: Extra vrij 3 | U17: Extra vrij 3
J18: 2026 | K18: Zomervakantie | L18: 46209 | M18: 46250 | O18: 2026 | P18: Zomervakantie | Q18: 46223 | R18: 46264 | T18: 2026 | U18: Zomervakantie | V18: 46216 | W18: 46257
K19: Voorjaarsvakantie | L19: 46076 | M19: 46082 | P19: Voorjaarsvakantie | Q19: 46069 | R19: 46075 | U19: Voorjaarsvakantie | V19: 46069 | W19: 46075
K20: Meivakantie | L20: 46139 | M20: 46145 | P20: Meivakantie | Q20: 46139 | R20: 46145 | U20: Meivakantie | V20: 46139 | W20: 46145
K21: Herfstvakantie | L21: 46307 | M21: 46313 | P21: Herfstvakantie | Q21: 46314 | R21: 46320 | U21: Herfstvakantie | V21: 46314 | W21: 46320
K22: Kerstvakantie | L22: 46377 | M22: 46390 | P22: Kerstvakantie | Q22: 46377 | R22: 46390 | U22: Kerstvakantie | V22: 46377 | W22: 46390
K23: Goede vrijdag | L23: 46115 | M23: 46115 | P23: Goede vrijdag | Q23: 46115 | R23: 46115 | U23: Goede vrijdag | V23: 46115 | W23: 46115
K24: 2e Paasdag | L24: 46118 | M24: 46118 | P24: 2e Paasdag | Q24: 46118 | R24: 46118 | U24: 2e Paasdag | V24: 46118 | W24: 46118
K25: Koningsdag | L25: 46139 | M25: 46139 | P25: Koningsdag | Q25: 46139 | R25: 46139 | U25: Koningsdag | V25: 46139 | W25: 46139
K26: Bevrijdingsdag | L26: 46147 | M26: 46147 | P26: Bevrijdingsdag | Q26: 46147 | R26: 46147 | U26: Bevrijdingsdag | V26: 46147 | W26: 46147
K27: Hemelvaartsdag | L27: 46156 | M27: 46156 | P27: Hemelvaartsdag | Q27: 46156 | R27: 46156 | U27: Hemelvaartsdag | V27: 46156 | W27: 46156
K28: 2e Pinksterdag | L28: 46167 | M28: 46167 | P28: 2e Pinksterdag | Q28: 46167 | R28: 46167 | U28: 2e Pinksterdag | V28: 46167 | W28: 46167
K29: Extra vrij 1 | P29: Extra vrij 1 | U29: Extra vrij 1
K30: Extra vrij 2 | P30: Extra vrij 2 | U30: Extra vrij 2
K31: Extra vrij 3 | P31: Extra vrij 3 | U31: Extra vrij 3
J32: 2027 | K32: Zomervakantie | L32: 46580 | M32: 46621 | O32: 2027 | P32: Zomervakantie | Q32: 46587 | R32: 46628 | T32: 2027 | U32: Zomervakantie | V32: 46594 | W32: 46635
K33: Voorjaarsvakantie | L33: 46440 | M33: 46446 | P33: Voorjaarsvakantie | Q33: 46440 | R33: 46446 | U33: Voorjaarsvakantie | V33: 46433 | W33: 46439
K34: Meivakantie | L34: 46503 | M34: 46509 | P34: Meivakantie | Q34: 46503 | R34: 46509 | U34: Meivakantie | V34: 46503 | W34: 46509
K35: Herfstvakantie | L35: 46678 | M35: 46684 | P35: Herfstvakantie | Q35: 46678 | R35: 46684 | U35: Herfstvakantie | V35: 46685 | W35: 46691
K36: Kerstvakantie | L36: 46748 | M36: 46761 | P36: Kerstvakantie | Q36: 46748 | R36: 46761 | U36: Kerstvakantie | V36: 46748 | W36: 46761
K37: Goede vrijdag | L37: 46472 | M37: 46472 | P37: Goede vrijdag | Q37: 46472 | R37: 46472 | U37: Goede vrijdag | V37: 46472 | W37: 46472
K38: 2e Paasdag | L38: 46475 | M38: 46475 | P38: 2e Paasdag | Q38: 46475 | R38: 46475 | U38: 2e Paasdag | V38: 46475 | W38: 46475
K39: Koningsdag | L39: 46504 | M39: 46504 | P39: Koningsdag | Q39: 46504 | R39: 46504 | U39: Koningsdag | V39: 46504 | W39: 46504
K40: Bevrijdingsdag | L40: 46512 | M40: 46512 | P40: Bevrijdingsdag | Q40: 46512 | R40: 46512 | U40: Bevrijdingsdag | V40: 46512 | W40: 46512
K41: Hemelvaartsdag | L41: 46513 | M41: 46513 | P41: Hemelvaartsdag | Q41: 46513 | R41: 46513 | U41: Hemelvaartsdag | V41: 46513 | W41: 46513
K42: 2e Pinksterdag | L42: 46524 | M42: 46524 | P42: 2e Pinksterdag | Q42: 46524 | R42: 46524 | U42: 2e Pinksterdag | V42: 46524 | W42: 46524
K43: Extra vrij 1 | P43: Extra vrij 1 | U43: Extra vrij 1
K44: Extra vrij 2 | P44: Extra vrij 2 | U44: Extra vrij 2
K45: Extra vrij 3 | P45: Extra vrij 3 | U45: Extra vrij 3

Sheet Kalender
B1: Opname zwangerschapsverlof
B2: Regio: | E2: =+Formulier!G33 -> Noord
B4: 2025 | L4: =+B4+1 -> 2026 | V4: =+L4+1 -> 2027
B5: ="Vanaf 1 januari"&" "&B4&""&" t/m 31 december"&" "&B4 -> Vanaf 1 januari 2025 t/m 31 december 2025 | L5: ="Vanaf 1 januari"&" "&L4&""&" t/m 31 december"&" "&L4 -> Vanaf 1 januari 2026 t/m 31 december 2026 | V5: ="Vanaf 1 januari"&" "&V4&""&" t/m 31 december"&" "&V4 -> Vanaf 1 januari 2027 t/m 31 december 2027
B8: 1 | C8: 44564 | D8: =C9-3 -> -3 | E8: =IF(AND($E$2="Noord",ISNA(VLOOKUP($B$4&$B8&E$10,Data!$A:$H,6,FALSE)=TRUE)),"",IF(AND($E$2="Midden",ISNA(VLOOKUP($B$4&$B8&E$10,Data!$A:$H,7,FALSE)=TRUE)),"",IF(AND($E$2="Zuid",ISNA(VLOOKUP($B$4&$B8&E$10,Data!$A:$H,8,FALSE)=TRUE)),"",IF(AND($E$2="Noord",VLOOKUP($B$4&$B8&E$10,Data!$A:$H,6,FALSE)="Vakantie"),"x",IF(AND($E$2="Midden",VLOOKUP($B$4&$B8&E$10,Data!$A:$H,7,FALSE)="Vakantie"),"x",IF(AND($E$2="Zuid",VLOOKUP($B$4&$B8&E$10,Data!$A:$H,8,FALSE)="Vakantie"),"x","")))))) -> x | F8: =IF(AND($E$2="Noord",ISNA(VLOOKUP($B$4&$B8&F$10,Data!$A:$H,6,FALSE)=TRUE)),"",IF(AND($E$2="Midden",ISNA(VLOOKUP($B$4&$B8&F$10,Data!$A:$H,7,FALSE)=TRUE)),"",IF(AND($E$2="Zuid",ISNA(VLOOKUP($B$4&$B8&F$10,Data!$A:$H,8,FALSE)=TRUE)),"",IF(AND($E$2="Noord",VLOOKUP($B$4&$B8&F$10,Data!$A:$H,6,FALSE)="Vakantie"),"x",IF(AND($E$2="Midden",VLOOKUP($B$4&$B8&F$10,Data!$A:$H,7,FALSE)="Vakantie"),"x",IF(AND($E$2="Zuid",VLOOKUP($B$4&$B8&F$10,Data!$A:$H,8,FALSE)="Vakantie"),"x","")))))) -> x | G8: =IF(AND($E$2="Noord",ISNA(VLOOKUP($B$4&$B8&G$10,Data!$A:$H,6,FALSE)=TRUE)),"",IF(AND($E$2="Midden",ISNA(VLOOKUP($B$4&$B8&G$10,Data!$A:$H,7,FALSE)=TRUE)),"",IF(AND($E$2="Zuid",ISNA(VLOOKUP($B$4&$B8&G$10,Data!$A:$H,8,FALSE)=TRUE)),"",IF(AND($E$2="Noord",VLOOKUP($B$4&$B8&G$10,Data!$A:$H,6,FALSE)="Vakantie"),"x",IF(AND($E$2="Midden",VLOOKUP($B$4&$B8&G$10,Data!$A:$H,7,FALSE)="Vakantie"),"x",IF(AND($E$2="Zuid",VLOOKUP($B$4&$B8&G$10,Data!$A:$H,8,FALSE)="Vakantie"),"x","")))))) -> x | H8: =IF(AND($E$2="Noord",ISNA(VLOOKUP($B$4&$B8&H$10,Data!$A:$H,6,FALSE)=TRUE)),"",IF(AND($E$2="Midden",ISNA(VLOOKUP($B$4&$B8&H$10,Data!$A:$H,7,FALSE)=TRUE)),"",IF(AND($E$2="Zuid",ISNA(VLOOKUP($B$4&$B8&H$10,Data!$A:$H,8,FALSE)=TRUE)),"",IF(AND($E$2="Noord",VLOOKUP($B$4&$B8&H$10,Data!$A:$H,6,FALSE)="Vakantie"),"x",IF(AND($E$2="Midden",VLOOKUP($B$4&$B8&H$10,Data!$A:$H,7,FALSE)="Vakantie"),"x",IF(AND($E$2="Zuid",VLOOKUP($B$4&$B8&H$10,Data!$A:$H,8,FALSE)="Vakantie"),"x","")))))) -> x | I8: =IF(AND($E$2="Noord",ISNA(VLOOKUP($B$4&$B8&I$10,Data!$A:$H,6,FALSE)=TRUE)),"",IF(AND($E$2="Midden",ISNA(VLOOKUP($B$4&$B8&I$10,Data!$A:$H,7,FALSE)=TRUE)),"",IF(AND($E$2="Zuid",ISNA(VLOOKUP($B$4&$B8&I$10,Data!$A:$H,8,FALSE)=TRUE)),"",IF(AND($E$2="Noord",VLOOKUP($B$4&$B8&I$10,Data!$A:$H,6,FALSE)="Vakantie"),"x",IF(AND($E$2="Midden",VLOOKUP($B$4&$B8&I$10,Data!$A:$H,7,FALSE)="Vakantie"),"x",IF(AND($E$2="Zuid",VLOOKUP($B$4&$B8&I$10,Data!$A:$H,8,FALSE)="Vakantie"),"x","")))))) -> x | J8: =SUM(E8:I8) -> 0 | L8: 1 | M8: =VLOOKUP(L8,Data!$B:$C,2,FALSE) -> 44928 | N8: =M9-3 -> -3 | O8: =IF(AND($E$2="Noord",ISNA(VLOOKUP($B$4&$B8&O$10,Data!$A:$H,6,FALSE)=TRUE)),"",IF(AND($E$2="Midden",ISNA(VLOOKUP($B$4&$B8&O$10,Data!$A:$H,7,FALSE)=TRUE)),"",IF(AND($E$2="Zuid",ISNA(VLOOKUP($B$4&$B8&O$10,Data!$A:$H,8,FALSE)=TRUE)),"",IF(AND($E$2="Noord",VLOOKUP($B$4&$B8&O$10,Data!$A:$H,6,FALSE)="Vakantie"),"x",IF(AND($E$2="Midden",VLOOKUP($B$4&$B8&O$10,Data!$A:$H,7,FALSE)="Vakantie"),"x",IF(AND($E$2="Zuid",VLOOKUP($B$4&$B8&O$10,Data!$A:$H,8,FALSE)="Vakantie"),"x","")))))) -> x | P8: =IF(AND($E$2="Noord",ISNA(VLOOKUP($B$4&$B8&P$10,Data!$A:$H,6,FALSE)=TRUE)),"",IF(AND($E$2="Midden",ISNA(VLOOKUP($B$4&$B8&P$10,Data!$A:$H,7,FALSE)=TRUE)),"",IF(AND($E$2="Zuid",ISNA(VLOOKUP($B$4&$B8&P$10,Data!$A:$H,8,FALSE)=TRUE)),"",IF(AND($E$2="Noord",VLOOKUP($B$4&$B8&P$10,Data!$A:$H,6,FALSE)="Vakantie"),"x",IF(AND($E$2="Midden",VLOOKUP($B$4&$B8&P$10,Data!$A:$H,7,FALSE)="Vakantie"),"x",IF(AND($E$2="Zuid",VLOOKUP($B$4&$B8&P$10,Data!$A:$H,8,FALSE)="Vakantie"),"x","")))))) -> x | Q8: =IF(AND($E$2="Noord",ISNA(VLOOKUP($B$4&$B8&Q$10,Data!$A:$H,6,FALSE)=TRUE)),"",IF(AND($E$2="Midden",ISNA(VLOOKUP($B$4&$B8&Q$10,Data!$A:$H,7,FALSE)=TRUE)),"",IF(AND($E$2="Zuid",ISNA(VLOOKUP($B$4&$B8&Q$10,Data!$A:$H,8,FALSE)=TRUE)),"",IF(AND($E$2="Noord",VLOOKUP($B$4&$B8&Q$10,Data!$A:$H,6,FALSE)="Vakantie"),"x",IF(AND($E$2="Midden",VLOOKUP($B$4&$B8&Q$10,Data!$A:$H,7,FALSE)="Vakantie"),"x",IF(AND($E$2="Zuid",VLOOKUP($B$4&$B8&Q$10,Data!$A:$H,8,FALSE)="Vakantie"),"x","")))))) -> x | R8: =IF(AND($E$2="Noord",ISNA(VLOOKUP($B$4&$B8&R$10,Data!$A:$H,6,FALSE)=TRUE)),"",IF(AND($E$2="Midden",ISNA(VLOOKUP($B$4&$B8&R$10,Data!$A:$H,7,FALSE)=TRUE)),"",IF(AND($E$2="Zuid",ISNA(VLOOKUP($B$4&$B8&R$10,Data!$A:$H,8,FALSE)=TRUE)),"",IF(AND($E$2="Noord",VLOOKUP($B$4&$B8&R$10,Data!$A:$H,6,FALSE)="Vakantie"),"x",IF(AND($E$2="Midden",VLOOKUP($B$4&$B8&R$10,Data!$A:$H,7,FALSE)="Vakantie"),"x",IF(AND($E$2="Zuid",VLOOKUP($B$4&$B8&R$10,Data!$A:$H,8,FALSE)="Vakantie"),"x","")))))) -> x | S8: =IF(AND($E$2="Noord",ISNA(VLOOKUP($B$4&$B8&S$10,Data!$A:$H,6,FALSE)=TRUE)),"",IF(AND($E$2="Midden",ISNA(VLOOKUP($B$4&$B8&S$10,Data!$A:$H,7,FALSE)=TRUE)),"",IF(AND($E$2="Zuid",ISNA(VLOOKUP($B$4&$B8&S$10,Data!$A:$H,8,FALSE)=TRUE)),"",IF(AND($E$2="Noord",VLOOKUP($B$4&$B8&S$10,Data!$A:$H,6,FALSE)="Vakantie"),"x",IF(AND($E$2="Midden",VLOOKUP($B$4&$B8&S$10,Data!$A:$H,7,FALSE)="Vakantie"),"x",IF(AND($E$2="Zuid",VLOOKUP($B$4&$B8&S$10,Data!$A:$H,8,FALSE)="Vakantie"),"x","")))))) -> x | T8: =SUM(O8:S8) -> 0 | V8: 1 | W8: =VLOOKUP(V8,Data!$B:$C,2,FALSE) -> 44928 | X8: =W9-3 -> -3 | Y8: =IF(AND($E$2="Noord",ISNA(VLOOKUP($B$4&$B8&Y$10,Data!$A:$H,6,FALSE)=TRUE)),"",IF(AND($E$2="Midden",ISNA(VLOOKUP($B$4&$B8&Y$10,Data!$A:$H,7,FALSE)=TRUE)),"",IF(AND($E$2="Zuid",ISNA(VLOOKUP($B$4&$B8&Y$10,Data!$A:$H,8,FALSE)=TRUE)),"",IF(AND($E$2="Noord",VLOOKUP($B$4&$B8&Y$10,Data!$A:$H,6,FALSE)="Vakantie"),"x",IF(AND($E$2="Midden",VLOOKUP($B$4&$B8&Y$10,Data!$A:$H,7,FALSE)="Vakantie"),"x",IF(AND($E$2="Zuid",VLOOKUP($B$4&$B8&Y$10,Data!$A:$H,8,FALSE)="Vakantie"),"x","")))))) -> x | Z8: =IF(AND($E$2="Noord",ISNA(VLOOKUP($B$4&$B8&Z$10,Data!$A:$H,6,FALSE)=TRUE)),"",IF(AND($E$2="Midden",ISNA(VLOOKUP($B$4&$B8&Z$10,Data!$A:$H,7,FALSE)=TRUE)),"",IF(AND($E$2="Zuid",ISNA(VLOOKUP($B$4&$B8&Z$10,Data!$A:$H,8,FALSE)=TRUE)),"",IF(AND($E$2="Noord",VLOOKUP($B$4&$B8&Z$10,Data!$A:$H,6,FALSE)="Vakantie"),"x",IF(AND($E$2="Midden",VLOOKUP($B$4&$B8&Z$10,Data!$A:$H,7,FALSE)="Vakantie"),"x",IF(AND($E$2="Zuid",VLOOKUP($B$4&$B8&Z$10,Data!$A:$H,8,FALSE)="Vakantie"),"x","")))))) -> x | AA8: =IF(AND($E$2="Noord",ISNA(VLOOKUP($B$4&$B8&AA$10,Data!$A:$H,6,FALSE)=TRUE)),"",IF(AND($E$2="Midden",ISNA(VLOOKUP($B$4&$B8&AA$10,Data!$A:$H,7,FALSE)=TRUE)),"",IF(AND($E$2="Zuid",ISNA(VLOOKUP($B$4&$B8&AA$10,Data!$A:$H,8,FALSE)=TRUE)),"",IF(AND($E$2="Noord",VLOOKUP($B$4&$B8&AA$10,Data!$A:$H,6,FALSE)="Vakantie"),"x",IF(AND($E$2="Midden",VLOOKUP($B$4&$B8&AA$10,Data!$A:$H,7,FALSE)="Vakantie"),"x",IF(AND($E$2="Zuid",VLOOKUP($B$4&$B8&AA$10,Data!$A:$H,8,FALSE)="Vakantie"),"x","")))))) -> x | AB8: =IF(AND($E$2="Noord",ISNA(VLOOKUP($B$4&$B8&AB$10,Data!$A:$H,6,FALSE)=TRUE)),"",IF(AND($E$2="Midden",ISNA(VLOOKUP($B$4&$B8&AB$10,Data!$A:$H,7,FALSE)=TRUE)),"",IF(AND($E$2="Zuid",ISNA(VLOOKUP($B$4&$B8&AB$10,Data!$A:$H,8,FALSE)=TRUE)),"",IF(AND($E$2="Noord",VLOOKUP($B$4&$B8&AB$10,Data!$A:$H,6,FALSE)="Vakantie"),"x",IF(AND($E$2="Midden",VLOOKUP($B$4&$B8&AB$10,Data!$A:$H,7,FALSE)="Vakantie"),"x",IF(AND($E$2="Zuid",VLOOKUP($B$4&$B8&AB$10,Data!$A:$H,8,FALSE)="Vakantie"),"x","")))))) -> x | AC8: =IF(AND($E$2="Noord",ISNA(VLOOKUP($B$4&$B8&AC$10,Data!$A:$H,6,FALSE)=TRUE)),"",IF(AND($E$2="Midden",ISNA(VLOOKUP($B$4&$B8&AC$10,Data!$A:$H,7,FALSE)=TRUE)),"",IF(AND($E$2="Zuid",ISNA(VLOOKUP($B$4&$B8&AC$10,Data!$A:$H,8,FALSE)=TRUE)),"",IF(AND($E$2="Noord",VLOOKUP($B$4&$B8&AC$10,Data!$A:$H,6,FALSE)="Vakantie"),"x",IF(AND($E$2="Midden",VLOOKUP($B$4&$B8&AC$10,Data!$A:$H,7,FALSE)="Vakantie"),"x",IF(AND($E$2="Zuid",VLOOKUP($B$4&$B8&AC$10,Data!$A:$H,8,FALSE)="Vakantie"),"x","")))))) -> x | AD8: =SUM(Y8:AC8) -> 0
J9: Uren | T9: Uren | AD9: Uren | AJ9: =+B4 -> 2025 | AN9: =+AJ9+1 -> 2026 | AR9: =+AJ9+2 -> 2027
B10: Wknr | C10: van | D10: t/m | E10: ma | F10: di | G10: wo | H10: do | I10: vr | J10: WAZO | L10: Wknr | M10: van | N10: t/m | O10: ma | P10: di | Q10: wo | R10: do | S10: vr | T10: WAZO | V10: Wknr | W10: van | X10: t/m | Y10: ma | Z10: di | AA10: wo | AB10: do | AC10: vr | AD10: WAZO | AJ10: Begin | AK10: 1 | AL10: Eind | AN10: Begin | AO10: =+AK63 -> 1 | AP10: Eind | AR10: Begin | AS10: =+AO63 -> 1 | AT10: Eind
